Workbook

Sheet For CBG
A1: Assortment | D1: Company Name | E1: Attn: | F1: Address | G1: City | H1: Prov | I1: Postal | J1: Phone # | K1: Country | L1: Gift Type
A2: Assortment - No Peanuts/Peanut Butter | D2: =IF(INDEX('Delivery Template'!$A$1:$Z$500,ROW(),MATCH(D$1,'Delivery Template'!$A$1:$Z$1,0))="","",INDEX('Delivery Template'!$A$1:$Z$500,ROW(),MATCH(D$1,'Delivery Template'!$A$1:$Z$1,0))) | E2: =IF(INDEX('Delivery Template'!$A$1:$Z$500,ROW(),MATCH(E$1,'Delivery Template'!$A$1:$Z$1,0))="","",INDEX('Delivery Template'!$A$1:$Z$500,ROW(),MATCH(E$1,'Delivery Template'!$A$1:$Z$1,0))) | F2: =IF(INDEX('Delivery Template'!$A$1:$Z$500,ROW(),MATCH(F$1,'Delivery Template'!$A$1:$Z$1,0))="","",INDEX('Delivery Template'!$A$1:$Z$500,ROW(),MATCH(F$1,'Delivery Template'!$A$1:$Z$1,0))) | G2: =IF(INDEX('Delivery Template'!$A$1:$Z$500,ROW(),MATCH(G$1,'Delivery Template'!$A$1:$Z$1,0))="","",INDEX('Delivery Template'!$A$1:$Z$500,ROW(),MATCH(G$1,'Delivery Template'!$A$1:$Z$1,0))) | H2: =IF(INDEX('Delivery Template'!$A$1:$Z$500,ROW(),MATCH(H$1,'Delivery Template'!$A$1:$Z$1,0))="","",INDEX('Delivery Template'!$A$1:$Z$500,ROW(),MATCH(H$1,'Delivery Template'!$A$1:$Z$1,0))) | I2: =IF(INDEX('Delivery Template'!$A$1:$Z$500,ROW(),MATCH(I$1,'Delivery Template'!$A$1:$Z$1,0))="","",INDEX('Delivery Template'!$A$1:$Z$500,ROW(),MATCH(I$1,'Delivery Template'!$A$1:$Z$1,0))) | J2: =IF(INDEX('Delivery Template'!$A$1:$Z$500,ROW(),MATCH(J$1,'Delivery Template'!$A$1:$Z$1,0))="","",INDEX('Delivery Template'!$A$1:$Z$500,ROW(),MATCH(J$1,'Delivery Template'!$A$1:$Z$1,0))) | K2: =IF(INDEX('Delivery Template'!$A$1:$Z$500,ROW(),MATCH(K$1,'Delivery Template'!$A$1:$Z$1,0))="","",INDEX('Delivery Template'!$A$1:$Z$500,ROW(),MATCH(K$1,'Delivery Template'!$A$1:$Z$1,0))) | L2: =IF(INDEX('Delivery Template'!$A$1:$Z$500,ROW(),MATCH("Quantity",'Delivery Template'!$A$1:$Z$1,0))<2,"",INDEX('Delivery Template'!$A$1:$Z$500,ROW(),MATCH("Quantity",'Delivery Template'!$A$1:$Z$1,0))&" ")&IF(INDEX('Delivery Template'!$A$1:$Z$500,ROW(),MATCH("Gift Type (select from drop-down menu)",'Delivery Template'!$A$1:$Z$1,0))="","",VLOOKUP(INDEX('Delivery Template'!$A$1:$Z$500,ROW(),MATCH("Gift Type (select from drop-down menu)",'Delivery Template'!$A$1:$Z$1,0)),$A$22:$B$33,2,FALSE))&IF(INDEX('Delivery Template'!$A$1:$Z$500,ROW(),MATCH("Quantity",'Delivery Template'!$A$1:$Z$1,0))<2,"",VLOOKUP(INDEX('Delivery Template'!$A$1:$Z$500,ROW(),MATCH("Gift Type (select from drop-down menu)",'Delivery Template'!$A$1:$Z$1,0)),$A$22:$D$33,3,FALSE))
A3: Assortment - No Nuts | D3: =IF(INDEX('Delivery Template'!$A$1:$Z$500,ROW(),MATCH(D$1,'Delivery Template'!$A$1:$Z$1,0))="","",INDEX('Delivery Template'!$A$1:$Z$500,ROW(),MATCH(D$1,'Delivery Template'!$A$1:$Z$1,0))) | E3: =IF(INDEX('Delivery Template'!$A$1:$Z$500,ROW(),MATCH(E$1,'Delivery Template'!$A$1:$Z$1,0))="","",INDEX('Delivery Template'!$A$1:$Z$500,ROW(),MATCH(E$1,'Delivery Template'!$A$1:$Z$1,0))) | F3: =IF(INDEX('Delivery Template'!$A$1:$Z$500,ROW(),MATCH(F$1,'Delivery Template'!$A$1:$Z$1,0))="","",INDEX('Delivery Template'!$A$1:$Z$500,ROW(),MATCH(F$1,'Delivery Template'!$A$1:$Z$1,0))) | G3: =IF(INDEX('Delivery Template'!$A$1:$Z$500,ROW(),MATCH(G$1,'Delivery Template'!$A$1:$Z$1,0))="","",INDEX('Delivery Template'!$A$1:$Z$500,ROW(),MATCH(G$1,'Delivery Template'!$A$1:$Z$1,0))) | H3: =IF(INDEX('Delivery Template'!$A$1:$Z$500,ROW(),MATCH(H$1,'Delivery Template'!$A$1:$Z$1,0))="","",INDEX('Delivery Template'!$A$1:$Z$500,ROW(),MATCH(H$1,'Delivery Template'!$A$1:$Z$1,0))) | I3: =IF(INDEX('Delivery Template'!$A$1:$Z$500,ROW(),MATCH(I$1,'Delivery Template'!$A$1:$Z$1,0))="","",INDEX('Delivery Template'!$A$1:$Z$500,ROW(),MATCH(I$1,'Delivery Template'!$A$1:$Z$1,0))) | J3: =IF(INDEX('Delivery Template'!$A$1:$Z$500,ROW(),MATCH(J$1,'Delivery Template'!$A$1:$Z$1,0))="","",INDEX('Delivery Template'!$A$1:$Z$500,ROW(),MATCH(J$1,'Delivery Template'!$A$1:$Z$1,0))) | K3: =IF(INDEX('Delivery Template'!$A$1:$Z$500,ROW(),MATCH(K$1,'Delivery Template'!$A$1:$Z$1,0))="","",INDEX('Delivery Template'!$A$1:$Z$500,ROW(),MATCH(K$1,'Delivery Template'!$A$1:$Z$1,0))) | L3: =IF(INDEX('Delivery Template'!$A$1:$Z$500,ROW(),MATCH("Quantity",'Delivery Template'!$A$1:$Z$1,0))<2,"",INDEX('Delivery Template'!$A$1:$Z$500,ROW(),MATCH("Quantity",'Delivery Template'!$A$1:$Z$1,0))&" ")&IF(INDEX('Delivery Template'!$A$1:$Z$500,ROW(),MATCH("Gift Type (select from drop-down menu)",'Delivery Template'!$A$1:$Z$1,0))="","",VLOOKUP(INDEX('Delivery Template'!$A$1:$Z$500,ROW(),MATCH("Gift Type (select from drop-down menu)",'Delivery Template'!$A$1:$Z$1,0)),$A$22:$B$33,2,FALSE))&IF(INDEX('Delivery Template'!$A$1:$Z$500,ROW(),MATCH("Quantity",'Delivery Template'!$A$1:$Z$1,0))<2,"",VLOOKUP(INDEX('Delivery Template'!$A$1:$Z$500,ROW(),MATCH("Gift Type (select from drop-down menu)",'Delivery Template'!$A$1:$Z$1,0)),$A$22:$D$33,3,FALSE))
A4: Other (include selection in Additional order information) | D4: =IF(INDEX('Delivery Template'!$A$1:$Z$500,ROW(),MATCH(D$1,'Delivery Template'!$A$1:$Z$1,0))="","",INDEX('Delivery Template'!$A$1:$Z$500,ROW(),MATCH(D$1,'Delivery Template'!$A$1:$Z$1,0))) | E4: =IF(INDEX('Delivery Template'!$A$1:$Z$500,ROW(),MATCH(E$1,'Delivery Template'!$A$1:$Z$1,0))="","",INDEX('Delivery Template'!$A$1:$Z$500,ROW(),MATCH(E$1,'Delivery Template'!$A$1:$Z$1,0))) | F4: =IF(INDEX('Delivery Template'!$A$1:$Z$500,ROW(),MATCH(F$1,'Delivery Template'!$A$1:$Z$1,0))="","",INDEX('Delivery Template'!$A$1:$Z$500,ROW(),MATCH(F$1,'Delivery Template'!$A$1:$Z$1,0))) | G4: =IF(INDEX('Delivery Template'!$A$1:$Z$500,ROW(),MATCH(G$1,'Delivery Template'!$A$1:$Z$1,0))="","",INDEX('Delivery Template'!$A$1:$Z$500,ROW(),MATCH(G$1,'Delivery Template'!$A$1:$Z$1,0))) | H4: =IF(INDEX('Delivery Template'!$A$1:$Z$500,ROW(),MATCH(H$1,'Delivery Template'!$A$1:$Z$1,0))="","",INDEX('Delivery Template'!$A$1:$Z$500,ROW(),MATCH(H$1,'Delivery Template'!$A$1:$Z$1,0))) | I4: =IF(INDEX('Delivery Template'!$A$1:$Z$500,ROW(),MATCH(I$1,'Delivery Template'!$A$1:$Z$1,0))="","",INDEX('Delivery Template'!$A$1:$Z$500,ROW(),MATCH(I$1,'Delivery Template'!$A$1:$Z$1,0))) | J4: =IF(INDEX('Delivery Template'!$A$1:$Z$500,ROW(),MATCH(J$1,'Delivery Template'!$A$1:$Z$1,0))="","",INDEX('Delivery Template'!$A$1:$Z$500,ROW(),MATCH(J$1,'Delivery Template'!$A$1:$Z$1,0))) | K4: =IF(INDEX('Delivery Template'!$A$1:$Z$500,ROW(),MATCH(K$1,'Delivery Template'!$A$1:$Z$1,0))="","",INDEX('Delivery Template'!$A$1:$Z$500,ROW(),MATCH(K$1,'Delivery Template'!$A$1:$Z$1,0))) | L4: =IF(INDEX('Delivery Template'!$A$1:$Z$500,ROW(),MATCH("Quantity",'Delivery Template'!$A$1:$Z$1,0))<2,"",INDEX('Delivery Template'!$A$1:$Z$500,ROW(),MATCH("Quantity",'Delivery Template'!$A$1:$Z$1,0))&" ")&IF(INDEX('Delivery Template'!$A$1:$Z$500,ROW(),MATCH("Gift Type (select from drop-down menu)",'Delivery Template'!$A$1:$Z$1,0))="","",VLOOKUP(INDEX('Delivery Template'!$A$1:$Z$500,ROW(),MATCH("Gift Type (select from drop-down menu)",'Delivery Template'!$A$1:$Z$1,0)),$A$22:$B$33,2,FALSE))&IF(INDEX('Delivery Template'!$A$1:$Z$500,ROW(),MATCH("Quantity",'Delivery Template'!$A$1:$Z$1,0))<2,"",VLOOKUP(INDEX('Delivery Template'!$A$1:$Z$500,ROW(),MATCH("Gift Type (select from drop-down menu)",'Delivery Template'!$A$1:$Z$1,0)),$A$22:$D$33,3,FALSE))
D5: =IF(INDEX('Delivery Template'!$A$1:$Z$500,ROW(),MATCH(D$1,'Delivery Template'!$A$1:$Z$1,0))="","",INDEX('Delivery Template'!$A$1:$Z$500,ROW(),MATCH(D$1,'Delivery Template'!$A$1:$Z$1,0))) | E5: =IF(INDEX('Delivery Template'!$A$1:$Z$500,ROW(),MATCH(E$1,'Delivery Template'!$A$1:$Z$1,0))="","",INDEX('Delivery Template'!$A$1:$Z$500,ROW(),MATCH(E$1,'Delivery Template'!$A$1:$Z$1,0))) | F5: =IF(INDEX('Delivery Template'!$A$1:$Z$500,ROW(),MATCH(F$1,'Delivery Template'!$A$1:$Z$1,0))="","",INDEX('Delivery Template'!$A$1:$Z$500,ROW(),MATCH(F$1,'Delivery Template'!$A$1:$Z$1,0))) | G5: =IF(INDEX('Delivery Template'!$A$1:$Z$500,ROW(),MATCH(G$1,'Delivery Template'!$A$1:$Z$1,0))="","",INDEX('Delivery Template'!$A$1:$Z$500,ROW(),MATCH(G$1,'Delivery Template'!$A$1:$Z$1,0))) | H5: =IF(INDEX('Delivery Template'!$A$1:$Z$500,ROW(),MATCH(H$1,'Delivery Template'!$A$1:$Z$1,0))="","",INDEX('Delivery Template'!$A$1:$Z$500,ROW(),MATCH(H$1,'Delivery Template'!$A$1:$Z$1,0))) | I5: =IF(INDEX('Delivery Template'!$A$1:$Z$500,ROW(),MATCH(I$1,'Delivery Template'!$A$1:$Z$1,0))="","",INDEX('Delivery Template'!$A$1:$Z$500,ROW(),MATCH(I$1,'Delivery Template'!$A$1:$Z$1,0))) | J5: =IF(INDEX('Delivery Template'!$A$1:$Z$500,ROW(),MATCH(J$1,'Delivery Template'!$A$1:$Z$1,0))="","",INDEX('Delivery Template'!$A$1:$Z$500,ROW(),MATCH(J$1,'Delivery Template'!$A$1:$Z$1,0))) | K5: =IF(INDEX('Delivery Template'!$A$1:$Z$500,ROW(),MATCH(K$1,'Delivery Template'!$A$1:$Z$1,0))="","",INDEX('Delivery Template'!$A$1:$Z$500,ROW(),MATCH(K$1,'Delivery Template'!$A$1:$Z$1,0))) | L5: =IF(INDEX('Delivery Template'!$A$1:$Z$500,ROW(),MATCH("Quantity",'Delivery Template'!$A$1:$Z$1,0))<2,"",INDEX('Delivery Template'!$A$1:$Z$500,ROW(),MATCH("Quantity",'Delivery Template'!$A$1:$Z$1,0))&" ")&IF(INDEX('Delivery Template'!$A$1:$Z$500,ROW(),MATCH("Gift Type (select from drop-down menu)",'Delivery Template'!$A$1:$Z$1,0))="","",VLOOKUP(INDEX('Delivery Template'!$A$1:$Z$500,ROW(),MATCH("Gift Type (select from drop-down menu)",'Delivery Template'!$A$1:$Z$1,0)),$A$22:$B$33,2,FALSE))&IF(INDEX('Delivery Template'!$A$1:$Z$500,ROW(),MATCH("Quantity",'Delivery Template'!$A$1:$Z$1,0))<2,"",VLOOKUP(INDEX('Delivery Template'!$A$1:$Z$500,ROW(),MATCH("Gift Type (select from drop-down menu)",'Delivery Template'!$A$1:$Z$1,0)),$A$22:$D$33,3,FALSE))
A6: (Choose your gift tag from the drop-down list) | D6: =IF(INDEX('Delivery Template'!$A$1:$Z$500,ROW(),MATCH(D$1,'Delivery Template'!$A$1:$Z$1,0))="","",INDEX('Delivery Template'!$A$1:$Z$500,ROW(),MATCH(D$1,'Delivery Template'!$A$1:$Z$1,0))) | E6: =IF(INDEX('Delivery Template'!$A$1:$Z$500,ROW(),MATCH(E$1,'Delivery Template'!$A$1:$Z$1,0))="","",INDEX('Delivery Template'!$A$1:$Z$500,ROW(),MATCH(E$1,'Delivery Template'!$A$1:$Z$1,0))) | F6: =IF(INDEX('Delivery Template'!$A$1:$Z$500,ROW(),MATCH(F$1,'Delivery Template'!$A$1:$Z$1,0))="","",INDEX('Delivery Template'!$A$1:$Z$500,ROW(),MATCH(F$1,'Delivery Template'!$A$1:$Z$1,0))) | G6: =IF(INDEX('Delivery Template'!$A$1:$Z$500,ROW(),MATCH(G$1,'Delivery Template'!$A$1:$Z$1,0))="","",INDEX('Delivery Template'!$A$1:$Z$500,ROW(),MATCH(G$1,'Delivery Template'!$A$1:$Z$1,0))) | H6: =IF(INDEX('Delivery Template'!$A$1:$Z$500,ROW(),MATCH(H$1,'Delivery Template'!$A$1:$Z$1,0))="","",INDEX('Delivery Template'!$A$1:$Z$500,ROW(),MATCH(H$1,'Delivery Template'!$A$1:$Z$1,0))) | I6: =IF(INDEX('Delivery Template'!$A$1:$Z$500,ROW(),MATCH(I$1,'Delivery Template'!$A$1:$Z$1,0))="","",INDEX('Delivery Template'!$A$1:$Z$500,ROW(),MATCH(I$1,'Delivery Template'!$A$1:$Z$1,0))) | J6: =IF(INDEX('Delivery Template'!$A$1:$Z$500,ROW(),MATCH(J$1,'Delivery Template'!$A$1:$Z$1,0))="","",INDEX('Delivery Template'!$A$1:$Z$500,ROW(),MATCH(J$1,'Delivery Template'!$A$1:$Z$1,0))) | K6: =IF(INDEX('Delivery Template'!$A$1:$Z$500,ROW(),MATCH(K$1,'Delivery Template'!$A$1:$Z$1,0))="","",INDEX('Delivery Template'!$A$1:$Z$500,ROW(),MATCH(K$1,'Delivery Template'!$A$1:$Z$1,0))) | L6: =IF(INDEX('Delivery Template'!$A$1:$Z$500,ROW(),MATCH("Quantity",'Delivery Template'!$A$1:$Z$1,0))<2,"",INDEX('Delivery Template'!$A$1:$Z$500,ROW(),MATCH("Quantity",'Delivery Template'!$A$1:$Z$1,0))&" ")&IF(INDEX('Delivery Template'!$A$1:$Z$500,ROW(),MATCH("Gift Type (select from drop-down menu)",'Delivery Template'!$A$1:$Z$1,0))="","",VLOOKUP(INDEX('Delivery Template'!$A$1:$Z$500,ROW(),MATCH("Gift Type (select from drop-down menu)",'Delivery Template'!$A$1:$Z$1,0)),$A$22:$B$33,2,FALSE))&IF(INDEX('Delivery Template'!$A$1:$Z$500,ROW(),MATCH("Quantity",'Delivery Template'!$A$1:$Z$1,0))<2,"",VLOOKUP(INDEX('Delivery Template'!$A$1:$Z$500,ROW(),MATCH("Gift Type (select from drop-down menu)",'Delivery Template'!$A$1:$Z$1,0)),$A$22:$D$33,3,FALSE))
A7: None | D7: =IF(INDEX('Delivery Template'!$A$1:$Z$500,ROW(),MATCH(D$1,'Delivery Template'!$A$1:$Z$1,0))="","",INDEX('Delivery Template'!$A$1:$Z$500,ROW(),MATCH(D$1,'Delivery Template'!$A$1:$Z$1,0))) | E7: =IF(INDEX('Delivery Template'!$A$1:$Z$500,ROW(),MATCH(E$1,'Delivery Template'!$A$1:$Z$1,0))="","",INDEX('Delivery Template'!$A$1:$Z$500,ROW(),MATCH(E$1,'Delivery Template'!$A$1:$Z$1,0))) | F7: =IF(INDEX('Delivery Template'!$A$1:$Z$500,ROW(),MATCH(F$1,'Delivery Template'!$A$1:$Z$1,0))="","",INDEX('Delivery Template'!$A$1:$Z$500,ROW(),MATCH(F$1,'Delivery Template'!$A$1:$Z$1,0))) | G7: =IF(INDEX('Delivery Template'!$A$1:$Z$500,ROW(),MATCH(G$1,'Delivery Template'!$A$1:$Z$1,0))="","",INDEX('Delivery Template'!$A$1:$Z$500,ROW(),MATCH(G$1,'Delivery Template'!$A$1:$Z$1,0))) | H7: =IF(INDEX('Delivery Template'!$A$1:$Z$500,ROW(),MATCH(H$1,'Delivery Template'!$A$1:$Z$1,0))="","",INDEX('Delivery Template'!$A$1:$Z$500,ROW(),MATCH(H$1,'Delivery Template'!$A$1:$Z$1,0))) | I7: =IF(INDEX('Delivery Template'!$A$1:$Z$500,ROW(),MATCH(I$1,'Delivery Template'!$A$1:$Z$1,0))="","",INDEX('Delivery Template'!$A$1:$Z$500,ROW(),MATCH(I$1,'Delivery Template'!$A$1:$Z$1,0))) | J7: =IF(INDEX('Delivery Template'!$A$1:$Z$500,ROW(),MATCH(J$1,'Delivery Template'!$A$1:$Z$1,0))="","",INDEX('Delivery Template'!$A$1:$Z$500,ROW(),MATCH(J$1,'Delivery Template'!$A$1:$Z$1,0))) | K7: =IF(INDEX('Delivery Template'!$A$1:$Z$500,ROW(),MATCH(K$1,'Delivery Template'!$A$1:$Z$1,0))="","",INDEX('Delivery Template'!$A$1:$Z$500,ROW(),MATCH(K$1,'Delivery Template'!$A$1:$Z$1,0))) | L7: =IF(INDEX('Delivery Template'!$A$1:$Z$500,ROW(),MATCH("Quantity",'Delivery Template'!$A$1:$Z$1,0))<2,"",INDEX('Delivery Template'!$A$1:$Z$500,ROW(),MATCH("Quantity",'Delivery Template'!$A$1:$Z$1,0))&" ")&IF(INDEX('Delivery Template'!$A$1:$Z$500,ROW(),MATCH("Gift Type (select from drop-down menu)",'Delivery Template'!$A$1:$Z$1,0))="","",VLOOKUP(INDEX('Delivery Template'!$A$1:$Z$500,ROW(),MATCH("Gift Type (select from drop-down menu)",'Delivery Template'!$A$1:$Z$1,0)),$A$22:$B$33,2,FALSE))&IF(INDEX('Delivery Template'!$A$1:$Z$500,ROW(),MATCH("Quantity",'Delivery Template'!$A$1:$Z$1,0))<2,"",VLOOKUP(INDEX('Delivery Template'!$A$1:$Z$500,ROW(),MATCH("Gift Type (select from drop-down menu)",'Delivery Template'!$A$1:$Z$1,0)),$A$22:$D$33,3,FALSE))
A8: "Because You Can't Eat Flowers" | D8: =IF(INDEX('Delivery Template'!$A$1:$Z$500,ROW(),MATCH(D$1,'Delivery Template'!$A$1:$Z$1,0))="","",INDEX('Delivery Template'!$A$1:$Z$500,ROW(),MATCH(D$1,'Delivery Template'!$A$1:$Z$1,0))) | E8: =IF(INDEX('Delivery Template'!$A$1:$Z$500,ROW(),MATCH(E$1,'Delivery Template'!$A$1:$Z$1,0))="","",INDEX('Delivery Template'!$A$1:$Z$500,ROW(),MATCH(E$1,'Delivery Template'!$A$1:$Z$1,0))) | F8: =IF(INDEX('Delivery Template'!$A$1:$Z$500,ROW(),MATCH(F$1,'Delivery Template'!$A$1:$Z$1,0))="","",INDEX('Delivery Template'!$A$1:$Z$500,ROW(),MATCH(F$1,'Delivery Template'!$A$1:$Z$1,0))) | G8: =IF(INDEX('Delivery Template'!$A$1:$Z$500,ROW(),MATCH(G$1,'Delivery Template'!$A$1:$Z$1,0))="","",INDEX('Delivery Template'!$A$1:$Z$500,ROW(),MATCH(G$1,'Delivery Template'!$A$1:$Z$1,0))) | H8: =IF(INDEX('Delivery Template'!$A$1:$Z$500,ROW(),MATCH(H$1,'Delivery Template'!$A$1:$Z$1,0))="","",INDEX('Delivery Template'!$A$1:$Z$500,ROW(),MATCH(H$1,'Delivery Template'!$A$1:$Z$1,0))) | I8: =IF(INDEX('Delivery Template'!$A$1:$Z$500,ROW(),MATCH(I$1,'Delivery Template'!$A$1:$Z$1,0))="","",INDEX('Delivery Template'!$A$1:$Z$500,ROW(),MATCH(I$1,'Delivery Template'!$A$1:$Z$1,0))) | J8: =IF(INDEX('Delivery Template'!$A$1:$Z$500,ROW(),MATCH(J$1,'Delivery Template'!$A$1:$Z$1,0))="","",INDEX('Delivery Template'!$A$1:$Z$500,ROW(),MATCH(J$1,'Delivery Template'!$A$1:$Z$1,0))) | K8: =IF(INDEX('Delivery Template'!$A$1:$Z$500,ROW(),MATCH(K$1,'Delivery Template'!$A$1:$Z$1,0))="","",INDEX('Delivery Template'!$A$1:$Z$500,ROW(),MATCH(K$1,'Delivery Template'!$A$1:$Z$1,0))) | L8: =IF(INDEX('Delivery Template'!$A$1:$Z$500,ROW(),MATCH("Quantity",'Delivery Template'!$A$1:$Z$1,0))<2,"",INDEX('Delivery Template'!$A$1:$Z$500,ROW(),MATCH("Quantity",'Delivery Template'!$A$1:$Z$1,0))&" ")&IF(INDEX('Delivery Template'!$A$1:$Z$500,ROW(),MATCH("Gift Type (select from drop-down menu)",'Delivery Template'!$A$1:$Z$1,0))="","",VLOOKUP(INDEX('Delivery Template'!$A$1:$Z$500,ROW(),MATCH("Gift Type (select from drop-down menu)",'Delivery Template'!$A$1:$Z$1,0)),$A$22:$B$33,2,FALSE))&IF(INDEX('Delivery Template'!$A$1:$Z$500,ROW(),MATCH("Quantity",'Delivery Template'!$A$1:$Z$1,0))<2,"",VLOOKUP(INDEX('Delivery Template'!$A$1:$Z$500,ROW(),MATCH("Gift Type (select from drop-down menu)",'Delivery Template'!$A$1:$Z$1,0)),$A$22:$D$33,3,FALSE))
A9: "Because You Deserve The Best" | D9: =IF(INDEX('Delivery Template'!$A$1:$Z$500,ROW(),MATCH(D$1,'Delivery Template'!$A$1:$Z$1,0))="","",INDEX('Delivery Template'!$A$1:$Z$500,ROW(),MATCH(D$1,'Delivery Template'!$A$1:$Z$1,0))) | E9: =IF(INDEX('Delivery Template'!$A$1:$Z$500,ROW(),MATCH(E$1,'Delivery Template'!$A$1:$Z$1,0))="","",INDEX('Delivery Template'!$A$1:$Z$500,ROW(),MATCH(E$1,'Delivery Template'!$A$1:$Z$1,0))) | F9: =IF(INDEX('Delivery Template'!$A$1:$Z$500,ROW(),MATCH(F$1,'Delivery Template'!$A$1:$Z$1,0))="","",INDEX('Delivery Template'!$A$1:$Z$500,ROW(),MATCH(F$1,'Delivery Template'!$A$1:$Z$1,0))) | G9: =IF(INDEX('Delivery Template'!$A$1:$Z$500,ROW(),MATCH(G$1,'Delivery Template'!$A$1:$Z$1,0))="","",INDEX('Delivery Template'!$A$1:$Z$500,ROW(),MATCH(G$1,'Delivery Template'!$A$1:$Z$1,0))) | H9: =IF(INDEX('Delivery Template'!$A$1:$Z$500,ROW(),MATCH(H$1,'Delivery Template'!$A$1:$Z$1,0))="","",INDEX('Delivery Template'!$A$1:$Z$500,ROW(),MATCH(H$1,'Delivery Template'!$A$1:$Z$1,0))) | I9: =IF(INDEX('Delivery Template'!$A$1:$Z$500,ROW(),MATCH(I$1,'Delivery Template'!$A$1:$Z$1,0))="","",INDEX('Delivery Template'!$A$1:$Z$500,ROW(),MATCH(I$1,'Delivery Template'!$A$1:$Z$1,0))) | J9: =IF(INDEX('Delivery Template'!$A$1:$Z$500,ROW(),MATCH(J$1,'Delivery Template'!$A$1:$Z$1,0))="","",INDEX('Delivery Template'!$A$1:$Z$500,ROW(),MATCH(J$1,'Delivery Template'!$A$1:$Z$1,0))) | K9: =IF(INDEX('Delivery Template'!$A$1:$Z$500,ROW(),MATCH(K$1,'Delivery Template'!$A$1:$Z$1,0))="","",INDEX('Delivery Template'!$A$1:$Z$500,ROW(),MATCH(K$1,'Delivery Template'!$A$1:$Z$1,0))) | L9: =IF(INDEX('Delivery Template'!$A$1:$Z$500,ROW(),MATCH("Quantity",'Delivery Template'!$A$1:$Z$1,0))<2,"",INDEX('Delivery Template'!$A$1:$Z$500,ROW(),MATCH("Quantity",'Delivery Template'!$A$1:$Z$1,0))&" ")&IF(INDEX('Delivery Template'!$A$1:$Z$500,ROW(),MATCH("Gift Type (select from drop-down menu)",'Delivery Template'!$A$1:$Z$1,0))="","",VLOOKUP(INDEX('Delivery Template'!$A$1:$Z$500,ROW(),MATCH("Gift Type (select from drop-down menu)",'Delivery Template'!$A$1:$Z$1,0)),$A$22:$B$33,2,FALSE))&IF(INDEX('Delivery Template'!$A$1:$Z$500,ROW(),MATCH("Quantity",'Delivery Template'!$A$1:$Z$1,0))<2,"",VLOOKUP(INDEX('Delivery Template'!$A$1:$Z$500,ROW(),MATCH("Gift Type (select from drop-down menu)",'Delivery Template'!$A$1:$Z$1,0)),$A$22:$D$33,3,FALSE))
A10: "Celebrate" | D10: =IF(INDEX('Delivery Template'!$A$1:$Z$500,ROW(),MATCH(D$1,'Delivery Template'!$A$1:$Z$1,0))="","",INDEX('Delivery Template'!$A$1:$Z$500,ROW(),MATCH(D$1,'Delivery Template'!$A$1:$Z$1,0))) | E10: =IF(INDEX('Delivery Template'!$A$1:$Z$500,ROW(),MATCH(E$1,'Delivery Template'!$A$1:$Z$1,0))="","",INDEX('Delivery Template'!$A$1:$Z$500,ROW(),MATCH(E$1,'Delivery Template'!$A$1:$Z$1,0))) | F10: =IF(INDEX('Delivery Template'!$A$1:$Z$500,ROW(),MATCH(F$1,'Delivery Template'!$A$1:$Z$1,0))="","",INDEX('Delivery Template'!$A$1:$Z$500,ROW(),MATCH(F$1,'Delivery Template'!$A$1:$Z$1,0))) | G10: =IF(INDEX('Delivery Template'!$A$1:$Z$500,ROW(),MATCH(G$1,'Delivery Template'!$A$1:$Z$1,0))="","",INDEX('Delivery Template'!$A$1:$Z$500,ROW(),MATCH(G$1,'Delivery Template'!$A$1:$Z$1,0))) | H10: =IF(INDEX('Delivery Template'!$A$1:$Z$500,ROW(),MATCH(H$1,'Delivery Template'!$A$1:$Z$1,0))="","",INDEX('Delivery Template'!$A$1:$Z$500,ROW(),MATCH(H$1,'Delivery Template'!$A$1:$Z$1,0))) | I10: =IF(INDEX('Delivery Template'!$A$1:$Z$500,ROW(),MATCH(I$1,'Delivery Template'!$A$1:$Z$1,0))="","",INDEX('Delivery Template'!$A$1:$Z$500,ROW(),MATCH(I$1,'Delivery Template'!$A$1:$Z$1,0))) | J10: =IF(INDEX('Delivery Template'!$A$1:$Z$500,ROW(),MATCH(J$1,'Delivery Template'!$A$1:$Z$1,0))="","",INDEX('Delivery Template'!$A$1:$Z$500,ROW(),MATCH(J$1,'Delivery Template'!$A$1:$Z$1,0))) | K10: =IF(INDEX('Delivery Template'!$A$1:$Z$500,ROW(),MATCH(K$1,'Delivery Template'!$A$1:$Z$1,0))="","",INDEX('Delivery Template'!$A$1:$Z$500,ROW(),MATCH(K$1,'Delivery Template'!$A$1:$Z$1,0))) | L10: =IF(INDEX('Delivery Template'!$A$1:$Z$500,ROW(),MATCH("Quantity",'Delivery Template'!$A$1:$Z$1,0))<2,"",INDEX('Delivery Template'!$A$1:$Z$500,ROW(),MATCH("Quantity",'Delivery Template'!$A$1:$Z$1,0))&" ")&IF(INDEX('Delivery Template'!$A$1:$Z$500,ROW(),MATCH("Gift Type (select from drop-down menu)",'Delivery Template'!$A$1:$Z$1,0))="","",VLOOKUP(INDEX('Delivery Template'!$A$1:$Z$500,ROW(),MATCH("Gift Type (select from drop-down menu)",'Delivery Template'!$A$1:$Z$1,0)),$A$22:$B$33,2,FALSE))&IF(INDEX('Delivery Template'!$A$1:$Z$500,ROW(),MATCH("Quantity",'Delivery Template'!$A$1:$Z$1,0))<2,"",VLOOKUP(INDEX('Delivery Template'!$A$1:$Z$500,ROW(),MATCH("Gift Type (select from drop-down menu)",'Delivery Template'!$A$1:$Z$1,0)),$A$22:$D$33,3,FALSE))
A11: "Cookies By George" | D11: =IF(INDEX('Delivery Template'!$A$1:$Z$500,ROW(),MATCH(D$1,'Delivery Template'!$A$1:$Z$1,0))="","",INDEX('Delivery Template'!$A$1:$Z$500,ROW(),MATCH(D$1,'Delivery Template'!$A$1:$Z$1,0))) | E11: =IF(INDEX('Delivery Template'!$A$1:$Z$500,ROW(),MATCH(E$1,'Delivery Template'!$A$1:$Z$1,0))="","",INDEX('Delivery Template'!$A$1:$Z$500,ROW(),MATCH(E$1,'Delivery Template'!$A$1:$Z$1,0))) | F11: =IF(INDEX('Delivery Template'!$A$1:$Z$500,ROW(),MATCH(F$1,'Delivery Template'!$A$1:$Z$1,0))="","",INDEX('Delivery Template'!$A$1:$Z$500,ROW(),MATCH(F$1,'Delivery Template'!$A$1:$Z$1,0))) | G11: =IF(INDEX('Delivery Template'!$A$1:$Z$500,ROW(),MATCH(G$1,'Delivery Template'!$A$1:$Z$1,0))="","",INDEX('Delivery Template'!$A$1:$Z$500,ROW(),MATCH(G$1,'Delivery Template'!$A$1:$Z$1,0))) | H11: =IF(INDEX('Delivery Template'!$A$1:$Z$500,ROW(),MATCH(H$1,'Delivery Template'!$A$1:$Z$1,0))="","",INDEX('Delivery Template'!$A$1:$Z$500,ROW(),MATCH(H$1,'Delivery Template'!$A$1:$Z$1,0))) | I11: =IF(INDEX('Delivery Template'!$A$1:$Z$500,ROW(),MATCH(I$1,'Delivery Template'!$A$1:$Z$1,0))="","",INDEX('Delivery Template'!$A$1:$Z$500,ROW(),MATCH(I$1,'Delivery Template'!$A$1:$Z$1,0))) | J11: =IF(INDEX('Delivery Template'!$A$1:$Z$500,ROW(),MATCH(J$1,'Delivery Template'!$A$1:$Z$1,0))="","",INDEX('Delivery Template'!$A$1:$Z$500,ROW(),MATCH(J$1,'Delivery Template'!$A$1:$Z$1,0))) | K11: =IF(INDEX('Delivery Template'!$A$1:$Z$500,ROW(),MATCH(K$1,'Delivery Template'!$A$1:$Z$1,0))="","",INDEX('Delivery Template'!$A$1:$Z$500,ROW(),MATCH(K$1,'Delivery Template'!$A$1:$Z$1,0))) | L11: =IF(INDEX('Delivery Template'!$A$1:$Z$500,ROW(),MATCH("Quantity",'Delivery Template'!$A$1:$Z$1,0))<2,"",INDEX('Delivery Template'!$A$1:$Z$500,ROW(),MATCH("Quantity",'Delivery Template'!$A$1:$Z$1,0))&" ")&IF(INDEX('Delivery Template'!$A$1:$Z$500,ROW(),MATCH("Gift Type (select from drop-down menu)",'Delivery Template'!$A$1:$Z$1,0))="","",VLOOKUP(INDEX('Delivery Template'!$A$1:$Z$500,ROW(),MATCH("Gift Type (select from drop-down menu)",'Delivery Template'!$A$1:$Z$1,0)),$A$22:$B$33,2,FALSE))&IF(INDEX('Delivery Template'!$A$1:$Z$500,ROW(),MATCH("Quantity",'Delivery Template'!$A$1:$Z$1,0))<2,"",VLOOKUP(INDEX('Delivery Template'!$A$1:$Z$500,ROW(),MATCH("Gift Type (select from drop-down menu)",'Delivery Template'!$A$1:$Z$1,0)),$A$22:$D$33,3,FALSE))
A12: "Congratulations" | D12: =IF(INDEX('Delivery Template'!$A$1:$Z$500,ROW(),MATCH(D$1,'Delivery Template'!$A$1:$Z$1,0))="","",INDEX('Delivery Template'!$A$1:$Z$500,ROW(),MATCH(D$1,'Delivery Template'!$A$1:$Z$1,0))) | E12: =IF(INDEX('Delivery Template'!$A$1:$Z$500,ROW(),MATCH(E$1,'Delivery Template'!$A$1:$Z$1,0))="","",INDEX('Delivery Template'!$A$1:$Z$500,ROW(),MATCH(E$1,'Delivery Template'!$A$1:$Z$1,0))) | F12: =IF(INDEX('Delivery Template'!$A$1:$Z$500,ROW(),MATCH(F$1,'Delivery Template'!$A$1:$Z$1,0))="","",INDEX('Delivery Template'!$A$1:$Z$500,ROW(),MATCH(F$1,'Delivery Template'!$A$1:$Z$1,0))) | G12: =IF(INDEX('Delivery Template'!$A$1:$Z$500,ROW(),MATCH(G$1,'Delivery Template'!$A$1:$Z$1,0))="","",INDEX('Delivery Template'!$A$1:$Z$500,ROW(),MATCH(G$1,'Delivery Template'!$A$1:$Z$1,0))) | H12: =IF(INDEX('Delivery Template'!$A$1:$Z$500,ROW(),MATCH(H$1,'Delivery Template'!$A$1:$Z$1,0))="","",INDEX('Delivery Template'!$A$1:$Z$500,ROW(),MATCH(H$1,'Delivery Template'!$A$1:$Z$1,0))) | I12: =IF(INDEX('Delivery Template'!$A$1:$Z$500,ROW(),MATCH(I$1,'Delivery Template'!$A$1:$Z$1,0))="","",INDEX('Delivery Template'!$A$1:$Z$500,ROW(),MATCH(I$1,'Delivery Template'!$A$1:$Z$1,0))) | J12: =IF(INDEX('Delivery Template'!$A$1:$Z$500,ROW(),MATCH(J$1,'Delivery Template'!$A$1:$Z$1,0))="","",INDEX('Delivery Template'!$A$1:$Z$500,ROW(),MATCH(J$1,'Delivery Template'!$A$1:$Z$1,0))) | K12: =IF(INDEX('Delivery Template'!$A$1:$Z$500,ROW(),MATCH(K$1,'Delivery Template'!$A$1:$Z$1,0))="","",INDEX('Delivery Template'!$A$1:$Z$500,ROW(),MATCH(K$1,'Delivery Template'!$A$1:$Z$1,0))) | L12: =IF(INDEX('Delivery Template'!$A$1:$Z$500,ROW(),MATCH("Quantity",'Delivery Template'!$A$1:$Z$1,0))<2,"",INDEX('Delivery Template'!$A$1:$Z$500,ROW(),MATCH("Quantity",'Delivery Template'!$A$1:$Z$1,0))&" ")&IF(INDEX('Delivery Template'!$A$1:$Z$500,ROW(),MATCH("Gift Type (select from drop-down menu)",'Delivery Template'!$A$1:$Z$1,0))="","",VLOOKUP(INDEX('Delivery Template'!$A$1:$Z$500,ROW(),MATCH("Gift Type (select from drop-down menu)",'Delivery Template'!$A$1:$Z$1,0)),$A$22:$B$33,2,FALSE))&IF(INDEX('Delivery Template'!$A$1:$Z$500,ROW(),MATCH("Quantity",'Delivery Template'!$A$1:$Z$1,0))<2,"",VLOOKUP(INDEX('Delivery Template'!$A$1:$Z$500,ROW(),MATCH("Gift Type (select from drop-down menu)",'Delivery Template'!$A$1:$Z$1,0)),$A$22:$D$33,3,FALSE))
A13: "Rx Take One Every Hour" | D13: =IF(INDEX('Delivery Template'!$A$1:$Z$500,ROW(),MATCH(D$1,'Delivery Template'!$A$1:$Z$1,0))="","",INDEX('Delivery Template'!$A$1:$Z$500,ROW(),MATCH(D$1,'Delivery Template'!$A$1:$Z$1,0))) | E13: =IF(INDEX('Delivery Template'!$A$1:$Z$500,ROW(),MATCH(E$1,'Delivery Template'!$A$1:$Z$1,0))="","",INDEX('Delivery Template'!$A$1:$Z$500,ROW(),MATCH(E$1,'Delivery Template'!$A$1:$Z$1,0))) | F13: =IF(INDEX('Delivery Template'!$A$1:$Z$500,ROW(),MATCH(F$1,'Delivery Template'!$A$1:$Z$1,0))="","",INDEX('Delivery Template'!$A$1:$Z$500,ROW(),MATCH(F$1,'Delivery Template'!$A$1:$Z$1,0))) | G13: =IF(INDEX('Delivery Template'!$A$1:$Z$500,ROW(),MATCH(G$1,'Delivery Template'!$A$1:$Z$1,0))="","",INDEX('Delivery Template'!$A$1:$Z$500,ROW(),MATCH(G$1,'Delivery Template'!$A$1:$Z$1,0))) | H13: =IF(INDEX('Delivery Template'!$A$1:$Z$500,ROW(),MATCH(H$1,'Delivery Template'!$A$1:$Z$1,0))="","",INDEX('Delivery Template'!$A$1:$Z$500,ROW(),MATCH(H$1,'Delivery Template'!$A$1:$Z$1,0))) | I13: =IF(INDEX('Delivery Template'!$A$1:$Z$500,ROW(),MATCH(I$1,'Delivery Template'!$A$1:$Z$1,0))="","",INDEX('Delivery Template'!$A$1:$Z$500,ROW(),MATCH(I$1,'Delivery Template'!$A$1:$Z$1,0))) | J13: =IF(INDEX('Delivery Template'!$A$1:$Z$500,ROW(),MATCH(J$1,'Delivery Template'!$A$1:$Z$1,0))="","",INDEX('Delivery Template'!$A$1:$Z$500,ROW(),MATCH(J$1,'Delivery Template'!$A$1:$Z$1,0))) | K13: =IF(INDEX('Delivery Template'!$A$1:$Z$500,ROW(),MATCH(K$1,'Delivery Template'!$A$1:$Z$1,0))="","",INDEX('Delivery Template'!$A$1:$Z$500,ROW(),MATCH(K$1,'Delivery Template'!$A$1:$Z$1,0))) | L13: =IF(INDEX('Delivery Template'!$A$1:$Z$500,ROW(),MATCH("Quantity",'Delivery Template'!$A$1:$Z$1,0))<2,"",INDEX('Delivery Template'!$A$1:$Z$500,ROW(),MATCH("Quantity",'Delivery Template'!$A$1:$Z$1,0))&" ")&IF(INDEX('Delivery Template'!$A$1:$Z$500,ROW(),MATCH("Gift Type (select from drop-down menu)",'Delivery Template'!$A$1:$Z$1,0))="","",VLOOKUP(INDEX('Delivery Template'!$A$1:$Z$500,ROW(),MATCH("Gift Type (select from drop-down menu)",'Delivery Template'!$A$1:$Z$1,0)),$A$22:$B$33,2,FALSE))&IF(INDEX('Delivery Template'!$A$1:$Z$500,ROW(),MATCH("Quantity",'Delivery Template'!$A$1:$Z$1,0))<2,"",VLOOKUP(INDEX('Delivery Template'!$A$1:$Z$500,ROW(),MATCH("Gift Type (select from drop-down menu)",'Delivery Template'!$A$1:$Z$1,0)),$A$22:$D$33,3,FALSE))
A14: "Thank You" | D14: =IF(INDEX('Delivery Template'!$A$1:$Z$500,ROW(),MATCH(D$1,'Delivery Template'!$A$1:$Z$1,0))="","",INDEX('Delivery Template'!$A$1:$Z$500,ROW(),MATCH(D$1,'Delivery Template'!$A$1:$Z$1,0))) | E14: =IF(INDEX('Delivery Template'!$A$1:$Z$500,ROW(),MATCH(E$1,'Delivery Template'!$A$1:$Z$1,0))="","",INDEX('Delivery Template'!$A$1:$Z$500,ROW(),MATCH(E$1,'Delivery Template'!$A$1:$Z$1,0))) | F14: =IF(INDEX('Delivery Template'!$A$1:$Z$500,ROW(),MATCH(F$1,'Delivery Template'!$A$1:$Z$1,0))="","",INDEX('Delivery Template'!$A$1:$Z$500,ROW(),MATCH(F$1,'Delivery Template'!$A$1:$Z$1,0))) | G14: =IF(INDEX('Delivery Template'!$A$1:$Z$500,ROW(),MATCH(G$1,'Delivery Template'!$A$1:$Z$1,0))="","",INDEX('Delivery Template'!$A$1:$Z$500,ROW(),MATCH(G$1,'Delivery Template'!$A$1:$Z$1,0))) | H14: =IF(INDEX('Delivery Template'!$A$1:$Z$500,ROW(),MATCH(H$1,'Delivery Template'!$A$1:$Z$1,0))="","",INDEX('Delivery Template'!$A$1:$Z$500,ROW(),MATCH(H$1,'Delivery Template'!$A$1:$Z$1,0))) | I14: =IF(INDEX('Delivery Template'!$A$1:$Z$500,ROW(),MATCH(I$1,'Delivery Template'!$A$1:$Z$1,0))="","",INDEX('Delivery Template'!$A$1:$Z$500,ROW(),MATCH(I$1,'Delivery Template'!$A$1:$Z$1,0))) | J14: =IF(INDEX('Delivery Template'!$A$1:$Z$500,ROW(),MATCH(J$1,'Delivery Template'!$A$1:$Z$1,0))="","",INDEX('Delivery Template'!$A$1:$Z$500,ROW(),MATCH(J$1,'Delivery Template'!$A$1:$Z$1,0))) | K14: =IF(INDEX('Delivery Template'!$A$1:$Z$500,ROW(),MATCH(K$1,'Delivery Template'!$A$1:$Z$1,0))="","",INDEX('Delivery Template'!$A$1:$Z$500,ROW(),MATCH(K$1,'Delivery Template'!$A$1:$Z$1,0))) | L14: =IF(INDEX('Delivery Template'!$A$1:$Z$500,ROW(),MATCH("Quantity",'Delivery Template'!$A$1:$Z$1,0))<2,"",INDEX('Delivery Template'!$A$1:$Z$500,ROW(),MATCH("Quantity",'Delivery Template'!$A$1:$Z$1,0))&" ")&IF(INDEX('Delivery Template'!$A$1:$Z$500,ROW(),MATCH("Gift Type (select from drop-down menu)",'Delivery Template'!$A$1:$Z$1,0))="","",VLOOKUP(INDEX('Delivery Template'!$A$1:$Z$500,ROW(),MATCH("Gift Type (select from drop-down menu)",'Delivery Template'!$A$1:$Z$1,0)),$A$22:$B$33,2,FALSE))&IF(INDEX('Delivery Template'!$A$1:$Z$500,ROW(),MATCH("Quantity",'Delivery Template'!$A$1:$Z$1,0))<2,"",VLOOKUP(INDEX('Delivery Template'!$A$1:$Z$500,ROW(),MATCH("Gift Type (select from drop-down menu)",'Delivery Template'!$A$1:$Z$1,0)),$A$22:$D$33,3,FALSE))
A15: "Thank You Very Munch" | D15: =IF(INDEX('Delivery Template'!$A$1:$Z$500,ROW(),MATCH(D$1,'Delivery Template'!$A$1:$Z$1,0))="","",INDEX('Delivery Template'!$A$1:$Z$500,ROW(),MATCH(D$1,'Delivery Template'!$A$1:$Z$1,0))) | E15: =IF(INDEX('Delivery Template'!$A$1:$Z$500,ROW(),MATCH(E$1,'Delivery Template'!$A$1:$Z$1,0))="","",INDEX('Delivery Template'!$A$1:$Z$500,ROW(),MATCH(E$1,'Delivery Template'!$A$1:$Z$1,0))) | F15: =IF(INDEX('Delivery Template'!$A$1:$Z$500,ROW(),MATCH(F$1,'Delivery Template'!$A$1:$Z$1,0))="","",INDEX('Delivery Template'!$A$1:$Z$500,ROW(),MATCH(F$1,'Delivery Template'!$A$1:$Z$1,0))) | G15: =IF(INDEX('Delivery Template'!$A$1:$Z$500,ROW(),MATCH(G$1,'Delivery Template'!$A$1:$Z$1,0))="","",INDEX('Delivery Template'!$A$1:$Z$500,ROW(),MATCH(G$1,'Delivery Template'!$A$1:$Z$1,0))) | H15: =IF(INDEX('Delivery Template'!$A$1:$Z$500,ROW(),MATCH(H$1,'Delivery Template'!$A$1:$Z$1,0))="","",INDEX('Delivery Template'!$A$1:$Z$500,ROW(),MATCH(H$1,'Delivery Template'!$A$1:$Z$1,0))) | I15: =IF(INDEX('Delivery Template'!$A$1:$Z$500,ROW(),MATCH(I$1,'Delivery Template'!$A$1:$Z$1,0))="","",INDEX('Delivery Template'!$A$1:$Z$500,ROW(),MATCH(I$1,'Delivery Template'!$A$1:$Z$1,0))) | J15: =IF(INDEX('Delivery Template'!$A$1:$Z$500,ROW(),MATCH(J$1,'Delivery Template'!$A$1:$Z$1,0))="","",INDEX('Delivery Template'!$A$1:$Z$500,ROW(),MATCH(J$1,'Delivery Template'!$A$1:$Z$1,0))) | K15: =IF(INDEX('Delivery Template'!$A$1:$Z$500,ROW(),MATCH(K$1,'Delivery Template'!$A$1:$Z$1,0))="","",INDEX('Delivery Template'!$A$1:$Z$500,ROW(),MATCH(K$1,'Delivery Template'!$A$1:$Z$1,0))) | L15: =IF(INDEX('Delivery Template'!$A$1:$Z$500,ROW(),MATCH("Quantity",'Delivery Template'!$A$1:$Z$1,0))<2,"",INDEX('Delivery Template'!$A$1:$Z$500,ROW(),MATCH("Quantity",'Delivery Template'!$A$1:$Z$1,0))&" ")&IF(INDEX('Delivery Template'!$A$1:$Z$500,ROW(),MATCH("Gift Type (select from drop-down menu)",'Delivery Template'!$A$1:$Z$1,0))="","",VLOOKUP(INDEX('Delivery Template'!$A$1:$Z$500,ROW(),MATCH("Gift Type (select from drop-down menu)",'Delivery Template'!$A$1:$Z$1,0)),$A$22:$B$33,2,FALSE))&IF(INDEX('Delivery Template'!$A$1:$Z$500,ROW(),MATCH("Quantity",'Delivery Template'!$A$1:$Z$1,0))<2,"",VLOOKUP(INDEX('Delivery Template'!$A$1:$Z$500,ROW(),MATCH("Gift Type (select from drop-down menu)",'Delivery Template'!$A$1:$Z$1,0)),$A$22:$D$33,3,FALSE))
A16: "Thinking Of You" | D16: =IF(INDEX('Delivery Template'!$A$1:$Z$500,ROW(),MATCH(D$1,'Delivery Template'!$A$1:$Z$1,0))="","",INDEX('Delivery Template'!$A$1:$Z$500,ROW(),MATCH(D$1,'Delivery Template'!$A$1:$Z$1,0))) | E16: =IF(INDEX('Delivery Template'!$A$1:$Z$500,ROW(),MATCH(E$1,'Delivery Template'!$A$1:$Z$1,0))="","",INDEX('Delivery Template'!$A$1:$Z$500,ROW(),MATCH(E$1,'Delivery Template'!$A$1:$Z$1,0))) | F16: =IF(INDEX('Delivery Template'!$A$1:$Z$500,ROW(),MATCH(F$1,'Delivery Template'!$A$1:$Z$1,0))="","",INDEX('Delivery Template'!$A$1:$Z$500,ROW(),MATCH(F$1,'Delivery Template'!$A$1:$Z$1,0))) | G16: =IF(INDEX('Delivery Template'!$A$1:$Z$500,ROW(),MATCH(G$1,'Delivery Template'!$A$1:$Z$1,0))="","",INDEX('Delivery Template'!$A$1:$Z$500,ROW(),MATCH(G$1,'Delivery Template'!$A$1:$Z$1,0))) | H16: =IF(INDEX('Delivery Template'!$A$1:$Z$500,ROW(),MATCH(H$1,'Delivery Template'!$A$1:$Z$1,0))="","",INDEX('Delivery Template'!$A$1:$Z$500,ROW(),MATCH(H$1,'Delivery Template'!$A$1:$Z$1,0))) | I16: =IF(INDEX('Delivery Template'!$A$1:$Z$500,ROW(),MATCH(I$1,'Delivery Template'!$A$1:$Z$1,0))="","",INDEX('Delivery Template'!$A$1:$Z$500,ROW(),MATCH(I$1,'Delivery Template'!$A$1:$Z$1,0))) | J16: =IF(INDEX('Delivery Template'!$A$1:$Z$500,ROW(),MATCH(J$1,'Delivery Template'!$A$1:$Z$1,0))="","",INDEX('Delivery Template'!$A$1:$Z$500,ROW(),MATCH(J$1,'Delivery Template'!$A$1:$Z$1,0))) | K16: =IF(INDEX('Delivery Template'!$A$1:$Z$500,ROW(),MATCH(K$1,'Delivery Template'!$A$1:$Z$1,0))="","",INDEX('Delivery Template'!$A$1:$Z$500,ROW(),MATCH(K$1,'Delivery Template'!$A$1:$Z$1,0))) | L16: =IF(INDEX('Delivery Template'!$A$1:$Z$500,ROW(),MATCH("Quantity",'Delivery Template'!$A$1:$Z$1,0))<2,"",INDEX('Delivery Template'!$A$1:$Z$500,ROW(),MATCH("Quantity",'Delivery Template'!$A$1:$Z$1,0))&" ")&IF(INDEX('Delivery Template'!$A$1:$Z$500,ROW(),MATCH("Gift Type (select from drop-down menu)",'Delivery Template'!$A$1:$Z$1,0))="","",VLOOKUP(INDEX('Delivery Template'!$A$1:$Z$500,ROW(),MATCH("Gift Type (select from drop-down menu)",'Delivery Template'!$A$1:$Z$1,0)),$A$22:$B$33,2,FALSE))&IF(INDEX('Delivery Template'!$A$1:$Z$500,ROW(),MATCH("Quantity",'Delivery Template'!$A$1:$Z$1,0))<2,"",VLOOKUP(INDEX('Delivery Template'!$A$1:$Z$500,ROW(),MATCH("Gift Type (select from drop-down menu)",'Delivery Template'!$A$1:$Z$1,0)),$A$22:$D$33,3,FALSE))
A17: "With Appreciation" | D17: =IF(INDEX('Delivery Template'!$A$1:$Z$500,ROW(),MATCH(D$1,'Delivery Template'!$A$1:$Z$1,0))="","",INDEX('Delivery Template'!$A$1:$Z$500,ROW(),MATCH(D$1,'Delivery Template'!$A$1:$Z$1,0))) | E17: =IF(INDEX('Delivery Template'!$A$1:$Z$500,ROW(),MATCH(E$1,'Delivery Template'!$A$1:$Z$1,0))="","",INDEX('Delivery Template'!$A$1:$Z$500,ROW(),MATCH(E$1,'Delivery Template'!$A$1:$Z$1,0))) | F17: =IF(INDEX('Delivery Template'!$A$1:$Z$500,ROW(),MATCH(F$1,'Delivery Template'!$A$1:$Z$1,0))="","",INDEX('Delivery Template'!$A$1:$Z$500,ROW(),MATCH(F$1,'Delivery Template'!$A$1:$Z$1,0))) | G17: =IF(INDEX('Delivery Template'!$A$1:$Z$500,ROW(),MATCH(G$1,'Delivery Template'!$A$1:$Z$1,0))="","",INDEX('Delivery Template'!$A$1:$Z$500,ROW(),MATCH(G$1,'Delivery Template'!$A$1:$Z$1,0))) | H17: =IF(INDEX('Delivery Template'!$A$1:$Z$500,ROW(),MATCH(H$1,'Delivery Template'!$A$1:$Z$1,0))="","",INDEX('Delivery Template'!$A$1:$Z$500,ROW(),MATCH(H$1,'Delivery Template'!$A$1:$Z$1,0))) | I17: =IF(INDEX('Delivery Template'!$A$1:$Z$500,ROW(),MATCH(I$1,'Delivery Template'!$A$1:$Z$1,0))="","",INDEX('Delivery Template'!$A$1:$Z$500,ROW(),MATCH(I$1,'Delivery Template'!$A$1:$Z$1,0))) | J17: =IF(INDEX('Delivery Template'!$A$1:$Z$500,ROW(),MATCH(J$1,'Delivery Template'!$A$1:$Z$1,0))="","",INDEX('Delivery Template'!$A$1:$Z$500,ROW(),MATCH(J$1,'Delivery Template'!$A$1:$Z$1,0))) | K17: =IF(INDEX('Delivery Template'!$A$1:$Z$500,ROW(),MATCH(K$1,'Delivery Template'!$A$1:$Z$1,0))="","",INDEX('Delivery Template'!$A$1:$Z$500,ROW(),MATCH(K$1,'Delivery Template'!$A$1:$Z$1,0))) | L17: =IF(INDEX('Delivery Template'!$A$1:$Z$500,ROW(),MATCH("Quantity",'Delivery Template'!$A$1:$Z$1,0))<2,"",INDEX('Delivery Template'!$A$1:$Z$500,ROW(),MATCH("Quantity",'Delivery Template'!$A$1:$Z$1,0))&" ")&IF(INDEX('Delivery Template'!$A$1:$Z$500,ROW(),MATCH("Gift Type (select from drop-down menu)",'Delivery Template'!$A$1:$Z$1,0))="","",VLOOKUP(INDEX('Delivery Template'!$A$1:$Z$500,ROW(),MATCH("Gift Type (select from drop-down menu)",'Delivery Template'!$A$1:$Z$1,0)),$A$22:$B$33,2,FALSE))&IF(INDEX('Delivery Template'!$A$1:$Z$500,ROW(),MATCH("Quantity",'Delivery Template'!$A$1:$Z$1,0))<2,"",VLOOKUP(INDEX('Delivery Template'!$A$1:$Z$500,ROW(),MATCH("Gift Type (select from drop-down menu)",'Delivery Template'!$A$1:$Z$1,0)),$A$22:$D$33,3,FALSE))
... A20: I will supply my own gift tags | D20: =IF(INDEX('Delivery Template'!$A$1:$Z$500,ROW(),MATCH(D$1,'Delivery Template'!$A$1:$Z$1,0))="","",INDEX('Delivery Template'!$A$1:$Z$500,ROW(),MATCH(D$1,'Delivery Template'!$A$1:$Z$1,0))) | E20: =IF(INDEX('Delivery Template'!$A$1:$Z$500,ROW(),MATCH(E$1,'Delivery Template'!$A$1:$Z$1,0))="","",INDEX('Delivery Template'!$A$1:$Z$500,ROW(),MATCH(E$1,'Delivery Template'!$A$1:$Z$1,0))) | F20: =IF(INDEX('Delivery Template'!$A$1:$Z$500,ROW(),MATCH(F$1,'Delivery Template'!$A$1:$Z$1,0))="","",INDEX('Delivery Template'!$A$1:$Z$500,ROW(),MATCH(F$1,'Delivery Template'!$A$1:$Z$1,0))) | G20: =IF(INDEX('Delivery Template'!$A$1:$Z$500,ROW(),MATCH(G$1,'Delivery Template'!$A$1:$Z$1,0))="","",INDEX('Delivery Template'!$A$1:$Z$500,ROW(),MATCH(G$1,'Delivery Template'!$A$1:$Z$1,0))) | H20: =IF(INDEX('Delivery Template'!$A$1:$Z$500,ROW(),MATCH(H$1,'Delivery Template'!$A$1:$Z$1,0))="","",INDEX('Delivery Template'!$A$1:$Z$500,ROW(),MATCH(H$1,'Delivery Template'!$A$1:$Z$1,0))) | I20: =IF(INDEX('Delivery Template'!$A$1:$Z$500,ROW(),MATCH(I$1,'Delivery Template'!$A$1:$Z$1,0))="","",INDEX('Delivery Template'!$A$1:$Z$500,ROW(),MATCH(I$1,'Delivery Template'!$A$1:$Z$1,0))) | J20: =IF(INDEX('Delivery Template'!$A$1:$Z$500,ROW(),MATCH(J$1,'Delivery Template'!$A$1:$Z$1,0))="","",INDEX('Delivery Template'!$A$1:$Z$500,ROW(),MATCH(J$1,'Delivery Template'!$A$1:$Z$1,0))) | K20: =IF(INDEX('Delivery Template'!$A$1:$Z$500,ROW(),MATCH(K$1,'Delivery Template'!$A$1:$Z$1,0))="","",INDEX('Delivery Template'!$A$1:$Z$500,ROW(),MATCH(K$1,'Delivery Template'!$A$1:$Z$1,0))) | L20: =IF(INDEX('Delivery Template'!$A$1:$Z$500,ROW(),MATCH("Quantity",'Delivery Template'!$A$1:$Z$1,0))<2,"",INDEX('Delivery Template'!$A$1:$Z$500,ROW(),MATCH("Quantity",'Delivery Template'!$A$1:$Z$1,0))&" ")&IF(INDEX('Delivery Template'!$A$1:$Z$500,ROW(),MATCH("Gift Type (select from drop-down menu)",'Delivery Template'!$A$1:$Z$1,0))="","",VLOOKUP(INDEX('Delivery Template'!$A$1:$Z$500,ROW(),MATCH("Gift Type (select from drop-down menu)",'Delivery Template'!$A$1:$Z$1,0)),$A$22:$B$33,2,FALSE))&IF(INDEX('Delivery Template'!$A$1:$Z$500,ROW(),MATCH("Quantity",'Delivery Template'!$A$1:$Z$1,0))<2,"",VLOOKUP(INDEX('Delivery Template'!$A$1:$Z$500,ROW(),MATCH("Gift Type (select from drop-down menu)",'Delivery Template'!$A$1:$Z$1,0)),$A$22:$D$33,3,FALSE))
D21: =IF(INDEX('Delivery Template'!$A$1:$Z$500,ROW(),MATCH(D$1,'Delivery Template'!$A$1:$Z$1,0))="","",INDEX('Delivery Template'!$A$1:$Z$500,ROW(),MATCH(D$1,'Delivery Template'!$A$1:$Z$1,0))) | E21: =IF(INDEX('Delivery Template'!$A$1:$Z$500,ROW(),MATCH(E$1,'Delivery Template'!$A$1:$Z$1,0))="","",INDEX('Delivery Template'!$A$1:$Z$500,ROW(),MATCH(E$1,'Delivery Template'!$A$1:$Z$1,0))) | F21: =IF(INDEX('Delivery Template'!$A$1:$Z$500,ROW(),MATCH(F$1,'Delivery Template'!$A$1:$Z$1,0))="","",INDEX('Delivery Template'!$A$1:$Z$500,ROW(),MATCH(F$1,'Delivery Template'!$A$1:$Z$1,0))) | G21: =IF(INDEX('Delivery Template'!$A$1:$Z$500,ROW(),MATCH(G$1,'Delivery Template'!$A$1:$Z$1,0))="","",INDEX('Delivery Template'!$A$1:$Z$500,ROW(),MATCH(G$1,'Delivery Template'!$A$1:$Z$1,0))) | H21: =IF(INDEX('Delivery Template'!$A$1:$Z$500,ROW(),MATCH(H$1,'Delivery Template'!$A$1:$Z$1,0))="","",INDEX('Delivery Template'!$A$1:$Z$500,ROW(),MATCH(H$1,'Delivery Template'!$A$1:$Z$1,0))) | I21: =IF(INDEX('Delivery Template'!$A$1:$Z$500,ROW(),MATCH(I$1,'Delivery Template'!$A$1:$Z$1,0))="","",INDEX('Delivery Template'!$A$1:$Z$500,ROW(),MATCH(I$1,'Delivery Template'!$A$1:$Z$1,0))) | J21: =IF(INDEX('Delivery Template'!$A$1:$Z$500,ROW(),MATCH(J$1,'Delivery Template'!$A$1:$Z$1,0))="","",INDEX('Delivery Template'!$A$1:$Z$500,ROW(),MATCH(J$1,'Delivery Template'!$A$1:$Z$1,0))) | K21: =IF(INDEX('Delivery Template'!$A$1:$Z$500,ROW(),MATCH(K$1,'Delivery Template'!$A$1:$Z$1,0))="","",INDEX('Delivery Template'!$A$1:$Z$500,ROW(),MATCH(K$1,'Delivery Template'!$A$1:$Z$1,0))) | L21: =IF(INDEX('Delivery Template'!$A$1:$Z$500,ROW(),MATCH("Quantity",'Delivery Template'!$A$1:$Z$1,0))<2,"",INDEX('Delivery Template'!$A$1:$Z$500,ROW(),MATCH("Quantity",'Delivery Template'!$A$1:$Z$1,0))&" ")&IF(INDEX('Delivery Template'!$A$1:$Z$500,ROW(),MATCH("Gift Type (select from drop-down menu)",'Delivery Template'!$A$1:$Z$1,0))="","",VLOOKUP(INDEX('Delivery Template'!$A$1:$Z$500,ROW(),MATCH("Gift Type (select from drop-down menu)",'Delivery Template'!$A$1:$Z$1,0)),$A$22:$B$33,2,FALSE))&IF(INDEX('Delivery Template'!$A$1:$Z$500,ROW(),MATCH("Quantity",'Delivery Template'!$A$1:$Z$1,0))<2,"",VLOOKUP(INDEX('Delivery Template'!$A$1:$Z$500,ROW(),MATCH("Gift Type (select from drop-down menu)",'Delivery Template'!$A$1:$Z$1,0)),$A$22:$D$33,3,FALSE))
A22: George Junior | $19.95 | 6 cookies | B22: George Junior | C22: =IF(RIGHT(B22,1)="x","es","s") -> s | D22: =IF(INDEX('Delivery Template'!$A$1:$Z$500,ROW(),MATCH(D$1,'Delivery Template'!$A$1:$Z$1,0))="","",INDEX('Delivery Template'!$A$1:$Z$500,ROW(),MATCH(D$1,'Delivery Template'!$A$1:$Z$1,0))) | E22: =IF(INDEX('Delivery Template'!$A$1:$Z$500,ROW(),MATCH(E$1,'Delivery Template'!$A$1:$Z$1,0))="","",INDEX('Delivery Template'!$A$1:$Z$500,ROW(),MATCH(E$1,'Delivery Template'!$A$1:$Z$1,0))) | F22: =IF(INDEX('Delivery Template'!$A$1:$Z$500,ROW(),MATCH(F$1,'Delivery Template'!$A$1:$Z$1,0))="","",INDEX('Delivery Template'!$A$1:$Z$500,ROW(),MATCH(F$1,'Delivery Template'!$A$1:$Z$1,0))) | G22: =IF(INDEX('Delivery Template'!$A$1:$Z$500,ROW(),MATCH(G$1,'Delivery Template'!$A$1:$Z$1,0))="","",INDEX('Delivery Template'!$A$1:$Z$500,ROW(),MATCH(G$1,'Delivery Template'!$A$1:$Z$1,0))) | H22: =IF(INDEX('Delivery Template'!$A$1:$Z$500,ROW(),MATCH(H$1,'Delivery Template'!$A$1:$Z$1,0))="","",INDEX('Delivery Template'!$A$1:$Z$500,ROW(),MATCH(H$1,'Delivery Template'!$A$1:$Z$1,0))) | I22: =IF(INDEX('Delivery Template'!$A$1:$Z$500,ROW(),MATCH(I$1,'Delivery Template'!$A$1:$Z$1,0))="","",INDEX('Delivery Template'!$A$1:$Z$500,ROW(),MATCH(I$1,'Delivery Template'!$A$1:$Z$1,0))) | J22: =IF(INDEX('Delivery Template'!$A$1:$Z$500,ROW(),MATCH(J$1,'Delivery Template'!$A$1:$Z$1,0))="","",INDEX('Delivery Template'!$A$1:$Z$500,ROW(),MATCH(J$1,'Delivery Template'!$A$1:$Z$1,0))) | K22: =IF(INDEX('Delivery Template'!$A$1:$Z$500,ROW(),MATCH(K$1,'Delivery Template'!$A$1:$Z$1,0))="","",INDEX('Delivery Template'!$A$1:$Z$500,ROW(),MATCH(K$1,'Delivery Template'!$A$1:$Z$1,0))) | L22: =IF(INDEX('Delivery Template'!$A$1:$Z$500,ROW(),MATCH("Quantity",'Delivery Template'!$A$1:$Z$1,0))<2,"",INDEX('Delivery Template'!$A$1:$Z$500,ROW(),MATCH("Quantity",'Delivery Template'!$A$1:$Z$1,0))&" ")&IF(INDEX('Delivery Template'!$A$1:$Z$500,ROW(),MATCH("Gift Type (select from drop-down menu)",'Delivery Template'!$A$1:$Z$1,0))="","",VLOOKUP(INDEX('Delivery Template'!$A$1:$Z$500,ROW(),MATCH("Gift Type (select from drop-down menu)",'Delivery Template'!$A$1:$Z$1,0)),$A$22:$B$33,2,FALSE))&IF(INDEX('Delivery Template'!$A$1:$Z$500,ROW(),MATCH("Quantity",'Delivery Template'!$A$1:$Z$1,0))<2,"",VLOOKUP(INDEX('Delivery Template'!$A$1:$Z$500,ROW(),MATCH("Gift Type (select from drop-down menu)",'Delivery Template'!$A$1:$Z$1,0)),$A$22:$D$33,3,FALSE))
A23: Wrapped George Junior | $21.45 | 6 individually wrapped cookies | B23: Wrapped George Junior | C23: s
A24: George Box Small | $37.95 | 13 cookies | B24: Sm. George Box | C24: =IF(RIGHT(B24,1)="x","es","s") -> es | D24: =IF(INDEX('Delivery Template'!$A$1:$Z$500,ROW(),MATCH(D$1,'Delivery Template'!$A$1:$Z$1,0))="","",INDEX('Delivery Template'!$A$1:$Z$500,ROW(),MATCH(D$1,'Delivery Template'!$A$1:$Z$1,0))) | E24: =IF(INDEX('Delivery Template'!$A$1:$Z$500,ROW(),MATCH(E$1,'Delivery Template'!$A$1:$Z$1,0))="","",INDEX('Delivery Template'!$A$1:$Z$500,ROW(),MATCH(E$1,'Delivery Template'!$A$1:$Z$1,0))) | F24: =IF(INDEX('Delivery Template'!$A$1:$Z$500,ROW(),MATCH(F$1,'Delivery Template'!$A$1:$Z$1,0))="","",INDEX('Delivery Template'!$A$1:$Z$500,ROW(),MATCH(F$1,'Delivery Template'!$A$1:$Z$1,0))) | G24: =IF(INDEX('Delivery Template'!$A$1:$Z$500,ROW(),MATCH(G$1,'Delivery Template'!$A$1:$Z$1,0))="","",INDEX('Delivery Template'!$A$1:$Z$500,ROW(),MATCH(G$1,'Delivery Template'!$A$1:$Z$1,0))) | H24: =IF(INDEX('Delivery Template'!$A$1:$Z$500,ROW(),MATCH(H$1,'Delivery Template'!$A$1:$Z$1,0))="","",INDEX('Delivery Template'!$A$1:$Z$500,ROW(),MATCH(H$1,'Delivery Template'!$A$1:$Z$1,0))) | I24: =IF(INDEX('Delivery Template'!$A$1:$Z$500,ROW(),MATCH(I$1,'Delivery Template'!$A$1:$Z$1,0))="","",INDEX('Delivery Template'!$A$1:$Z$500,ROW(),MATCH(I$1,'Delivery Template'!$A$1:$Z$1,0))) | J24: =IF(INDEX('Delivery Template'!$A$1:$Z$500,ROW(),MATCH(J$1,'Delivery Template'!$A$1:$Z$1,0))="","",INDEX('Delivery Template'!$A$1:$Z$500,ROW(),MATCH(J$1,'Delivery Template'!$A$1:$Z$1,0))) | K24: =IF(INDEX('Delivery Template'!$A$1:$Z$500,ROW(),MATCH(K$1,'Delivery Template'!$A$1:$Z$1,0))="","",INDEX('Delivery Template'!$A$1:$Z$500,ROW(),MATCH(K$1,'Delivery Template'!$A$1:$Z$1,0))) | L24: =IF(INDEX('Delivery Template'!$A$1:$Z$500,ROW(),MATCH("Quantity",'Delivery Template'!$A$1:$Z$1,0))<2,"",INDEX('Delivery Template'!$A$1:$Z$500,ROW(),MATCH("Quantity",'Delivery Template'!$A$1:$Z$1,0))&" ")&IF(INDEX('Delivery Template'!$A$1:$Z$500,ROW(),MATCH("Gift Type (select from drop-down menu)",'Delivery Template'!$A$1:$Z$1,0))="","",VLOOKUP(INDEX('Delivery Template'!$A$1:$Z$500,ROW(),MATCH("Gift Type (select from drop-down menu)",'Delivery Template'!$A$1:$Z$1,0)),$A$22:$B$33,2,FALSE))&IF(INDEX('Delivery Template'!$A$1:$Z$500,ROW(),MATCH("Quantity",'Delivery Template'!$A$1:$Z$1,0))<2,"",VLOOKUP(INDEX('Delivery Template'!$A$1:$Z$500,ROW(),MATCH("Gift Type (select from drop-down menu)",'Delivery Template'!$A$1:$Z$1,0)),$A$22:$D$33,3,FALSE))
A25: Wrapped Small George Box | $41.20 | 13 individually wrapped cookies | B25: Wrapped Sm. George Box | C25: es
A26: George Box Medium | $64.95 | 24 cookies | B26: Med. George Box | C26: =IF(RIGHT(B26,1)="x","es","s") -> es | D26: =IF(INDEX('Delivery Template'!$A$1:$Z$500,ROW(),MATCH(D$1,'Delivery Template'!$A$1:$Z$1,0))="","",INDEX('Delivery Template'!$A$1:$Z$500,ROW(),MATCH(D$1,'Delivery Template'!$A$1:$Z$1,0))) | E26: =IF(INDEX('Delivery Template'!$A$1:$Z$500,ROW(),MATCH(E$1,'Delivery Template'!$A$1:$Z$1,0))="","",INDEX('Delivery Template'!$A$1:$Z$500,ROW(),MATCH(E$1,'Delivery Template'!$A$1:$Z$1,0))) | F26: =IF(INDEX('Delivery Template'!$A$1:$Z$500,ROW(),MATCH(F$1,'Delivery Template'!$A$1:$Z$1,0))="","",INDEX('Delivery Template'!$A$1:$Z$500,ROW(),MATCH(F$1,'Delivery Template'!$A$1:$Z$1,0))) | G26: =IF(INDEX('Delivery Template'!$A$1:$Z$500,ROW(),MATCH(G$1,'Delivery Template'!$A$1:$Z$1,0))="","",INDEX('Delivery Template'!$A$1:$Z$500,ROW(),MATCH(G$1,'Delivery Template'!$A$1:$Z$1,0))) | H26: =IF(INDEX('Delivery Template'!$A$1:$Z$500,ROW(),MATCH(H$1,'Delivery Template'!$A$1:$Z$1,0))="","",INDEX('Delivery Template'!$A$1:$Z$500,ROW(),MATCH(H$1,'Delivery Template'!$A$1:$Z$1,0))) | I26: =IF(INDEX('Delivery Template'!$A$1:$Z$500,ROW(),MATCH(I$1,'Delivery Template'!$A$1:$Z$1,0))="","",INDEX('Delivery Template'!$A$1:$Z$500,ROW(),MATCH(I$1,'Delivery Template'!$A$1:$Z$1,0))) | J26: =IF(INDEX('Delivery Template'!$A$1:$Z$500,ROW(),MATCH(J$1,'Delivery Template'!$A$1:$Z$1,0))="","",INDEX('Delivery Template'!$A$1:$Z$500,ROW(),MATCH(J$1,'Delivery Template'!$A$1:$Z$1,0))) | K26: =IF(INDEX('Delivery Template'!$A$1:$Z$500,ROW(),MATCH(K$1,'Delivery Template'!$A$1:$Z$1,0))="","",INDEX('Delivery Template'!$A$1:$Z$500,ROW(),MATCH(K$1,'Delivery Template'!$A$1:$Z$1,0))) | L26: =IF(INDEX('Delivery Template'!$A$1:$Z$500,ROW(),MATCH("Quantity",'Delivery Template'!$A$1:$Z$1,0))<2,"",INDEX('Delivery Template'!$A$1:$Z$500,ROW(),MATCH("Quantity",'Delivery Template'!$A$1:$Z$1,0))&" ")&IF(INDEX('Delivery Template'!$A$1:$Z$500,ROW(),MATCH("Gift Type (select from drop-down menu)",'Delivery Template'!$A$1:$Z$1,0))="","",VLOOKUP(INDEX('Delivery Template'!$A$1:$Z$500,ROW(),MATCH("Gift Type (select from drop-down menu)",'Delivery Template'!$A$1:$Z$1,0)),$A$22:$B$33,2,FALSE))&IF(INDEX('Delivery Template'!$A$1:$Z$500,ROW(),MATCH("Quantity",'Delivery Template'!$A$1:$Z$1,0))<2,"",VLOOKUP(INDEX('Delivery Template'!$A$1:$Z$500,ROW(),MATCH("Gift Type (select from drop-down menu)",'Delivery Template'!$A$1:$Z$1,0)),$A$22:$D$33,3,FALSE))
A27: Wrapped Medium George Box | $70.95 | 24 individually wrapped cookies | B27: Wrapped Med. George Box | C27: es
A28: George Box Large | $89.95 | 36 cookies | B28: Lg. George Box | C28: =IF(RIGHT(B28,1)="x","es","s") -> es | D28: =IF(INDEX('Delivery Template'!$A$1:$Z$500,ROW(),MATCH(D$1,'Delivery Template'!$A$1:$Z$1,0))="","",INDEX('Delivery Template'!$A$1:$Z$500,ROW(),MATCH(D$1,'Delivery Template'!$A$1:$Z$1,0))) | E28: =IF(INDEX('Delivery Template'!$A$1:$Z$500,ROW(),MATCH(E$1,'Delivery Template'!$A$1:$Z$1,0))="","",INDEX('Delivery Template'!$A$1:$Z$500,ROW(),MATCH(E$1,'Delivery Template'!$A$1:$Z$1,0))) | F28: =IF(INDEX('Delivery Template'!$A$1:$Z$500,ROW(),MATCH(F$1,'Delivery Template'!$A$1:$Z$1,0))="","",INDEX('Delivery Template'!$A$1:$Z$500,ROW(),MATCH(F$1,'Delivery Template'!$A$1:$Z$1,0))) | G28: =IF(INDEX('Delivery Template'!$A$1:$Z$500,ROW(),MATCH(G$1,'Delivery Template'!$A$1:$Z$1,0))="","",INDEX('Delivery Template'!$A$1:$Z$500,ROW(),MATCH(G$1,'Delivery Template'!$A$1:$Z$1,0))) | H28: =IF(INDEX('Delivery Template'!$A$1:$Z$500,ROW(),MATCH(H$1,'Delivery Template'!$A$1:$Z$1,0))="","",INDEX('Delivery Template'!$A$1:$Z$500,ROW(),MATCH(H$1,'Delivery Template'!$A$1:$Z$1,0))) | I28: =IF(INDEX('Delivery Template'!$A$1:$Z$500,ROW(),MATCH(I$1,'Delivery Template'!$A$1:$Z$1,0))="","",INDEX('Delivery Template'!$A$1:$Z$500,ROW(),MATCH(I$1,'Delivery Template'!$A$1:$Z$1,0))) | J28: =IF(INDEX('Delivery Template'!$A$1:$Z$500,ROW(),MATCH(J$1,'Delivery Template'!$A$1:$Z$1,0))="","",INDEX('Delivery Template'!$A$1:$Z$500,ROW(),MATCH(J$1,'Delivery Template'!$A$1:$Z$1,0))) | K28: =IF(INDEX('Delivery Template'!$A$1:$Z$500,ROW(),MATCH(K$1,'Delivery Template'!$A$1:$Z$1,0))="","",INDEX('Delivery Template'!$A$1:$Z$500,ROW(),MATCH(K$1,'Delivery Template'!$A$1:$Z$1,0))) | L28: =IF(INDEX('Delivery Template'!$A$1:$Z$500,ROW(),MATCH("Quantity",'Delivery Template'!$A$1:$Z$1,0))<2,"",INDEX('Delivery Template'!$A$1:$Z$500,ROW(),MATCH("Quantity",'Delivery Template'!$A$1:$Z$1,0))&" ")&IF(INDEX('Delivery Template'!$A$1:$Z$500,ROW(),MATCH("Gift Type (select from drop-down menu)",'Delivery Template'!$A$1:$Z$1,0))="","",VLOOKUP(INDEX('Delivery Template'!$A$1:$Z$500,ROW(),MATCH("Gift Type (select from drop-down menu)",'Delivery Template'!$A$1:$Z$1,0)),$A$22:$B$33,2,FALSE))&IF(INDEX('Delivery Template'!$A$1:$Z$500,ROW(),MATCH("Quantity",'Delivery Template'!$A$1:$Z$1,0))<2,"",VLOOKUP(INDEX('Delivery Template'!$A$1:$Z$500,ROW(),MATCH("Gift Type (select from drop-down menu)",'Delivery Template'!$A$1:$Z$1,0)),$A$22:$D$33,3,FALSE))
A29: Wrapped Large George Box | $98.95 | 36 individually wrapped cookies | B29: Wrapped Lg. George Box | C29: es
A30: Flowers By George | $49.95 | 18 cookies | B30: Flower Box | C30: =IF(RIGHT(B30,1)="x","es","s") -> es | D30: =IF(INDEX('Delivery Template'!$A$1:$Z$500,ROW(),MATCH(D$1,'Delivery Template'!$A$1:$Z$1,0))="","",INDEX('Delivery Template'!$A$1:$Z$500,ROW(),MATCH(D$1,'Delivery Template'!$A$1:$Z$1,0))) | E30: =IF(INDEX('Delivery Template'!$A$1:$Z$500,ROW(),MATCH(E$1,'Delivery Template'!$A$1:$Z$1,0))="","",INDEX('Delivery Template'!$A$1:$Z$500,ROW(),MATCH(E$1,'Delivery Template'!$A$1:$Z$1,0))) | F30: =IF(INDEX('Delivery Template'!$A$1:$Z$500,ROW(),MATCH(F$1,'Delivery Template'!$A$1:$Z$1,0))="","",INDEX('Delivery Template'!$A$1:$Z$500,ROW(),MATCH(F$1,'Delivery Template'!$A$1:$Z$1,0))) | G30: =IF(INDEX('Delivery Template'!$A$1:$Z$500,ROW(),MATCH(G$1,'Delivery Template'!$A$1:$Z$1,0))="","",INDEX('Delivery Template'!$A$1:$Z$500,ROW(),MATCH(G$1,'Delivery Template'!$A$1:$Z$1,0))) | H30: =IF(INDEX('Delivery Template'!$A$1:$Z$500,ROW(),MATCH(H$1,'Delivery Template'!$A$1:$Z$1,0))="","",INDEX('Delivery Template'!$A$1:$Z$500,ROW(),MATCH(H$1,'Delivery Template'!$A$1:$Z$1,0))) | I30: =IF(INDEX('Delivery Template'!$A$1:$Z$500,ROW(),MATCH(I$1,'Delivery Template'!$A$1:$Z$1,0))="","",INDEX('Delivery Template'!$A$1:$Z$500,ROW(),MATCH(I$1,'Delivery Template'!$A$1:$Z$1,0))) | J30: =IF(INDEX('Delivery Template'!$A$1:$Z$500,ROW(),MATCH(J$1,'Delivery Template'!$A$1:$Z$1,0))="","",INDEX('Delivery Template'!$A$1:$Z$500,ROW(),MATCH(J$1,'Delivery Template'!$A$1:$Z$1,0))) | K30: =IF(INDEX('Delivery Template'!$A$1:$Z$500,ROW(),MATCH(K$1,'Delivery Template'!$A$1:$Z$1,0))="","",INDEX('Delivery Template'!$A$1:$Z$500,ROW(),MATCH(K$1,'Delivery Template'!$A$1:$Z$1,0))) | L30: =IF(INDEX('Delivery Template'!$A$1:$Z$500,ROW(),MATCH("Quantity",'Delivery Template'!$A$1:$Z$1,0))<2,"",INDEX('Delivery Template'!$A$1:$Z$500,ROW(),MATCH("Quantity",'Delivery Template'!$A$1:$Z$1,0))&" ")&IF(INDEX('Delivery Template'!$A$1:$Z$500,ROW(),MATCH("Gift Type (select from drop-down menu)",'Delivery Template'!$A$1:$Z$1,0))="","",VLOOKUP(INDEX('Delivery Template'!$A$1:$Z$500,ROW(),MATCH("Gift Type (select from drop-down menu)",'Delivery Template'!$A$1:$Z$1,0)),$A$22:$B$33,2,FALSE))&IF(INDEX('Delivery Template'!$A$1:$Z$500,ROW(),MATCH("Quantity",'Delivery Template'!$A$1:$Z$1,0))<2,"",VLOOKUP(INDEX('Delivery Template'!$A$1:$Z$500,ROW(),MATCH("Gift Type (select from drop-down menu)",'Delivery Template'!$A$1:$Z$1,0)),$A$22:$D$33,3,FALSE))
A31: Wrapped Flowers By George | $54.45 | 18 individually wrapped cookies | B31: Wrapped Flower Box | C31: es
A32: Office Tin | $139.95 | 55 cookies | B32: Office Tin | C32: =IF(RIGHT(B32,1)="x","es","s") -> s | D32: =IF(INDEX('Delivery Template'!$A$1:$Z$500,ROW(),MATCH(D$1,'Delivery Template'!$A$1:$Z$1,0))="","",INDEX('Delivery Template'!$A$1:$Z$500,ROW(),MATCH(D$1,'Delivery Template'!$A$1:$Z$1,0))) | E32: =IF(INDEX('Delivery Template'!$A$1:$Z$500,ROW(),MATCH(E$1,'Delivery Template'!$A$1:$Z$1,0))="","",INDEX('Delivery Template'!$A$1:$Z$500,ROW(),MATCH(E$1,'Delivery Template'!$A$1:$Z$1,0))) | F32: =IF(INDEX('Delivery Template'!$A$1:$Z$500,ROW(),MATCH(F$1,'Delivery Template'!$A$1:$Z$1,0))="","",INDEX('Delivery Template'!$A$1:$Z$500,ROW(),MATCH(F$1,'Delivery Template'!$A$1:$Z$1,0))) | G32: =IF(INDEX('Delivery Template'!$A$1:$Z$500,ROW(),MATCH(G$1,'Delivery Template'!$A$1:$Z$1,0))="","",INDEX('Delivery Template'!$A$1:$Z$500,ROW(),MATCH(G$1,'Delivery Template'!$A$1:$Z$1,0))) | H32: =IF(INDEX('Delivery Template'!$A$1:$Z$500,ROW(),MATCH(H$1,'Delivery Template'!$A$1:$Z$1,0))="","",INDEX('Delivery Template'!$A$1:$Z$500,ROW(),MATCH(H$1,'Delivery Template'!$A$1:$Z$1,0))) | I32: =IF(INDEX('Delivery Template'!$A$1:$Z$500,ROW(),MATCH(I$1,'Delivery Template'!$A$1:$Z$1,0))="","",INDEX('Delivery Template'!$A$1:$Z$500,ROW(),MATCH(I$1,'Delivery Template'!$A$1:$Z$1,0))) | J32: =IF(INDEX('Delivery Template'!$A$1:$Z$500,ROW(),MATCH(J$1,'Delivery Template'!$A$1:$Z$1,0))="","",INDEX('Delivery Template'!$A$1:$Z$500,ROW(),MATCH(J$1,'Delivery Template'!$A$1:$Z$1,0))) | K32: =IF(INDEX('Delivery Template'!$A$1:$Z$500,ROW(),MATCH(K$1,'Delivery Template'!$A$1:$Z$1,0))="","",INDEX('Delivery Template'!$A$1:$Z$500,ROW(),MATCH(K$1,'Delivery Template'!$A$1:$Z$1,0))) | L32: =IF(INDEX('Delivery Template'!$A$1:$Z$500,ROW(),MATCH("Quantity",'Delivery Template'!$A$1:$Z$1,0))<2,"",INDEX('Delivery Template'!$A$1:$Z$500,ROW(),MATCH("Quantity",'Delivery Template'!$A$1:$Z$1,0))&" ")&IF(INDEX('Delivery Template'!$A$1:$Z$500,ROW(),MATCH("Gift Type (select from drop-down menu)",'Delivery Template'!$A$1:$Z$1,0))="","",VLOOKUP(INDEX('Delivery Template'!$A$1:$Z$500,ROW(),MATCH("Gift Type (select from drop-down menu)",'Delivery Template'!$A$1:$Z$1,0)),$A$22:$B$33,2,FALSE))&IF(INDEX('Delivery Template'!$A$1:$Z$500,ROW(),MATCH("Quantity",'Delivery Template'!$A$1:$Z$1,0))<2,"",VLOOKUP(INDEX('Delivery Template'!$A$1:$Z$500,ROW(),MATCH("Gift Type (select from drop-down menu)",'Delivery Template'!$A$1:$Z$1,0)),$A$22:$D$33,3,FALSE))
A33: Wrapped Office Tin | $153.70 | 55 individually wrapped cookies | B33: Wrapped Office Tin | C33: =IF(RIGHT(B33,1)="x","es","s") -> s | D33: =IF(INDEX('Delivery Template'!$A$1:$Z$500,ROW(),MATCH(D$1,'Delivery Template'!$A$1:$Z$1,0))="","",INDEX('Delivery Template'!$A$1:$Z$500,ROW(),MATCH(D$1,'Delivery Template'!$A$1:$Z$1,0))) | E33: =IF(INDEX('Delivery Template'!$A$1:$Z$500,ROW(),MATCH(E$1,'Delivery Template'!$A$1:$Z$1,0))="","",INDEX('Delivery Template'!$A$1:$Z$500,ROW(),MATCH(E$1,'Delivery Template'!$A$1:$Z$1,0))) | F33: =IF(INDEX('Delivery Template'!$A$1:$Z$500,ROW(),MATCH(F$1,'Delivery Template'!$A$1:$Z$1,0))="","",INDEX('Delivery Template'!$A$1:$Z$500,ROW(),MATCH(F$1,'Delivery Template'!$A$1:$Z$1,0))) | G33: =IF(INDEX('Delivery Template'!$A$1:$Z$500,ROW(),MATCH(G$1,'Delivery Template'!$A$1:$Z$1,0))="","",INDEX('Delivery Template'!$A$1:$Z$500,ROW(),MATCH(G$1,'Delivery Template'!$A$1:$Z$1,0))) | H33: =IF(INDEX('Delivery Template'!$A$1:$Z$500,ROW(),MATCH(H$1,'Delivery Template'!$A$1:$Z$1,0))="","",INDEX('Delivery Template'!$A$1:$Z$500,ROW(),MATCH(H$1,'Delivery Template'!$A$1:$Z$1,0))) | I33: =IF(INDEX('Delivery Template'!$A$1:$Z$500,ROW(),MATCH(I$1,'Delivery Template'!$A$1:$Z$1,0))="","",INDEX('Delivery Template'!$A$1:$Z$500,ROW(),MATCH(I$1,'Delivery Template'!$A$1:$Z$1,0))) | J33: =IF(INDEX('Delivery Template'!$A$1:$Z$500,ROW(),MATCH(J$1,'Delivery Template'!$A$1:$Z$1,0))="","",INDEX('Delivery Template'!$A$1:$Z$500,ROW(),MATCH(J$1,'Delivery Template'!$A$1:$Z$1,0))) | K33: =IF(INDEX('Delivery Template'!$A$1:$Z$500,ROW(),MATCH(K$1,'Delivery Template'!$A$1:$Z$1,0))="","",INDEX('Delivery Template'!$A$1:$Z$500,ROW(),MATCH(K$1,'Delivery Template'!$A$1:$Z$1,0))) | L33: =IF(INDEX('Delivery Template'!$A$1:$Z$500,ROW(),MATCH("Quantity",'Delivery Template'!$A$1:$Z$1,0))<2,"",INDEX('Delivery Template'!$A$1:$Z$500,ROW(),MATCH("Quantity",'Delivery Template'!$A$1:$Z$1,0))&" ")&IF(INDEX('Delivery Template'!$A$1:$Z$500,ROW(),MATCH("Gift Type (select from drop-down menu)",'Delivery Template'!$A$1:$Z$1,0))="","",VLOOKUP(INDEX('Delivery Template'!$A$1:$Z$500,ROW(),MATCH("Gift Type (select from drop-down menu)",'Delivery Template'!$A$1:$Z$1,0)),$A$22:$B$33,2,FALSE))&IF(INDEX('Delivery Template'!$A$1:$Z$500,ROW(),MATCH("Quantity",'Delivery Template'!$A$1:$Z$1,0))<2,"",VLOOKUP(INDEX('Delivery Template'!$A$1:$Z$500,ROW(),MATCH("Gift Type (select from drop-down menu)",'Delivery Template'!$A$1:$Z$1,0)),$A$22:$D$33,3,FALSE))
