Workbook

Sheet For CBG
A1: Assortment | D1: Company Name | E1: Attn: | F1: Address | G1: City | H1: Prov | I1: Postal | J1: Phone # | K1: Country | L1: Gift Type
A2: Assortment - No Peanuts/Peanut Butter | D2: =IF(INDEX('Delivery Template'!$A$1:$Z$500,ROW(),MATCH(D$1,'Delivery Template'!$A$1:$Z$1,0))="","",INDEX('Delivery Template'!$A$1:$Z$500,ROW(),MATCH(D$1,'Delivery Template'!$A$1:$Z$1,0))) | E2: =IF(INDEX('Delivery Template'!$A$1:$Z$500,ROW(),MATCH(E$1,'Delivery Template'!$A$1:$Z$1,0))="","",INDEX('Delivery Template'!$A$1:$Z$500,ROW(),MATCH(E$1,'Delivery Template'!$A$1:$Z$1,0))) | F2: =IF(INDEX('Delivery Template'!$A$1:$Z$500,ROW(),MATCH(F$1,'Delivery Template'!$A$1:$Z$1,0))="","",INDEX('Delivery Template'!$A$1:$Z$500,ROW(),MATCH(F$1,'Delivery Template'!$A$1:$Z$1,0))) | G2: =IF(INDEX('Delivery Template'!$A$1:$Z$500,ROW(),MATCH(G$1,'Delivery Template'!$A$1:$Z$1,0))="","",INDEX('Delivery Template'!$A$1:$Z$500,ROW(),MATCH(G$1,'Delivery Template'!$A$1:$Z$1,0))) | H2: =IF(INDEX('Delivery Template'!$A$1:$Z$500,ROW(),MATCH(H$1,'Delivery Template'!$A$1:$Z$1,0))="","",INDEX('Delivery Template'!$A$1:$Z$500,ROW(),MATCH(H$1,'Delivery Template'!$A$1:$Z$1,0))) | I2: =IF(INDEX('Delivery Template'!$A$1:$Z$500,ROW(),MATCH(I$1,'Delivery Template'!$A$1:$Z$1,0))="","",INDEX('Delivery Template'!$A$1:$Z$500,ROW(),MATCH(I$1,'Delivery Template'!$A$1:$Z$1,0))) | J2: =IF(INDEX('Delivery Template'!$A$1:$Z$500,ROW(),MATCH(J$1,'Delivery Template'!$A$1:$Z$1,0))="","",INDEX('Delivery Template'!$A$1:$Z$500,ROW(),MATCH(J$1,'Delivery Template'!$A$1:$Z$1,0))) | K2: =IF(INDEX('Delivery Template'!$A$1:$Z$500,ROW(),MATCH(K$1,'Delivery Template'!$A$1:$Z$1,0))="","",INDEX('Delivery Template'!$A$1:$Z$500,ROW(),MATCH(K$1,'Delivery Template'!$A$1:$Z$1,0))) | L2: =IF(INDEX('Delivery Template'!$A$1:$Z$500,ROW(),MATCH("Quantity",'Delivery Template'!$A$1:$Z$1,0))<2,"",INDEX('Delivery Template'!$A$1:$Z$500,ROW(),MATCH("Quantity",'Delivery Template'!$A$1:$Z$1,0))&" ")&IF(INDEX('Delivery Template'!$A$1:$Z$500,ROW(),MATCH("Gift Type (select from drop-down menu)",'Delivery Template'!$A$1:$Z$1,0))="","",VLOOKUP(INDEX('Delivery Template'!$A$1:$Z$500,ROW(),MATCH("Gift Type (select from drop-down menu)",'Delivery Template'!$A$1:$Z$1,0)),$A$22:$B$33,2,FALSE))&IF(INDEX('Delivery Template'!$A$1:$Z$500,ROW(),MATCH("Quantity",'Delivery Template'!$A$1:$Z$1,0))<2,"",VLOOKUP(INDEX('Delivery Template'!$A$1:$Z$500,ROW(),MATCH("Gift Type (select from drop-down menu)",'Delivery Template'!$A$1:$Z$1,0)),$A$22:$D$33,3,FALSE))
A3: Assortment - No Nuts | D3: =IF(INDEX('Delivery Template'!$A$1:$Z$500,ROW(),MATCH(D$1,'Delivery Template'!$A$1:$Z$1,0))="","",INDEX('Delivery Template'!$A$1:$Z$500,ROW(),MATCH(D$1,'Delivery Template'!$A$1:$Z$1,0))) | E3: =IF(INDEX('Delivery Template'!$A$1:$Z$500,ROW(),MATCH(E$1,'Delivery Template'!$A$1:$Z$1,0))="","",INDEX('Delivery Template'!$A$1:$Z$500,ROW(),MATCH(E$1,'Delivery Template'!$A$1:$Z$1,0))) | F3: =IF(INDEX('Delivery Template'!$A$1:$Z$500,ROW(),MATCH(F$1,'Delivery Template'!$A$1:$Z$1,0))="","",INDEX('Delivery Template'!$A$1:$Z$500,ROW(),MATCH(F$1,'Delivery Template'!$A$1:$Z$1,0))) | G3: =IF(INDEX('Delivery Template'!$A$1:$Z$500,ROW(),MATCH(G$1,'Delivery Template'!$A$1:$Z$1,0))="","",INDEX('Delivery Template'!$A$1:$Z$500,ROW(),MATCH(G$1,'Delivery Template'!$A$1:$Z$1,0))) | H3: =IF(INDEX('Delivery Template'!$A$1:$Z$500,ROW(),MATCH(H$1,'Delivery Template'!$A$1:$Z$1,0))="","",INDEX('Delivery Template'!$A$1:$Z$500,ROW(),MATCH(H$1,'Delivery Template'!$A$1:$Z$1,0))) | I3: =IF(INDEX('Delivery Template'!$A$1:$Z$500,ROW(),MATCH(I$1,'Delivery Template'!$A$1:$Z$1,0))="","",INDEX('Delivery Template'!$A$1:$Z$500,ROW(),MATCH(I$1,'Delivery Template'!$A$1:$Z$1,0))) | J3: =IF(INDEX('Delivery Template'!$A$1:$Z$500,ROW(),MATCH(J$1,'Delivery Template'!$A$1:$Z$1,0))="","",INDEX('Delivery Template'!$A$1:$Z$500,ROW(),MATCH(J$1,'Delivery Template'!$A$1:$Z$1,0))) | K3: =IF(INDEX('Delivery Template'!$A$1:$Z$500,ROW(),MATCH(K$1,'Delivery Template'!$A$1:$Z$1,0))="","",INDEX('Delivery Template'!$A$1:$Z$500,ROW(),MATCH(K$1,'Delivery Template'!$A$1:$Z$1,0))) | L3: =IF(INDEX('Delivery Template'!$A$1:$Z$500,ROW(),MATCH("Quantity",'Delivery Template'!$A$1:$Z$1,0))<2,"",INDEX('Delivery Template'!$A$1:$Z$500,ROW(),MATCH("Quantity",'Delivery Template'!$A$1:$Z$1,0))&" ")&IF(INDEX('Delivery Template'!$A$1:$Z$500,ROW(),MATCH("Gift Type (select from drop-down menu)",'Delivery Template'!$A$1:$Z$1,0))="","",VLOOKUP(INDEX('Delivery Template'!$A$1:$Z$500,ROW(),MATCH("Gift Type (select from drop-down menu)",'Delivery Template'!$A$1:$Z$1,0)),$A$22:$B$33,2,FALSE))&IF(INDEX('Delivery Template'!$A$1:$Z$500,ROW(),MATCH("Quantity",'Delivery Template'!$A$1:$Z$1,0))<2,"",VLOOKUP(INDEX('Delivery Template'!$A$1:$Z$500,ROW(),MATCH("Gift Type (select from drop-down menu)",'Delivery Template'!$A$1:$Z$1,0)),$A$22:$D$33,3,FALSE))
A4: Other (include selection in Additional order information) | D4: =IF(INDEX('Delivery Template'!$A$1:$Z$500,ROW(),MATCH(D$1,'Delivery Template'!$A$1:$Z$1,0))="","",INDEX('Delivery Template'!$A$1:$Z$500,ROW(),MATCH(D$1,'Delivery Template'!$A$1:$Z$1,0))) | E4: =IF(INDEX('Delivery Template'!$A$1:$Z$500,ROW(),MATCH(E$1,'Delivery Template'!$A$1:$Z$1,0))="","",INDEX('Delivery Template'!$A$1:$Z$500,ROW(),MATCH(E$1,'Delivery Template'!$A$1:$Z$1,0))) | F4: =IF(INDEX('Delivery Template'!$A$1:$Z$500,ROW(),MATCH(F$1,'Delivery Template'!$A$1:$Z$1,0))="","",INDEX('Delivery Template'!$A$1:$Z$500,ROW(),MATCH(F$1,'Delivery Template'!$A$1:$Z$1,0))) | G4: =IF(INDEX('Delivery Template'!$A$1:$Z$500,ROW(),MATCH(G$1,'Delivery Template'!$A$1:$Z$1,0))="","",INDEX('Delivery Template'!$A$1:$Z$500,ROW(),MATCH(G$1,'Delivery Template'!$A$1:$Z$1,0))) | H4: =IF(INDEX('Delivery Template'!$A$1:$Z$500,ROW(),MATCH(H$1,'Delivery Template'!$A$1:$Z$1,0))="","",INDEX('Delivery Template'!$A$1:$Z$500,ROW(),MATCH(H$1,'Delivery Template'!$A$1:$Z$1,0))) | I4: =IF(INDEX('Delivery Template'!$A$1:$Z$500,ROW(),MATCH(I$1,'Delivery Template'!$A$1:$Z$1,0))="","",INDEX('Delivery Template'!$A$1:$Z$500,ROW(),MATCH(I$1,'Delivery Template'!$A$1:$Z$1,0))) | J4: =IF(INDEX('Delivery Template'!$A$1:$Z$500,ROW(),MATCH(J$1,'Delivery Template'!$A$1:$Z$1,0))="","",INDEX('Delivery Template'!$A$1:$Z$500,ROW(),MATCH(J$1,'Delivery Template'!$A$1:$Z$1,0))) | K4: =IF(INDEX('Delivery Template'!$A$1:$Z$500,ROW(),MATCH(K$1,'Delivery Template'!$A$1:$Z$1,0))="","",INDEX('Delivery Template'!$A$1:$Z$500,ROW(),MATCH(K$1,'Delivery Template'!$A$1:$Z$1,0))) | L4: =IF(INDEX('Delivery Template'!$A$1:$Z$500,ROW(),MATCH("Quantity",'Delivery Template'!$A$1:$Z$1,0))<2,"",INDEX('Delivery Template'!$A$1:$Z$500,ROW(),MATCH("Quantity",'Delivery Template'!$A$1:$Z$1,0))&" ")&IF(INDEX('Delivery Template'!$A$1:$Z$500,ROW(),MATCH("Gift Type (select from drop-down menu)",'Delivery Template'!$A$1:$Z$1,0))="","",VLOOKUP(INDEX('Delivery Template'!$A$1:$Z$500,ROW(),MATCH("Gift Type (select from drop-down menu)",'Delivery Template'!$A$1:$Z$1,0)),$A$22:$B$33,2,FALSE))&IF(INDEX('Delivery Template'!$A$1:$Z$500,ROW(),MATCH("Quantity",'Delivery Template'!$A$1:$Z$1,0))<2,"",VLOOKUP(INDEX('Delivery Template'!$A$1:$Z$500,ROW(),MATCH("Gift Type (select from drop-down menu)",'Delivery Template'!$A$1:$Z$1,0)),$A$22:$D$33,3,FALSE))
D5: =IF(INDEX('Delivery Template'!$A$1:$Z$500,ROW(),MATCH(D$1,'Delivery Template'!$A$1:$Z$1,0))="","",INDEX('Delivery Template'!$A$1:$Z$500,ROW(),MATCH(D$1,'Delivery Template'!$A$1:$Z$1,0))) | E5: =IF(INDEX('Delivery Template'!$A$1:$Z$500,ROW(),MATCH(E$1,'Delivery Template'!$A$1:$Z$1,0))="","",INDEX('Delivery Template'!$A$1:$Z$500,ROW(),MATCH(E$1,'Delivery Template'!$A$1:$Z$1,0))) | F5: =IF(INDEX('Delivery Template'!$A$1:$Z$500,ROW(),MATCH(F$1,'Delivery Template'!$A$1:$Z$1,0))="","",INDEX('Delivery Template'!$A$1:$Z$500,ROW(),MATCH(F$1,'Delivery Template'!$A$1:$Z$1,0))) | G5: =IF(INDEX('Delivery Template'!$A$1:$Z$500,ROW(),MATCH(G$1,'Delivery Template'!$A$1:$Z$1,0))="","",INDEX('Delivery Template'!$A$1:$Z$500,ROW(),MATCH(G$1,'Delivery Template'!$A$1:$Z$1,0))) | H5: =IF(INDEX('Delivery Template'!$A$1:$Z$500,ROW(),MATCH(H$1,'Delivery Template'!$A$1:$Z$1,0))="","",INDEX('Delivery Template'!$A$1:$Z$500,ROW(),MATCH(H$1,'Delivery Template'!$A$1:$Z$1,0))) | I5: =IF(INDEX('Delivery Template'!$A$1:$Z$500,ROW(),MATCH(I$1,'Delivery Template'!$A$1:$Z$1,0))="","",INDEX('Delivery Template'!$A$1:$Z$500,ROW(),MATCH(I$1,'Delivery Template'!$A$1:$Z$1,0))) | J5: =IF(INDEX('Delivery Template'!$A$1:$Z$500,ROW(),MATCH(J$1,'Delivery Template'!$A$1:$Z$1,0))="","",INDEX('Delivery Template'!$A$1:$Z$500,ROW(),MATCH(J$1,'Delivery Template'!$A$1:$Z$1,0))) | K5: =IF(INDEX('Delivery Template'!$A$1:$Z$500,ROW(),MATCH(K$1,'Delivery Template'!$A$1:$Z$1,0))="","",INDEX('Delivery Template'!$A$1:$Z$500,ROW(),MATCH(K$1,'Delivery Template'!$A$1:$Z$1,0))) | L5: =IF(INDEX('Delivery Template'!$A$1:$Z$500,ROW(),MATCH("Quantity",'Delivery Template'!$A$1:$Z$1,0))<2,"",INDEX('Delivery Template'!$A$1:$Z$500,ROW(),MATCH("Quantity",'Delivery Template'!$A$1:$Z$1,0))&" ")&IF(INDEX('Delivery Template'!$A$1:$Z$500,ROW(),MATCH("Gift Type (select from drop-down menu)",'Delivery Template'!$A$1:$Z$1,0))="","",VLOOKUP(INDEX('Delivery Template'!$A$1:$Z$500,ROW(),MATCH("Gift Type (select from drop-down menu)",'Delivery Template'!$A$1:$Z$1,0)),$A$22:$B$33,2,FALSE))&IF(INDEX('Delivery Template'!$A$1:$Z$500,ROW(),MATCH("Quantity",'Delivery Template'!$A$1:$Z$1,0))<2,"",VLOOKUP(INDEX('Delivery Template'!$A$1:$Z$500,ROW(),MATCH("Gift Type (select from drop-down menu)",'Delivery Template'!$A$1:$Z$1,0)),$A$22:$D$33,3,FALSE))
A6: (Choose your gift tag from the drop-down list) | D6: =IF(INDEX('Delivery Template'!$A$1:$Z$500,ROW(),MATCH(D$1,'Delivery Template'!$A$1:$Z$1,0))="","",INDEX('Delivery Template'!$A$1:$Z$500,ROW(),MATCH(D$1,'Delivery Template'!$A$1:$Z$1,0))) | E6: =IF(INDEX('Delivery Template'!$A$1:$Z$500,ROW(),MATCH(E$1,'Delivery Template'!$A$1:$Z$1,0))="","",INDEX('Delivery Template'!$A$1:$Z$500,ROW(),MATCH(E$1,'Delivery Template'!$A$1:$Z$1,0))) | F6: =IF(INDEX('Delivery Template'!$A$1:$Z$500,ROW(),MATCH(F$1,'Delivery Template'!$A$1:$Z$1,0))="","",INDEX('Delivery Template'!$A$1:$Z$500,ROW(),MATCH(F$1,'Delivery Template'!$A$1:$Z$1,0))) | G6: =IF(INDEX('Delivery Template'!$A$1:$Z$500,ROW(),MATCH(G$1,'Delivery Template'!$A$1:$Z$1,0))="","",INDEX('Delivery Template'!$A$1:$Z$500,ROW(),MATCH(G$1,'Delivery Template'!$A$1:$Z$1,0))) | H6: =IF(INDEX('Delivery Template'!$A$1:$Z$500,ROW(),MATCH(H$1,'Delivery Template'!$A$1:$Z$1,0))="","",INDEX('Delivery Template'!$A$1:$Z$500,ROW(),MATCH(H$1,'Delivery Template'!$A$1:$Z$1,0))) | I6: =IF(INDEX('Delivery Template'!$A$1:$Z$500,ROW(),MATCH(I$1,'Delivery Template'!$A$1:$Z$1,0))="","",INDEX('Delivery Template'!$A$1:$Z$500,ROW(),MATCH(I$1,'Delivery Template'!$A$1:$Z$1,0))) | J6: =IF(INDEX('Delivery Template'!$A$1:$Z$500,ROW(),MATCH(J$1,'Delivery Template'!$A$1:$Z$1,0))="","",INDEX('Delivery Template'!$A$1:$Z$500,ROW(),MATCH(J$1,'Delivery Template'!$A$1:$Z$1,0))) | K6: =IF(INDEX('Delivery Template'!$A$1:$Z$500,ROW(),MATCH(K$1,'Delivery Template'!$A$1:$Z$1,0))="","",INDEX('Delivery Template'!$A$1:$Z$500,ROW(),MATCH(K$1,'Delivery Template'!$A$1:$Z$1,0))) | L6: =IF(INDEX('Delivery Template'!$A$1:$Z$500,ROW(),MATCH("Quantity",'Delivery Template'!$A$1:$Z$1,0))<2,"",INDEX('Delivery Template'!$A$1:$Z$500,ROW(),MATCH("Quantity",'Delivery Template'!$A$1:$Z$1,0))&" ")&IF(INDEX('Delivery Template'!$A$1:$Z$500,ROW(),MATCH("Gift Type (select from drop-down menu)",'Delivery Template'!$A$1:$Z$1,0))="","",VLOOKUP(INDEX('Delivery Template'!$A$1:$Z$500,ROW(),MATCH("Gift Type (select from drop-down menu)",'Delivery Template'!$A$1:$Z$1,0)),$A$22:$B$33,2,FALSE))&IF(INDEX('Delivery Template'!$A$1:$Z$500,ROW(),MATCH("Quantity",'Delivery Template'!$A$1:$Z$1,0))<2,"",VLOOKUP(INDEX('Delivery Template'!$A$1:$Z$500,ROW(),MATCH("Gift Type (select from drop-down menu)",'Delivery Template'!$A$1:$Z$1,0)),$A$22:$D$33,3,FALSE))
A7: None | D7: =IF(INDEX('Delivery Template'!$A$1:$Z$500,ROW(),MATCH(D$1,'Delivery Template'!$A$1:$Z$1,0))="","",INDEX('Delivery Template'!$A$1:$Z$500,ROW(),MATCH(D$1,'Delivery Template'!$A$1:$Z$1,0))) | E7: =IF(INDEX('Delivery Template'!$A$1:$Z$500,ROW(),MATCH(E$1,'Delivery Template'!$A$1:$Z$1,0))="","",INDEX('Delivery Template'!$A$1:$Z$500,ROW(),MATCH(E$1,'Delivery Template'!$A$1:$Z$1,0))) | F7: =IF(INDEX('Delivery Template'!$A$1:$Z$500,ROW(),MATCH(F$1,'Delivery Template'!$A$1:$Z$1,0))="","",INDEX('Delivery Template'!$A$1:$Z$500,ROW(),MATCH(F$1,'Delivery Template'!$A$1:$Z$1,0))) | G7: =IF(INDEX('Delivery Template'!$A$1:$Z$500,ROW(),MATCH(G$1,'Delivery Template'!$A$1:$Z$1,0))="","",INDEX('Delivery Template'!$A$1:$Z$500,ROW(),MATCH(G$1,'Delivery Template'!$A$1:$Z$1,0))) | H7: =IF(INDEX('Delivery Template'!$A$1:$Z$500,ROW(),MATCH(H$1,'Delivery Template'!$A$1:$Z$1,0))="","",INDEX('Delivery Template'!$A$1:$Z$500,ROW(),MATCH(H$1,'Delivery Template'!$A$1:$Z$1,0))) | I7: =IF(INDEX('Delivery Template'!$A$1:$Z$500,ROW(),MATCH(I$1,'Delivery Template'!$A$1:$Z$1,0))="","",INDEX('Delivery Template'!$A$1:$Z$500,ROW(),MATCH(I$1,'Delivery Template'!$A$1:$Z$1,0))) | J7: =IF(INDEX('Delivery Template'!$A$1:$Z$500,ROW(),MATCH(J$1,'Delivery Template'!$A$1:$Z$1,0))="","",INDEX('Delivery Template'!$A$1:$Z$500,ROW(),MATCH(J$1,'Delivery Template'!$A$1:$Z$1,0))) | K7: =IF(INDEX('Delivery Template'!$A$1:$Z$500,ROW(),MATCH(K$1,'Delivery Template'!$A$1:$Z$1,0))="","",INDEX('Delivery Template'!$A$1:$Z$500,ROW(),MATCH(K$1,'Delivery Template'!$A$1:$Z$1,0))) | L7: =IF(INDEX('Delivery Template'!$A$1:$Z$500,ROW(),MATCH("Quantity",'Delivery Template'!$A$1:$Z$1,0))<2,"",INDEX('Delivery Template'!$A$1:$Z$500,ROW(),MATCH("Quantity",'Delivery Template'!$A$1:$Z$1,0))&" ")&IF(INDEX('Delivery Template'!$A$1:$Z$500,ROW(),MATCH("Gift Type (select from drop-down menu)",'Delivery Template'!$A$1:$Z$1,0))="","",VLOOKUP(INDEX('Delivery Template'!$A$1:$Z$500,ROW(),MATCH("Gift Type (select from drop-down menu)",'Delivery Template'!$A$1:$Z$1,0)),$A$22:$B$33,2,FALSE))&IF(INDEX('Delivery Template'!$A$1:$Z$500,ROW(),MATCH("Quantity",'Delivery Template'!$A$1:$Z$1,0))<2,"",VLOOKUP(INDEX('Delivery Template'!$A$1:$Z$500,ROW(),MATCH("Gift Type (select from drop-down menu)",'Delivery Template'!$A$1:$Z$1,0)),$A$22:$D$33,3,FALSE))
A8: "Because You Can't Eat Flowers" | D8: =IF(INDEX('Delivery Template'!$A$1:$Z$500,ROW(),MATCH(D$1,'Delivery Template'!$A$1:$Z$1,0))="","",INDEX('Delivery Template'!$A$1:$Z$500,ROW(),MATCH(D$1,'Delivery Template'!$A$1:$Z$1,0))) | E8: =IF(INDEX('Delivery Template'!$A$1:$Z$500,ROW(),MATCH(E$1,'Delivery Template'!$A$1:$Z$1,0))="","",INDEX('Delivery Template'!$A$1:$Z$500,ROW(),MATCH(E$1,'Delivery Template'!$A$1:$Z$1,0))) | F8: =IF(INDEX('Delivery Template'!$A$1:$Z$500,ROW(),MATCH(F$1,'Delivery Template'!$A$1:$Z$1,0))="","",INDEX('Delivery Template'!$A$1:$Z$500,ROW(),MATCH(F$1,'Delivery Template'!$A$1:$Z$1,0))) | G8: =IF(INDEX('Delivery Template'!$A$1:$Z$500,ROW(),MATCH(G$1,'Delivery Template'!$A$1:$Z$1,0))="","",INDEX('Delivery Template'!$A$1:$Z$500,ROW(),MATCH(G$1,'Delivery Template'!$A$1:$Z$1,0))) | H8: =IF(INDEX('Delivery Template'!$A$1:$Z$500,ROW(),MATCH(H$1,'Delivery Template'!$A$1:$Z$1,0))="","",INDEX('Delivery Template'!$A$1:$Z$500,ROW(),MATCH(H$1,'Delivery Template'!$A$1:$Z$1,0))) | I8: =IF(INDEX('Delivery Template'!$A$1:$Z$500,ROW(),MATCH(I$1,'Delivery Template'!$A$1:$Z$1,0))="","",INDEX('Delivery Template'!$A$1:$Z$500,ROW(),MATCH(I$1,'Delivery Template'!$A$1:$Z$1,0))) | J8: =IF(INDEX('Delivery Template'!$A$1:$Z$500,ROW(),MATCH(J$1,'Delivery Template'!$A$1:$Z$1,0))="","",INDEX('Delivery Template'!$A$1:$Z$500,ROW(),MATCH(J$1,'Delivery Template'!$A$1:$Z$1,0))) | K8: =IF(INDEX('Delivery Template'!$A$1:$Z$500,ROW(),MATCH(K$1,'Delivery Template'!$A$1:$Z$1,0))="","",INDEX('Delivery Template'!$A$1:$Z$500,ROW(),MATCH(K$1,'Delivery Template'!$A$1:$Z$1,0))) | L8: =IF(INDEX('Delivery Template'!$A$1:$Z$500,ROW(),MATCH("Quantity",'Delivery Template'!$A$1:$Z$1,0))<2,"",INDEX('Delivery Template'!$A$1:$Z$500,ROW(),MATCH("Quantity",'Delivery Template'!$A$1:$Z$1,0))&" ")&IF(INDEX('Delivery Template'!$A$1:$Z$500,ROW(),MATCH("Gift Type (select from drop-down menu)",'Delivery Template'!$A$1:$Z$1,0))="","",VLOOKUP(INDEX('Delivery Template'!$A$1:$Z$500,ROW(),MATCH("Gift Type (select from drop-down menu)",'Delivery Template'!$A$1:$Z$1,0)),$A$22:$B$33,2,FALSE))&IF(INDEX('Delivery Template'!$A$1:$Z$500,ROW(),MATCH("Quantity",'Delivery Template'!$A$1:$Z$1,0))<2,"",VLOOKUP(INDEX('Delivery Template'!$A$1:$Z$500,ROW(),MATCH("Gift Type (select from drop-down menu)",'Delivery Template'!$A$1:$Z$1,0)),$A$22:$D$33,3,FALSE))
A9: "Because You Deserve The Best" | D9: =IF(INDEX('Delivery Template'!$A$1:$Z$500,ROW(),MATCH(D$1,'Delivery Template'!$A$1:$Z$1,0))="","",INDEX('Delivery Template'!$A$1:$Z$500,ROW(),MATCH(D$1,'Delivery Template'!$A$1:$Z$1,0))) | E9: =IF(INDEX('Delivery Template'!$A$1:$Z$500,ROW(),MATCH(E$1,'Delivery Template'!$A$1:$Z$1,0))="","",INDEX('Delivery Template'!$A$1:$Z$500,ROW(),MATCH(E$1,'Delivery Template'!$A$1:$Z$1,0))) | F9: =IF(INDEX('Delivery Template'!$A$1:$Z$500,ROW(),MATCH(F$1,'Delivery Template'!$A$1:$Z$1,0))="","",INDEX('Delivery Template'!$A$1:$Z$500,ROW(),MATCH(F$1,'Delivery Template'!$A$1:$Z$1,0))) | G9: =IF(INDEX('Delivery Template'!$A$1:$Z$500,ROW(),MATCH(G$1,'Delivery Template'!$A$1:$Z$1,0))="","",INDEX('Delivery Template'!$A$1:$Z$500,ROW(),MATCH(G$1,'Delivery Template'!$A$1:$Z$1,0))) | H9: =IF(INDEX('Delivery Template'!$A$1:$Z$500,ROW(),MATCH(H$1,'Delivery Template'!$A$1:$Z$1,0))="","",INDEX('Delivery Template'!$A$1:$Z$500,ROW(),MATCH(H$1,'Delivery Template'!$A$1:$Z$1,0))) | I9: =IF(INDEX('Delivery Template'!$A$1:$Z$500,ROW(),MATCH(I$1,'Delivery Template'!$A$1:$Z$1,0))="","",INDEX('Delivery Template'!$A$1:$Z$500,ROW(),MATCH(I$1,'Delivery Template'!$A$1:$Z$1,0))) | J9: =IF(INDEX('Delivery Template'!$A$1:$Z$500,ROW(),MATCH(J$1,'Delivery Template'!$A$1:$Z$1,0))="","",INDEX('Delivery Template'!$A$1:$Z$500,ROW(),MATCH(J$1,'Delivery Template'!$A$1:$Z$1,0))) | K9: =IF(INDEX('Delivery Template'!$A$1:$Z$500,ROW(),MATCH(K$1,'Delivery Template'!$A$1:$Z$1,0))="","",INDEX('Delivery Template'!$A$1:$Z$500,ROW(),MATCH(K$1,'Delivery Template'!$A$1:$Z$1,0))) | L9: =IF(INDEX('Delivery Template'!$A$1:$Z$500,ROW(),MATCH("Quantity",'Delivery Template'!$A$1:$Z$1,0))<2,"",INDEX('Delivery Template'!$A$1:$Z$500,ROW(),MATCH("Quantity",'Delivery Template'!$A$1:$Z$1,0))&" ")&IF(INDEX('Delivery Template'!$A$1:$Z$500,ROW(),MATCH("Gift Type (select from drop-down menu)",'Delivery Template'!$A$1:$Z$1,0))="","",VLOOKUP(INDEX('Delivery Template'!$A$1:$Z$500,ROW(),MATCH("Gift Type (select from drop-down menu)",'Delivery Template'!$A$1:$Z$1,0)),$A$22:$B$33,2,FALSE))&IF(INDEX('Delivery Template'!$A$1:$Z$500,ROW(),MATCH("Quantity",'Delivery Template'!$A$1:$Z$1,0))<2,"",VLOOKUP(INDEX('Delivery Template'!$A$1:$Z$500,ROW(),MATCH("Gift Type (select from drop-down menu)",'Delivery Template'!$A$1:$Z$1,0)),$A$22:$D$33,3,FALSE))
A10: "Celebrate" | D10: =IF(INDEX('Delivery Template'!$A$1:$Z$500,ROW(),MATCH(D$1,'Delivery Template'!$A$1:$Z$1,0))="","",INDEX('Delivery Template'!$A$1:$Z$500,ROW(),MATCH(D$1,'Delivery Template'!$A$1:$Z$1,0))) | E10: =IF(INDEX('Delivery Template'!$A$1:$Z$500,ROW(),MATCH(E$1,'Delivery Template'!$A$1:$Z$1,0))="","",INDEX('Delivery Template'!$A$1:$Z$500,ROW(),MATCH(E$1,'Delivery Template'!$A$1:$Z$1,0))) | F10: =IF(INDEX('Delivery Template'!$A$1:$Z$500,ROW(),MATCH(F$1,'Delivery Template'!$A$1:$Z$1,0))="","",INDEX('Delivery Template'!$A$1:$Z$500,ROW(),MATCH(F$1,'Delivery Template'!$A$1:$Z$1,0))) | G10: =IF(INDEX('Delivery Template'!$A$1:$Z$500,ROW(),MATCH(G$1,'Delivery Template'!$A$1:$Z$1,0))="","",INDEX('Delivery Template'!$A$1:$Z$500,ROW(),MATCH(G$1,'Delivery Template'!$A$1:$Z$1,0))) | H10: =IF(INDEX('Delivery Template'!$A$1:$Z$500,ROW(),MATCH(H$1,'Delivery Template'!$A$1:$Z$1,0))="","",INDEX('Delivery Template'!$A$1:$Z$500,ROW(),MATCH(H$1,'Delivery Template'!$A$1:$Z$1,0))) | I10: =IF(INDEX('Delivery Template'!$A$1:$Z$500,ROW(),MATCH(I$1,'Delivery Template'!$A$1:$Z$1,0))="","",INDEX('Delivery Template'!$A$1:$Z$500,ROW(),MATCH(I$1,'Delivery Template'!$A$1:$Z$1,0))) | J10: =IF(INDEX('Delivery Template'!$A$1:$Z$500,ROW(),MATCH(J$1,'Delivery Template'!$A$1:$Z$1,0))="","",INDEX('Delivery Template'!$A$1:$Z$500,ROW(),MATCH(J$1,'Delivery Template'!$A$1:$Z$1,0))) | K10: =IF(INDEX('Delivery Template'!$A$1:$Z$500,ROW(),MATCH(K$1,'Delivery Template'!$A$1:$Z$1,0))="","",INDEX('Delivery Template'!$A$1:$Z$500,ROW(),MATCH(K$1,'Delivery Template'!$A$1:$Z$1,0))) | L10: =IF(INDEX('Delivery Template'!$A$1:$Z$500,ROW(),MATCH("Quantity",'Delivery Template'!$A$1:$Z$1,0))<2,"",INDEX('Delivery Template'!$A$1:$Z$500,ROW(),MATCH("Quantity",'Delivery Template'!$A$1:$Z$1,0))&" ")&IF(INDEX('Delivery Template'!$A$1:$Z$500,ROW(),MATCH("Gift Type (select from drop-down menu)",'Delivery Template'!$A$1:$Z$1,0))="","",VLOOKUP(INDEX('Delivery Template'!$A$1:$Z$500,ROW(),MATCH("Gift Type (select from drop-down menu)",'Delivery Template'!$A$1:$Z$1,0)),$A$22:$B$33,2,FALSE))&IF(INDEX('Delivery Template'!$A$1:$Z$500,ROW(),MATCH("Quantity",'Delivery Template'!$A$1:$Z$1,0))<2,"",VLOOKUP(INDEX('Delivery Template'!$A$1:$Z$500,ROW(),MATCH("Gift Type (select from drop-down menu)",'Delivery Template'!$A$1:$Z$1,0)),$A$22:$D$33,3,FALSE))
A11: "Cookies By George" | D11: =IF(INDEX('Delivery Template'!$A$1:$Z$500,ROW(),MATCH(D$1,'Delivery Template'!$A$1:$Z$1,0))="","",INDEX('Delivery Template'!$A$1:$Z$500,ROW(),MATCH(D$1,'Delivery Template'!$A$1:$Z$1,0))) | E11: =IF(INDEX('Delivery Template'!$A$1:$Z$500,ROW(),MATCH(E$1,'Delivery Template'!$A$1:$Z$1,0))="","",INDEX('Delivery Template'!$A$1:$Z$500,ROW(),MATCH(E$1,'Delivery Template'!$A$1:$Z$1,0))) | F11: =IF(INDEX('Delivery Template'!$A$1:$Z$500,ROW(),MATCH(F$1,'Delivery Template'!$A$1:$Z$1,0))="","",INDEX('Delivery Template'!$A$1:$Z$500,ROW(),MATCH(F$1,'Delivery Template'!$A$1:$Z$1,0))) | G11: =IF(INDEX('Delivery Template'!$A$1:$Z$500,ROW(),MATCH(G$1,'Delivery Template'!$A$1:$Z$1,0))="","",INDEX('Delivery Template'!$A$1:$Z$500,ROW(),MATCH(G$1,'Delivery Template'!$A$1:$Z$1,0))) | H11: =IF(INDEX('Delivery Template'!$A$1:$Z$500,ROW(),MATCH(H$1,'Delivery Template'!$A$1:$Z$1,0))="","",INDEX('Delivery Template'!$A$1:$Z$500,ROW(),MATCH(H$1,'Delivery Template'!$A$1:$Z$1,0))) | I11: =IF(INDEX('Delivery Template'!$A$1:$Z$500,ROW(),MATCH(I$1,'Delivery Template'!$A$1:$Z$1,0))="","",INDEX('Delivery Template'!$A$1:$Z$500,ROW(),MATCH(I$1,'Delivery Template'!$A$1:$Z$1,0))) | J11: =IF(INDEX('Delivery Template'!$A$1:$Z$500,ROW(),MATCH(J$1,'Delivery Template'!$A$1:$Z$1,0))="","",INDEX('Delivery Template'!$A$1:$Z$500,ROW(),MATCH(J$1,'Delivery Template'!$A$1:$Z$1,0))) | K11: =IF(INDEX('Delivery Template'!$A$1:$Z$500,ROW(),MATCH(K$1,'Delivery Template'!$A$1:$Z$1,0))="","",INDEX('Delivery Template'!$A$1:$Z$500,ROW(),MATCH(K$1,'Delivery Template'!$A$1:$Z$1,0))) | L11: =IF(INDEX('Delivery Template'!$A$1:$Z$500,ROW(),MATCH("Quantity",'Delivery Template'!$A$1:$Z$1,0))<2,"",INDEX('Delivery Template'!$A$1:$Z$500,ROW(),MATCH("Quantity",'Delivery Template'!$A$1:$Z$1,0))&" ")&IF(INDEX('Delivery Template'!$A$1:$Z$500,ROW(),MATCH("Gift Type (select from drop-down menu)",'Delivery Template'!$A$1:$Z$1,0))="","",VLOOKUP(INDEX('Delivery Template'!$A$1:$Z$500,ROW(),MATCH("Gift Type (select from drop-down menu)",'Delivery Template'!$A$1:$Z$1,0)),$A$22:$B$33,2,FALSE))&IF(INDEX('Delivery Template'!$A$1:$Z$500,ROW(),MATCH("Quantity",'Delivery Template'!$A$1:$Z$1,0))<2,"",VLOOKUP(INDEX('Delivery Template'!$A$1:$Z$500,ROW(),MATCH("Gift Type (select from drop-down menu)",'Delivery Template'!$A$1:$Z$1,0)),$A$22:$D$33,3,FALSE))
A12: "Congratulations" | D12: =IF(INDEX('Delivery Template'!$A$1:$Z$500,ROW(),MATCH(D$1,'Delivery Template'!$A$1:$Z$1,0))="","",INDEX('Delivery Template'!$A$1:$Z$500,ROW(),MATCH(D$1,'Delivery Template'!$A$1:$Z$1,0))) | E12: =IF(INDEX('Delivery Template'!$A$1:$Z$500,ROW(),MATCH(E$1,'Delivery Template'!$A$1:$Z$1,0))="","",INDEX('Delivery Template'!$A$1:$Z$500,ROW(),MATCH(E$1,'Delivery Template'!$A$1:$Z$1,0))) | F12: =IF(INDEX('Delivery Template'!$A$1:$Z$500,ROW(),MATCH(F$1,'Delivery Template'!$A$1:$Z$1,0))="","",INDEX('Delivery Template'!$A$1:$Z$500,ROW(),MATCH(F$1,'Delivery Template'!$A$1:$Z$1,0))) | G12: =IF(INDEX('Delivery Template'!$A$1:$Z$500,ROW(),MATCH(G$1,'Delivery Template'!$A$1:$Z$1,0))="","",INDEX('Delivery Template'!$A$1:$Z$500,ROW(),MATCH(G$1,'Delivery Template'!$A$1:$Z$1,0))) | H12: =IF(INDEX('Delivery Template'!$A$1:$Z$500,ROW(),MATCH(H$1,'Delivery Template'!$A$1:$Z$1,0))="","",INDEX('Delivery Template'!$A$1:$Z$500,ROW(),MATCH(H$1,'Delivery Template'!$A$1:$Z$1,0))) | I12: =IF(INDEX('Delivery Template'!$A$1:$Z$500,ROW(),MATCH(I$1,'Delivery Template'!$A$1:$Z$1,0))="","",INDEX('Delivery Template'!$A$1:$Z$500,ROW(),MATCH(I$1,'Delivery Template'!$A$1:$Z$1,0))) | J12: =IF(INDEX('Delivery Template'!$A$1:$Z$500,ROW(),MATCH(J$1,'Delivery Template'!$A$1:$Z$1,0))="","",INDEX('Delivery Template'!$A$1:$Z$500,ROW(),MATCH(J$1,'Delivery Template'!$A$1:$Z$1,0))) | K12: =IF(INDEX('Delivery Template'!$A$1:$Z$500,ROW(),MATCH(K$1,'Delivery Template'!$A$1:$Z$1,0))="","",INDEX('Delivery Template'!$A$1:$Z$500,ROW(),MATCH(K$1,'Delivery Template'!$A$1:$Z$1,0))) | L12: =IF(INDEX('Delivery Template'!$A$1:$Z$500,ROW(),MATCH("Quantity",'Delivery Template'!$A$1:$Z$1,0))<2,"",INDEX('Delivery Template'!$A$1:$Z$500,ROW(),MATCH("Quantity",'Delivery Template'!$A$1:$Z$1,0))&" ")&IF(INDEX('Delivery Template'!$A$1:$Z$500,ROW(),MATCH("Gift Type (select from drop-down menu)",'Delivery Template'!$A$1:$Z$1,0))="","",VLOOKUP(INDEX('Delivery Template'!$A$1:$Z$500,ROW(),MATCH("Gift Type (select from drop-down menu)",'Delivery Template'!$A$1:$Z$1,0)),$A$22:$B$33,2,FALSE))&IF(INDEX('Delivery Template'!$A$1:$Z$500,ROW(),MATCH("Quantity",'Delivery Template'!$A$1:$Z$1,0))<2,"",VLOOKUP(INDEX('Delivery Template'!$A$1:$Z$500,ROW(),MATCH("Gift Type (select from drop-down menu)",'Delivery Template'!$A$1:$Z$1,0)),$A$22:$D$33,3,FALSE))
A13: "Rx Take One Every Hour" | D13: =IF(INDEX('Delivery Template'!$A$1:$Z$500,ROW(),MATCH(D$1,'Delivery Template'!$A$1:$Z$1,0))="","",INDEX('Delivery Template'!$A$1:$Z$500,ROW(),MATCH(D$1,'Delivery Template'!$A$1:$Z$1,0))) | E13: =IF(INDEX('Delivery Template'!$A$1:$Z$500,ROW(),MATCH(E$1,'Delivery Template'!$A$1:$Z$1,0))="","",INDEX('Delivery Template'!$A$1:$Z$500,ROW(),MATCH(E$1,'Delivery Template'!$A$1:$Z$1,0))) | F13: =IF(INDEX('Delivery Template'!$A$1:$Z$500,ROW(),MATCH(F$1,'Delivery Template'!$A$1:$Z$1,0))="","",INDEX('Delivery Template'!$A$1:$Z$500,ROW(),MATCH(F$1,'Delivery Template'!$A$1:$Z$1,0))) | G13: =IF(INDEX('Delivery Template'!$A$1:$Z$500,ROW(),MATCH(G$1,'Delivery Template'!$A$1:$Z$1,0))="","",INDEX('Delivery Template'!$A$1:$Z$500,ROW(),MATCH(G$1,'Delivery Template'!$A$1:$Z$1,0))) | H13: =IF(INDEX('Delivery Template'!$A$1:$Z$500,ROW(),MATCH(H$1,'Delivery Template'!$A$1:$Z$1,0))="","",INDEX('Delivery Template'!$A$1:$Z$500,ROW(),MATCH(H$1,'Delivery Template'!$A$1:$Z$1,0))) | I13: =IF(INDEX('Delivery Template'!$A$1:$Z$500,ROW(),MATCH(I$1,'Delivery Template'!$A$1:$Z$1,0))="","",INDEX('Delivery Template'!$A$1:$Z$500,ROW(),MATCH(I$1,'Delivery Template'!$A$1:$Z$1,0))) | J13: =IF(INDEX('Delivery Template'!$A$1:$Z$500,ROW(),MATCH(J$1,'Delivery Template'!$A$1:$Z$1,0))="","",INDEX('Delivery Template'!$A$1:$Z$500,ROW(),MATCH(J$1,'Delivery Template'!$A$1:$Z$1,0))) | K13: =IF(INDEX('Delivery Template'!$A$1:$Z$500,ROW(),MATCH(K$1,'Delivery Template'!$A$1:$Z$1,0))="","",INDEX('Delivery Template'!$A$1:$Z$500,ROW(),MATCH(K$1,'Delivery Template'!$A$1:$Z$1,0))) | L13: =IF(INDEX('Delivery Template'!$A$1:$Z$500,ROW(),MATCH("Quantity",'Delivery Template'!$A$1:$Z$1,0))<2,"",INDEX('Delivery Template'!$A$1:$Z$500,ROW(),MATCH("Quantity",'Delivery Template'!$A$1:$Z$1,0))&" ")&IF(INDEX('Delivery Template'!$A$1:$Z$500,ROW(),MATCH("Gift Type (select from drop-down menu)",'Delivery Template'!$A$1:$Z$1,0))="","",VLOOKUP(INDEX('Delivery Template'!$A$1:$Z$500,ROW(),MATCH("Gift Type (select from drop-down menu)",'Delivery Template'!$A$1:$Z$1,0)),$A$22:$B$33,2,FALSE))&IF(INDEX('Delivery Template'!$A$1:$Z$500,ROW(),MATCH("Quantity",'Delivery Template'!$A$1:$Z$1,0))<2,"",VLOOKUP(INDEX('Delivery Template'!$A$1:$Z$500,ROW(),MATCH("Gift Type (select from drop-down menu)",'Delivery Template'!$A$1:$Z$1,0)),$A$22:$D$33,3,FALSE))
A14: "Thank You" | D14: =IF(INDEX('Delivery Template'!$A$1:$Z$500,ROW(),MATCH(D$1,'Delivery Template'!$A$1:$Z$1,0))="","",INDEX('Delivery Template'!$A$1:$Z$500,ROW(),MATCH(D$1,'Delivery Template'!$A$1:$Z$1,0))) | E14: =IF(INDEX('Delivery Template'!$A$1:$Z$500,ROW(),MATCH(E$1,'Delivery Template'!$A$1:$Z$1,0))="","",INDEX('Delivery Template'!$A$1:$Z$500,ROW(),MATCH(E$1,'Delivery Template'!$A$1:$Z$1,0))) | F14: =IF(INDEX('Delivery Template'!$A$1:$Z$500,ROW(),MATCH(F$1,'Delivery Template'!$A$1:$Z$1,0))="","",INDEX('Delivery Template'!$A$1:$Z$500,ROW(),MATCH(F$1,'Delivery Template'!$A$1:$Z$1,0))) | G14: =IF(INDEX('Delivery Template'!$A$1:$Z$500,ROW(),MATCH(G$1,'Delivery Template'!$A$1:$Z$1,0))="","",INDEX('Delivery Template'!$A$1:$Z$500,ROW(),MATCH(G$1,'Delivery Template'!$A$1:$Z$1,0))) | H14: =IF(INDEX('Delivery Template'!$A$1:$Z$500,ROW(),MATCH(H$1,'Delivery Template'!$A$1:$Z$1,0))="","",INDEX('Delivery Template'!$A$1:$Z$500,ROW(),MATCH(H$1,'Delivery Template'!$A$1:$Z$1,0))) | I14: =IF(INDEX('Delivery Template'!$A$1:$Z$500,ROW(),MATCH(I$1,'Delivery Template'!$A$1:$Z$1,0))="","",INDEX('Delivery Template'!$A$1:$Z$500,ROW(),MATCH(I$1,'Delivery Template'!$A$1:$Z$1,0))) | J14: =IF(INDEX('Delivery Template'!$A$1:$Z$500,ROW(),MATCH(J$1,'Delivery Template'!$A$1:$Z$1,0))="","",INDEX('Delivery Template'!$A$1:$Z$500,ROW(),MATCH(J$1,'Delivery Template'!$A$1:$Z$1,0))) | K14: =IF(INDEX('Delivery Template'!$A$1:$Z$500,ROW(),MATCH(K$1,'Delivery Template'!$A$1:$Z$1,0))="","",INDEX('Delivery Template'!$A$1:$Z$500,ROW(),MATCH(K$1,'Delivery Template'!$A$1:$Z$1,0))) | L14: =IF(INDEX('Delivery Template'!$A$1:$Z$500,ROW(),MATCH("Quantity",'Delivery Template'!$A$1:$Z$1,0))<2,"",INDEX('Delivery Template'!$A$1:$Z$500,ROW(),MATCH("Quantity",'Delivery Template'!$A$1:$Z$1,0))&" ")&IF(INDEX('Delivery Template'!$A$1:$Z$500,ROW(),MATCH("Gift Type (select from drop-down menu)",'Delivery Template'!$A$1:$Z$1,0))="","",VLOOKUP(INDEX('Delivery Template'!$A$1:$Z$500,ROW(),MATCH("Gift Type (select from drop-down menu)",'Delivery Template'!$A$1:$Z$1,0)),$A$22:$B$33,2,FALSE))&IF(INDEX('Delivery Template'!$A$1:$Z$500,ROW(),MATCH("Quantity",'Delivery Template'!$A$1:$Z$1,0))<2,"",VLOOKUP(INDEX('Delivery Template'!$A$1:$Z$500,ROW(),MATCH("Gift Type (select from drop-down menu)",'Delivery Template'!$A$1:$Z$1,0)),$A$22:$D$33,3,FALSE))
A15: "Thank You Very Munch" | D15: =IF(INDEX('Delivery Template'!$A$1:$Z$500,ROW(),MATCH(D$1,'Delivery Template'!$A$1:$Z$1,0))="","",INDEX('Delivery Template'!$A$1:$Z$500,ROW(),MATCH(D$1,'Delivery Template'!$A$1:$Z$1,0))) | E15: =IF(INDEX('Delivery Template'!$A$1:$Z$500,ROW(),MATCH(E$1,'Delivery Template'!$A$1:$Z$1,0))="","",INDEX('Delivery Template'!$A$1:$Z$500,ROW(),MATCH(E$1,'Delivery Template'!$A$1:$Z$1,0))) | F15: =IF(INDEX('Delivery Template'!$A$1:$Z$500,ROW(),MATCH(F$1,'Delivery Template'!$A$1:$Z$1,0))="","",INDEX('Delivery Template'!$A$1:$Z$500,ROW(),MATCH(F$1,'Delivery Template'!$A$1:$Z$1,0))) | G15: =IF(INDEX('Delivery Template'!$A$1:$Z$500,ROW(),MATCH(G$1,'Delivery Template'!$A$1:$Z$1,0))="","",INDEX('Delivery Template'!$A$1:$Z$500,ROW(),MATCH(G$1,'Delivery Template'!$A$1:$Z$1,0))) | H15: =IF(INDEX('Delivery Template'!$A$1:$Z$500,ROW(),MATCH(H$1,'Delivery Template'!$A$1:$Z$1,0))="","",INDEX('Delivery Template'!$A$1:$Z$500,ROW(),MATCH(H$1,'Delivery Template'!$A$1:$Z$1,0))) | I15: =IF(INDEX('Delivery Template'!$A$1:$Z$500,ROW(),MATCH(I$1,'Delivery Template'!$A$1:$Z$1,0))="","",INDEX('Delivery Template'!$A$1:$Z$500,ROW(),MATCH(I$1,'Delivery Template'!$A$1:$Z$1,0))) | J15: =IF(INDEX('Delivery Template'!$A$1:$Z$500,ROW(),MATCH(J$1,'Delivery Template'!$A$1:$Z$1,0))="","",INDEX('Delivery Template'!$A$1:$Z$500,ROW(),MATCH(J$1,'Delivery Template'!$A$1:$Z$1,0))) | K15: =IF(INDEX('Delivery Template'!$A$1:$Z$500,ROW(),MATCH(K$1,'Delivery Template'!$A$1:$Z$1,0))="","",INDEX('Delivery Template'!$A$1:$Z$500,ROW(),MATCH(K$1,'Delivery Template'!$A$1:$Z$1,0))) | L15: =IF(INDEX('Delivery Template'!$A$1:$Z$500,ROW(),MATCH("Quantity",'Delivery Template'!$A$1:$Z$1,0))<2,"",INDEX('Delivery Template'!$A$1:$Z$500,ROW(),MATCH("Quantity",'Delivery Template'!$A$1:$Z$1,0))&" ")&IF(INDEX('Delivery Template'!$A$1:$Z$500,ROW(),MATCH("Gift Type (select from drop-down menu)",'Delivery Template'!$A$1:$Z$1,0))="","",VLOOKUP(INDEX('Delivery Template'!$A$1:$Z$500,ROW(),MATCH("Gift Type (select from drop-down menu)",'Delivery Template'!$A$1:$Z$1,0)),$A$22:$B$33,2,FALSE))&IF(INDEX('Delivery Template'!$A$1:$Z$500,ROW(),MATCH("Quantity",'Delivery Template'!$A$1:$Z$1,0))<2,"",VLOOKUP(INDEX('Delivery Template'!$A$1:$Z$500,ROW(),MATCH("Gift Type (select from drop-down menu)",'Delivery Template'!$A$1:$Z$1,0)),$A$22:$D$33,3,FALSE))
A16: "Thinking Of You" | D16: =IF(INDEX('Delivery Template'!$A$1:$Z$500,ROW(),MATCH(D$1,'Delivery Template'!$A$1:$Z$1,0))="","",INDEX('Delivery Template'!$A$1:$Z$500,ROW(),MATCH(D$1,'Delivery Template'!$A$1:$Z$1,0))) | E16: =IF(INDEX('Delivery Template'!$A$1:$Z$500,ROW(),MATCH(E$1,'Delivery Template'!$A$1:$Z$1,0))="","",INDEX('Delivery Template'!$A$1:$Z$500,ROW(),MATCH(E$1,'Delivery Template'!$A$1:$Z$1,0))) | F16: =IF(INDEX('Delivery Template'!$A$1:$Z$500,ROW(),MATCH(F$1,'Delivery Template'!$A$1:$Z$1,0))="","",INDEX('Delivery Template'!$A$1:$Z$500,ROW(),MATCH(F$1,'Delivery Template'!$A$1:$Z$1,0))) | G16: =IF(INDEX('Delivery Template'!$A$1:$Z$500,ROW(),MATCH(G$1,'Delivery Template'!$A$1:$Z$1,0))="","",INDEX('Delivery Template'!$A$1:$Z$500,ROW(),MATCH(G$1,'Delivery Template'!$A$1:$Z$1,0))) | H16: =IF(INDEX('Delivery Template'!$A$1:$Z$500,ROW(),MATCH(H$1,'Delivery Template'!$A$1:$Z$1,0))="","",INDEX('Delivery Template'!$A$1:$Z$500,ROW(),MATCH(H$1,'Delivery Template'!$A$1:$Z$1,0))) | I16: =IF(INDEX('Delivery Template'!$A$1:$Z$500,ROW(),MATCH(I$1,'Delivery Template'!$A$1:$Z$1,0))="","",INDEX('Delivery Template'!$A$1:$Z$500,ROW(),MATCH(I$1,'Delivery Template'!$A$1:$Z$1,0))) | J16: =IF(INDEX('Delivery Template'!$A$1:$Z$500,ROW(),MATCH(J$1,'Delivery Template'!$A$1:$Z$1,0))="","",INDEX('Delivery Template'!$A$1:$Z$500,ROW(),MATCH(J$1,'Delivery Template'!$A$1:$Z$1,0))) | K16: =IF(INDEX('Delivery Template'!$A$1:$Z$500,ROW(),MATCH(K$1,'Delivery Template'!$A$1:$Z$1,0))="","",INDEX('Delivery Template'!$A$1:$Z$500,ROW(),MATCH(K$1,'Delivery Template'!$A$1:$Z$1,0))) | L16: =IF(INDEX('Delivery Template'!$A$1:$Z$500,ROW(),MATCH("Quantity",'Delivery Template'!$A$1:$Z$1,0))<2,"",INDEX('Delivery Template'!$A$1:$Z$500,ROW(),MATCH("Quantity",'Delivery Template'!$A$1:$Z$1,0))&" ")&IF(INDEX('Delivery Template'!$A$1:$Z$500,ROW(),MATCH("Gift Type (select from drop-down menu)",'Delivery Template'!$A$1:$Z$1,0))="","",VLOOKUP(INDEX('Delivery Template'!$A$1:$Z$500,ROW(),MATCH("Gift Type (select from drop-down menu)",'Delivery Template'!$A$1:$Z$1,0)),$A$22:$B$33,2,FALSE))&IF(INDEX('Delivery Template'!$A$1:$Z$500,ROW(),MATCH("Quantity",'Delivery Template'!$A$1:$Z$1,0))<2,"",VLOOKUP(INDEX('Delivery Template'!$A$1:$Z$500,ROW(),MATCH("Gift Type (select from drop-down menu)",'Delivery Template'!$A$1:$Z$1,0)),$A$22:$D$33,3,FALSE))
A17: "With Appreciation" | D17: =IF(INDEX('Delivery Template'!$A$1:$Z$500,ROW(),MATCH(D$1,'Delivery Template'!$A$1:$Z$1,0))="","",INDEX('Delivery Template'!$A$1:$Z$500,ROW(),MATCH(D$1,'Delivery Template'!$A$1:$Z$1,0))) | E17: =IF(INDEX('Delivery Template'!$A$1:$Z$500,ROW(),MATCH(E$1,'Delivery Template'!$A$1:$Z$1,0))="","",INDEX('Delivery Template'!$A$1:$Z$500,ROW(),MATCH(E$1,'Delivery Template'!$A$1:$Z$1,0))) | F17: =IF(INDEX('Delivery Template'!$A$1:$Z$500,ROW(),MATCH(F$1,'Delivery Template'!$A$1:$Z$1,0))="","",INDEX('Delivery Template'!$A$1:$Z$500,ROW(),MATCH(F$1,'Delivery Template'!$A$1:$Z$1,0))) | G17: =IF(INDEX('Delivery Template'!$A$1:$Z$500,ROW(),MATCH(G$1,'Delivery Template'!$A$1:$Z$1,0))="","",INDEX('Delivery Template'!$A$1:$Z$500,ROW(),MATCH(G$1,'Delivery Template'!$A$1:$Z$1,0))) | H17: =IF(INDEX('Delivery Template'!$A$1:$Z$500,ROW(),MATCH(H$1,'Delivery Template'!$A$1:$Z$1,0))="","",INDEX('Delivery Template'!$A$1:$Z$500,ROW(),MATCH(H$1,'Delivery Template'!$A$1:$Z$1,0))) | I17: =IF(INDEX('Delivery Template'!$A$1:$Z$500,ROW(),MATCH(I$1,'Delivery Template'!$A$1:$Z$1,0))="","",INDEX('Delivery Template'!$A$1:$Z$500,ROW(),MATCH(I$1,'Delivery Template'!$A$1:$Z$1,0))) | J17: =IF(INDEX('Delivery Template'!$A$1:$Z$500,ROW(),MATCH(J$1,'Delivery Template'!$A$1:$Z$1,0))="","",INDEX('Delivery Template'!$A$1:$Z$500,ROW(),MATCH(J$1,'Delivery Template'!$A$1:$Z$1,0))) | K17: =IF(INDEX('Delivery Template'!$A$1:$Z$500,ROW(),MATCH(K$1,'Delivery Template'!$A$1:$Z$1,0))="","",INDEX('Delivery Template'!$A$1:$Z$500,ROW(),MATCH(K$1,'Delivery Template'!$A$1:$Z$1,0))) | L17: =IF(INDEX('Delivery Template'!$A$1:$Z$500,ROW(),MATCH("Quantity",'Delivery Template'!$A$1:$Z$1,0))<2,"",INDEX('Delivery Template'!$A$1:$Z$500,ROW(),MATCH("Quantity",'Delivery Template'!$A$1:$Z$1,0))&" ")&IF(INDEX('Delivery Template'!$A$1:$Z$500,ROW(),MATCH("Gift Type (select from drop-down menu)",'Delivery Template'!$A$1:$Z$1,0))="","",VLOOKUP(INDEX('Delivery Template'!$A$1:$Z$500,ROW(),MATCH("Gift Type (select from drop-down menu)",'Delivery Template'!$A$1:$Z$1,0)),$A$22:$B$33,2,FALSE))&IF(INDEX('Delivery Template'!$A$1:$Z$500,ROW(),MATCH("Quantity",'Delivery Template'!$A$1:$Z$1,0))<2,"",VLOOKUP(INDEX('Delivery Template'!$A$1:$Z$500,ROW(),MATCH("Gift Type (select from drop-down menu)",'Delivery Template'!$A$1:$Z$1,0)),$A$22:$D$33,3,FALSE))
... A20: I will supply my own gift tags | D20: =IF(INDEX('Delivery Template'!$A$1:$Z$500,ROW(),MATCH(D$1,'Delivery Template'!$A$1:$Z$1,0))="","",INDEX('Delivery Template'!$A$1:$Z$500,ROW(),MATCH(D$1,'Delivery Template'!$A$1:$Z$1,0))) | E20: =IF(INDEX('Delivery Template'!$A$1:$Z$500,ROW(),MATCH(E$1,'Delivery Template'!$A$1:$Z$1,0))="","",INDEX('Delivery Template'!$A$1:$Z$500,ROW(),MATCH(E$1,'Delivery Template'!$A$1:$Z$1,0))) | F20: =IF(INDEX('Delivery Template'!$A$1:$Z$500,ROW(),MATCH(F$1,'Delivery Template'!$A$1:$Z$1,0))="","",INDEX('Delivery Template'!$A$1:$Z$500,ROW(),MATCH(F$1,'Delivery Template'!$A$1:$Z$1,0))) | G20: =IF(INDEX('Delivery Template'!$A$1:$Z$500,ROW(),MATCH(G$1,'Delivery Template'!$A$1:$Z$1,0))="","",INDEX('Delivery Template'!$A$1:$Z$500,ROW(),MATCH(G$1,'Delivery Template'!$A$1:$Z$1,0))) | H20: =IF(INDEX('Delivery Template'!$A$1:$Z$500,ROW(),MATCH(H$1,'Delivery Template'!$A$1:$Z$1,0))="","",INDEX('Delivery Template'!$A$1:$Z$500,ROW(),MATCH(H$1,'Delivery Template'!$A$1:$Z$1,0))) | I20: =IF(INDEX('Delivery Template'!$A$1:$Z$500,ROW(),MATCH(I$1,'Delivery Template'!$A$1:$Z$1,0))="","",INDEX('Delivery Template'!$A$1:$Z$500,ROW(),MATCH(I$1,'Delivery Template'!$A$1:$Z$1,0))) | J20: =IF(INDEX('Delivery Template'!$A$1:$Z$500,ROW(),MATCH(J$1,'Delivery Template'!$A$1:$Z$1,0))="","",INDEX('Delivery Template'!$A$1:$Z$500,ROW(),MATCH(J$1,'Delivery Template'!$A$1:$Z$1,0))) | K20: =IF(INDEX('Delivery Template'!$A$1:$Z$500,ROW(),MATCH(K$1,'Delivery Template'!$A$1:$Z$1,0))="","",INDEX('Delivery Template'!$A$1:$Z$500,ROW(),MATCH(K$1,'Delivery Template'!$A$1:$Z$1,0))) | L20: =IF(INDEX('Delivery Template'!$A$1:$Z$500,ROW(),MATCH("Quantity",'Delivery Template'!$A$1:$Z$1,0))<2,"",INDEX('Delivery Template'!$A$1:$Z$500,ROW(),MATCH("Quantity",'Delivery Template'!$A$1:$Z$1,0))&" ")&IF(INDEX('Delivery Template'!$A$1:$Z$500,ROW(),MATCH("Gift Type (select from drop-down menu)",'Delivery Template'!$A$1:$Z$1,0))="","",VLOOKUP(INDEX('Delivery Template'!$A$1:$Z$500,ROW(),MATCH("Gift Type (select from drop-down menu)",'Delivery Template'!$A$1:$Z$1,0)),$A$22:$B$33,2,FALSE))&IF(INDEX('Delivery Template'!$A$1:$Z$500,ROW(),MATCH("Quantity",'Delivery Template'!$A$1:$Z$1,0))<2,"",VLOOKUP(INDEX('Delivery Template'!$A$1:$Z$500,ROW(),MATCH("Gift Type (select from drop-down menu)",'Delivery Template'!$A$1:$Z$1,0)),$A$22:$D$33,3,FALSE))
D21: =IF(INDEX('Delivery Template'!$A$1:$Z$500,ROW(),MATCH(D$1,'Delivery Template'!$A$1:$Z$1,0))="","",INDEX('Delivery Template'!$A$1:$Z$500,ROW(),MATCH(D$1,'Delivery Template'!$A$1:$Z$1,0))) | E21: =IF(INDEX('Delivery Template'!$A$1:$Z$500,ROW(),MATCH(E$1,'Delivery Template'!$A$1:$Z$1,0))="","",INDEX('Delivery Template'!$A$1:$Z$500,ROW(),MATCH(E$1,'Delivery Template'!$A$1:$Z$1,0))) | F21: =IF(INDEX('Delivery Template'!$A$1:$Z$500,ROW(),MATCH(F$1,'Delivery Template'!$A$1:$Z$1,0))="","",INDEX('Delivery Template'!$A$1:$Z$500,ROW(),MATCH(F$1,'Delivery Template'!$A$1:$Z$1,0))) | G21: =IF(INDEX('Delivery Template'!$A$1:$Z$500,ROW(),MATCH(G$1,'Delivery Template'!$A$1:$Z$1,0))="","",INDEX('Delivery Template'!$A$1:$Z$500,ROW(),MATCH(G$1,'Delivery Template'!$A$1:$Z$1,0))) | H21: =IF(INDEX('Delivery Template'!$A$1:$Z$500,ROW(),MATCH(H$1,'Delivery Template'!$A$1:$Z$1,0))="","",INDEX('Delivery Template'!$A$1:$Z$500,ROW(),MATCH(H$1,'Delivery Template'!$A$1:$Z$1,0))) | I21: =IF(INDEX('Delivery Template'!$A$1:$Z$500,ROW(),MATCH(I$1,'Delivery Template'!$A$1:$Z$1,0))="","",INDEX('Delivery Template'!$A$1:$Z$500,ROW(),MATCH(I$1,'Delivery Template'!$A$1:$Z$1,0))) | J21: =IF(INDEX('Delivery Template'!$A$1:$Z$500,ROW(),MATCH(J$1,'Delivery Template'!$A$1:$Z$1,0))="","",INDEX('Delivery Template'!$A$1:$Z$500,ROW(),MATCH(J$1,'Delivery Template'!$A$1:$Z$1,0))) | K21: =IF(INDEX('Delivery Template'!$A$1:$Z$500,ROW(),MATCH(K$1,'Delivery Template'!$A$1:$Z$1,0))="","",INDEX('Delivery Template'!$A$1:$Z$500,ROW(),MATCH(K$1,'Delivery Template'!$A$1:$Z$1,0))) | L21: =IF(INDEX('Delivery Template'!$A$1:$Z$500,ROW(),MATCH("Quantity",'Delivery Template'!$A$1:$Z$1,0))<2,"",INDEX('Delivery Template'!$A$1:$Z$500,ROW(),MATCH("Quantity",'Delivery Template'!$A$1:$Z$1,0))&" ")&IF(INDEX('Delivery Template'!$A$1:$Z$500,ROW(),MATCH("Gift Type (select from drop-down menu)",'Delivery Template'!$A$1:$Z$1,0))="","",VLOOKUP(INDEX('Delivery Template'!$A$1:$Z$500,ROW(),MATCH("Gift Type (select from drop-down menu)",'Delivery Template'!$A$1:$Z$1,0)),$A$22:$B$33,2,FALSE))&IF(INDEX('Delivery Template'!$A$1:$Z$500,ROW(),MATCH("Quantity",'Delivery Template'!$A$1:$Z$1,0))<2,"",VLOOKUP(INDEX('Delivery Template'!$A$1:$Z$500,ROW(),MATCH("Gift Type (select from drop-down menu)",'Delivery Template'!$A$1:$Z$1,0)),$A$22:$D$33,3,FALSE))
A22: George Junior | $19.95 | 6 cookies | B22: George Junior | C22: =IF(RIGHT(B22,1)="x","es","s") -> s | D22: =IF(INDEX('Delivery Template'!$A$1:$Z$500,ROW(),MATCH(D$1,'Delivery Template'!$A$1:$Z$1,0))="","",INDEX('Delivery Template'!$A$1:$Z$500,ROW(),MATCH(D$1,'Delivery Template'!$A$1:$Z$1,0))) | E22: =IF(INDEX('Delivery Template'!$A$1:$Z$500,ROW(),MATCH(E$1,'Delivery Template'!$A$1:$Z$1,0))="","",INDEX('Delivery Template'!$A$1:$Z$500,ROW(),MATCH(E$1,'Delivery Template'!$A$1:$Z$1,0))) | F22: =IF(INDEX('Delivery Template'!$A$1:$Z$500,ROW(),MATCH(F$1,'Delivery Template'!$A$1:$Z$1,0))="","",INDEX('Delivery Template'!$A$1:$Z$500,ROW(),MATCH(F$1,'Delivery Template'!$A$1:$Z$1,0))) | G22: =IF(INDEX('Delivery Template'!$A$1:$Z$500,ROW(),MATCH(G$1,'Delivery Template'!$A$1:$Z$1,0))="","",INDEX('Delivery Template'!$A$1:$Z$500,ROW(),MATCH(G$1,'Delivery Template'!$A$1:$Z$1,0))) | H22: =IF(INDEX('Delivery Template'!$A$1:$Z$500,ROW(),MATCH(H$1,'Delivery Template'!$A$1:$Z$1,0))="","",INDEX('Delivery Template'!$A$1:$Z$500,ROW(),MATCH(H$1,'Delivery Template'!$A$1:$Z$1,0))) | I22: =IF(INDEX('Delivery Template'!$A$1:$Z$500,ROW(),MATCH(I$1,'Delivery Template'!$A$1:$Z$1,0))="","",INDEX('Delivery Template'!$A$1:$Z$500,ROW(),MATCH(I$1,'Delivery Template'!$A$1:$Z$1,0))) | J22: =IF(INDEX('Delivery Template'!$A$1:$Z$500,ROW(),MATCH(J$1,'Delivery Template'!$A$1:$Z$1,0))="","",INDEX('Delivery Template'!$A$1:$Z$500,ROW(),MATCH(J$1,'Delivery Template'!$A$1:$Z$1,0))) | K22: =IF(INDEX('Delivery Template'!$A$1:$Z$500,ROW(),MATCH(K$1,'Delivery Template'!$A$1:$Z$1,0))="","",INDEX('Delivery Template'!$A$1:$Z$500,ROW(),MATCH(K$1,'Delivery Template'!$A$1:$Z$1,0))) | L22: =IF(INDEX('Delivery Template'!$A$1:$Z$500,ROW(),MATCH("Quantity",'Delivery Template'!$A$1:$Z$1,0))<2,"",INDEX('Delivery Template'!$A$1:$Z$500,ROW(),MATCH("Quantity",'Delivery Template'!$A$1:$Z$1,0))&" ")&IF(INDEX('Delivery Template'!$A$1:$Z$500,ROW(),MATCH("Gift Type (select from drop-down menu)",'Delivery Template'!$A$1:$Z$1,0))="","",VLOOKUP(INDEX('Delivery Template'!$A$1:$Z$500,ROW(),MATCH("Gift Type (select from drop-down menu)",'Delivery Template'!$A$1:$Z$1,0)),$A$22:$B$33,2,FALSE))&IF(INDEX('Delivery Template'!$A$1:$Z$500,ROW(),MATCH("Quantity",'Delivery Template'!$A$1:$Z$1,0))<2,"",VLOOKUP(INDEX('Delivery Template'!$A$1:$Z$500,ROW(),MATCH("Gift Type (select from drop-down menu)",'Delivery Template'!$A$1:$Z$1,0)),$A$22:$D$33,3,FALSE))
A23: Wrapped George Junior | $21.45 | 6 individually wrapped cookies | B23: Wrapped George Junior | C23: s
A24: George Box Small | $37.95 | 13 cookies | B24: Sm. George Box | C24: =IF(RIGHT(B24,1)="x","es","s") -> es | D24: =IF(INDEX('Delivery Template'!$A$1:$Z$500,ROW(),MATCH(D$1,'Delivery Template'!$A$1:$Z$1,0))="","",INDEX('Delivery Template'!$A$1:$Z$500,ROW(),MATCH(D$1,'Delivery Template'!$A$1:$Z$1,0))) | E24: =IF(INDEX('Delivery Template'!$A$1:$Z$500,ROW(),MATCH(E$1,'Delivery Template'!$A$1:$Z$1,0))="","",INDEX('Delivery Template'!$A$1:$Z$500,ROW(),MATCH(E$1,'Delivery Template'!$A$1:$Z$1,0))) | F24: =IF(INDEX('Delivery Template'!$A$1:$Z$500,ROW(),MATCH(F$1,'Delivery Template'!$A$1:$Z$1,0))="","",INDEX('Delivery Template'!$A$1:$Z$500,ROW(),MATCH(F$1,'Delivery Template'!$A$1:$Z$1,0))) | G24: =IF(INDEX('Delivery Template'!$A$1:$Z$500,ROW(),MATCH(G$1,'Delivery Template'!$A$1:$Z$1,0))="","",INDEX('Delivery Template'!$A$1:$Z$500,ROW(),MATCH(G$1,'Delivery Template'!$A$1:$Z$1,0))) | H24: =IF(INDEX('Delivery Template'!$A$1:$Z$500,ROW(),MATCH(H$1,'Delivery Template'!$A$1:$Z$1,0))="","",INDEX('Delivery Template'!$A$1:$Z$500,ROW(),MATCH(H$1,'Delivery Template'!$A$1:$Z$1,0))) | I24: =IF(INDEX('Delivery Template'!$A$1:$Z$500,ROW(),MATCH(I$1,'Delivery Template'!$A$1:$Z$1,0))="","",INDEX('Delivery Template'!$A$1:$Z$500,ROW(),MATCH(I$1,'Delivery Template'!$A$1:$Z$1,0))) | J24: =IF(INDEX('Delivery Template'!$A$1:$Z$500,ROW(),MATCH(J$1,'Delivery Template'!$A$1:$Z$1,0))="","",INDEX('Delivery Template'!$A$1:$Z$500,ROW(),MATCH(J$1,'Delivery Template'!$A$1:$Z$1,0))) | K24: =IF(INDEX('Delivery Template'!$A$1:$Z$500,ROW(),MATCH(K$1,'Delivery Template'!$A$1:$Z$1,0))="","",INDEX('Delivery Template'!$A$1:$Z$500,ROW(),MATCH(K$1,'Delivery Template'!$A$1:$Z$1,0))) | L24: =IF(INDEX('Delivery Template'!$A$1:$Z$500,ROW(),MATCH("Quantity",'Delivery Template'!$A$1:$Z$1,0))<2,"",INDEX('Delivery Template'!$A$1:$Z$500,ROW(),MATCH("Quantity",'Delivery Template'!$A$1:$Z$1,0))&" ")&IF(INDEX('Delivery Template'!$A$1:$Z$500,ROW(),MATCH("Gift Type (select from drop-down menu)",'Delivery Template'!$A$1:$Z$1,0))="","",VLOOKUP(INDEX('Delivery Template'!$A$1:$Z$500,ROW(),MATCH("Gift Type (select from drop-down menu)",'Delivery Template'!$A$1:$Z$1,0)),$A$22:$B$33,2,FALSE))&IF(INDEX('Delivery Template'!$A$1:$Z$500,ROW(),MATCH("Quantity",'Delivery Template'!$A$1:$Z$1,0))<2,"",VLOOKUP(INDEX('Delivery Template'!$A$1:$Z$500,ROW(),MATCH("Gift Type (select from drop-down menu)",'Delivery Template'!$A$1:$Z$1,0)),$A$22:$D$33,3,FALSE))
A25: Wrapped Small George Box | $41.20 | 13 individually wrapped cookies | B25: Wrapped Sm. George Box | C25: es
A26: George Box Medium | $64.95 | 24 cookies | B26: Med. George Box | C26: =IF(RIGHT(B26,1)="x","es","s") -> es | D26: =IF(INDEX('Delivery Template'!$A$1:$Z$500,ROW(),MATCH(D$1,'Delivery Template'!$A$1:$Z$1,0))="","",INDEX('Delivery Template'!$A$1:$Z$500,ROW(),MATCH(D$1,'Delivery Template'!$A$1:$Z$1,0))) | E26: =IF(INDEX('Delivery Template'!$A$1:$Z$500,ROW(),MATCH(E$1,'Delivery Template'!$A$1:$Z$1,0))="","",INDEX('Delivery Template'!$A$1:$Z$500,ROW(),MATCH(E$1,'Delivery Template'!$A$1:$Z$1,0))) | F26: =IF(INDEX('Delivery Template'!$A$1:$Z$500,ROW(),MATCH(F$1,'Delivery Template'!$A$1:$Z$1,0))="","",INDEX('Delivery Template'!$A$1:$Z$500,ROW(),MATCH(F$1,'Delivery Template'!$A$1:$Z$1,0))) | G26: =IF(INDEX('Delivery Template'!$A$1:$Z$500,ROW(),MATCH(G$1,'Delivery Template'!$A$1:$Z$1,0))="","",INDEX('Delivery Template'!$A$1:$Z$500,ROW(),MATCH(G$1,'Delivery Template'!$A$1:$Z$1,0))) | H26: =IF(INDEX('Delivery Template'!$A$1:$Z$500,ROW(),MATCH(H$1,'Delivery Template'!$A$1:$Z$1,0))="","",INDEX('Delivery Template'!$A$1:$Z$500,ROW(),MATCH(H$1,'Delivery Template'!$A$1:$Z$1,0))) | I26: =IF(INDEX('Delivery Template'!$A$1:$Z$500,ROW(),MATCH(I$1,'Delivery Template'!$A$1:$Z$1,0))="","",INDEX('Delivery Template'!$A$1:$Z$500,ROW(),MATCH(I$1,'Delivery Template'!$A$1:$Z$1,0))) | J26: =IF(INDEX('Delivery Template'!$A$1:$Z$500,ROW(),MATCH(J$1,'Delivery Template'!$A$1:$Z$1,0))="","",INDEX('Delivery Template'!$A$1:$Z$500,ROW(),MATCH(J$1,'Delivery Template'!$A$1:$Z$1,0))) | K26: =IF(INDEX('Delivery Template'!$A$1:$Z$500,ROW(),MATCH(K$1,'Delivery Template'!$A$1:$Z$1,0))="","",INDEX('Delivery Template'!$A$1:$Z$500,ROW(),MATCH(K$1,'Delivery Template'!$A$1:$Z$1,0))) | L26: =IF(INDEX('Delivery Template'!$A$1:$Z$500,ROW(),MATCH("Quantity",'Delivery Template'!$A$1:$Z$1,0))<2,"",INDEX('Delivery Template'!$A$1:$Z$500,ROW(),MATCH("Quantity",'Delivery Template'!$A$1:$Z$1,0))&" ")&IF(INDEX('Delivery Template'!$A$1:$Z$500,ROW(),MATCH("Gift Type (select from drop-down menu)",'Delivery Template'!$A$1:$Z$1,0))="","",VLOOKUP(INDEX('Delivery Template'!$A$1:$Z$500,ROW(),MATCH("Gift Type (select from drop-down menu)",'Delivery Template'!$A$1:$Z$1,0)),$A$22:$B$33,2,FALSE))&IF(INDEX('Delivery Template'!$A$1:$Z$500,ROW(),MATCH("Quantity",'Delivery Template'!$A$1:$Z$1,0))<2,"",VLOOKUP(INDEX('Delivery Template'!$A$1:$Z$500,ROW(),MATCH("Gift Type (select from drop-down menu)",'Delivery Template'!$A$1:$Z$1,0)),$A$22:$D$33,3,FALSE))
A27: Wrapped Medium George Box | $70.95 | 24 individually wrapped cookies | B27: Wrapped Med. George Box | C27: es
A28: George Box Large | $89.95 | 36 cookies | B28: Lg. George Box | C28: =IF(RIGHT(B28,1)="x","es","s") -> es | D28: =IF(INDEX('Delivery Template'!$A$1:$Z$500,ROW(),MATCH(D$1,'Delivery Template'!$A$1:$Z$1,0))="","",INDEX('Delivery Template'!$A$1:$Z$500,ROW(),MATCH(D$1,'Delivery Template'!$A$1:$Z$1,0))) | E28: =IF(INDEX('Delivery Template'!$A$1:$Z$500,ROW(),MATCH(E$1,'Delivery Template'!$A$1:$Z$1,0))="","",INDEX('Delivery Template'!$A$1:$Z$500,ROW(),MATCH(E$1,'Delivery Template'!$A$1:$Z$1,0))) | F28: =IF(INDEX('Delivery Template'!$A$1:$Z$500,ROW(),MATCH(F$1,'Delivery Template'!$A$1:$Z$1,0))="","",INDEX('Delivery Template'!$A$1:$Z$500,ROW(),MATCH(F$1,'Delivery Template'!$A$1:$Z$1,0))) | G28: =IF(INDEX('Delivery Template'!$A$1:$Z$500,ROW(),MATCH(G$1,'Delivery Template'!$A$1:$Z$1,0))="","",INDEX('Delivery Template'!$A$1:$Z$500,ROW(),MATCH(G$1,'Delivery Template'!$A$1:$Z$1,0))) | H28: =IF(INDEX('Delivery Template'!$A$1:$Z$500,ROW(),MATCH(H$1,'Delivery Template'!$A$1:$Z$1,0))="","",INDEX('Delivery Template'!$A$1:$Z$500,ROW(),MATCH(H$1,'Delivery Template'!$A$1:$Z$1,0))) | I28: =IF(INDEX('Delivery Template'!$A$1:$Z$500,ROW(),MATCH(I$1,'Delivery Template'!$A$1:$Z$1,0))="","",INDEX('Delivery Template'!$A$1:$Z$500,ROW(),MATCH(I$1,'Delivery Template'!$A$1:$Z$1,0))) | J28: =IF(INDEX('Delivery Template'!$A$1:$Z$500,ROW(),MATCH(J$1,'Delivery Template'!$A$1:$Z$1,0))="","",INDEX('Delivery Template'!$A$1:$Z$500,ROW(),MATCH(J$1,'Delivery Template'!$A$1:$Z$1,0))) | K28: =IF(INDEX('Delivery Template'!$A$1:$Z$500,ROW(),MATCH(K$1,'Delivery Template'!$A$1:$Z$1,0))="","",INDEX('Delivery Template'!$A$1:$Z$500,ROW(),MATCH(K$1,'Delivery Template'!$A$1:$Z$1,0))) | L28: =IF(INDEX('Delivery Template'!$A$1:$Z$500,ROW(),MATCH("Quantity",'Delivery Template'!$A$1:$Z$1,0))<2,"",INDEX('Delivery Template'!$A$1:$Z$500,ROW(),MATCH("Quantity",'Delivery Template'!$A$1:$Z$1,0))&" ")&IF(INDEX('Delivery Template'!$A$1:$Z$500,ROW(),MATCH("Gift Type (select from drop-down menu)",'Delivery Template'!$A$1:$Z$1,0))="","",VLOOKUP(INDEX('Delivery Template'!$A$1:$Z$500,ROW(),MATCH("Gift Type (select from drop-down menu)",'Delivery Template'!$A$1:$Z$1,0)),$A$22:$B$33,2,FALSE))&IF(INDEX('Delivery Template'!$A$1:$Z$500,ROW(),MATCH("Quantity",'Delivery Template'!$A$1:$Z$1,0))<2,"",VLOOKUP(INDEX('Delivery Template'!$A$1:$Z$500,ROW(),MATCH("Gift Type (select from drop-down menu)",'Delivery Template'!$A$1:$Z$1,0)),$A$22:$D$33,3,FALSE))
A29: Wrapped Large George Box | $98.95 | 36 individually wrapped cookies | B29: Wrapped Lg. George Box | C29: es
A30: Flowers By George | $49.95 | 18 cookies | B30: Flower Box | C30: =IF(RIGHT(B30,1)="x","es","s") -> es | D30: =IF(INDEX('Delivery Template'!$A$1:$Z$500,ROW(),MATCH(D$1,'Delivery Template'!$A$1:$Z$1,0))="","",INDEX('Delivery Template'!$A$1:$Z$500,ROW(),MATCH(D$1,'Delivery Template'!$A$1:$Z$1,0))) | E30: =IF(INDEX('Delivery Template'!$A$1:$Z$500,ROW(),MATCH(E$1,'Delivery Template'!$A$1:$Z$1,0))="","",INDEX('Delivery Template'!$A$1:$Z$500,ROW(),MATCH(E$1,'Delivery Template'!$A$1:$Z$1,0))) | F30: =IF(INDEX('Delivery Template'!$A$1:$Z$500,ROW(),MATCH(F$1,'Delivery Template'!$A$1:$Z$1,0))="","",INDEX('Delivery Template'!$A$1:$Z$500,ROW(),MATCH(F$1,'Delivery Template'!$A$1:$Z$1,0))) | G30: =IF(INDEX('Delivery Template'!$A$1:$Z$500,ROW(),MATCH(G$1,'Delivery Template'!$A$1:$Z$1,0))="","",INDEX('Delivery Template'!$A$1:$Z$500,ROW(),MATCH(G$1,'Delivery Template'!$A$1:$Z$1,0))) | H30: =IF(INDEX('Delivery Template'!$A$1:$Z$500,ROW(),MATCH(H$1,'Delivery Template'!$A$1:$Z$1,0))="","",INDEX('Delivery Template'!$A$1:$Z$500,ROW(),MATCH(H$1,'Delivery Template'!$A$1:$Z$1,0))) | I30: =IF(INDEX('Delivery Template'!$A$1:$Z$500,ROW(),MATCH(I$1,'Delivery Template'!$A$1:$Z$1,0))="","",INDEX('Delivery Template'!$A$1:$Z$500,ROW(),MATCH(I$1,'Delivery Template'!$A$1:$Z$1,0))) | J30: =IF(INDEX('Delivery Template'!$A$1:$Z$500,ROW(),MATCH(J$1,'Delivery Template'!$A$1:$Z$1,0))="","",INDEX('Delivery Template'!$A$1:$Z$500,ROW(),MATCH(J$1,'Delivery Template'!$A$1:$Z$1,0))) | K30: =IF(INDEX('Delivery Template'!$A$1:$Z$500,ROW(),MATCH(K$1,'Delivery Template'!$A$1:$Z$1,0))="","",INDEX('Delivery Template'!$A$1:$Z$500,ROW(),MATCH(K$1,'Delivery Template'!$A$1:$Z$1,0))) | L30: =IF(INDEX('Delivery Template'!$A$1:$Z$500,ROW(),MATCH("Quantity",'Delivery Template'!$A$1:$Z$1,0))<2,"",INDEX('Delivery Template'!$A$1:$Z$500,ROW(),MATCH("Quantity",'Delivery Template'!$A$1:$Z$1,0))&" ")&IF(INDEX('Delivery Template'!$A$1:$Z$500,ROW(),MATCH("Gift Type (select from drop-down menu)",'Delivery Template'!$A$1:$Z$1,0))="","",VLOOKUP(INDEX('Delivery Template'!$A$1:$Z$500,ROW(),MATCH("Gift Type (select from drop-down menu)",'Delivery Template'!$A$1:$Z$1,0)),$A$22:$B$33,2,FALSE))&IF(INDEX('Delivery Template'!$A$1:$Z$500,ROW(),MATCH("Quantity",'Delivery Template'!$A$1:$Z$1,0))<2,"",VLOOKUP(INDEX('Delivery Template'!$A$1:$Z$500,ROW(),MATCH("Gift Type (select from drop-down menu)",'Delivery Template'!$A$1:$Z$1,0)),$A$22:$D$33,3,FALSE))
A31: Wrapped Flowers By George | $54.45 | 18 individually wrapped cookies | B31: Wrapped Flower Box | C31: es
A32: Office Tin | $139.95 | 55 cookies | B32: Office Tin | C32: =IF(RIGHT(B32,1)="x","es","s") -> s | D32: =IF(INDEX('Delivery Template'!$A$1:$Z$500,ROW(),MATCH(D$1,'Delivery Template'!$A$1:$Z$1,0))="","",INDEX('Delivery Template'!$A$1:$Z$500,ROW(),MATCH(D$1,'Delivery Template'!$A$1:$Z$1,0))) | E32: =IF(INDEX('Delivery Template'!$A$1:$Z$500,ROW(),MATCH(E$1,'Delivery Template'!$A$1:$Z$1,0))="","",INDEX('Delivery Template'!$A$1:$Z$500,ROW(),MATCH(E$1,'Delivery Template'!$A$1:$Z$1,0))) | F32: =IF(INDEX('Delivery Template'!$A$1:$Z$500,ROW(),MATCH(F$1,'Delivery Template'!$A$1:$Z$1,0))="","",INDEX('Delivery Template'!$A$1:$Z$500,ROW(),MATCH(F$1,'Delivery Template'!$A$1:$Z$1,0))) | G32: =IF(INDEX('Delivery Template'!$A$1:$Z$500,ROW(),MATCH(G$1,'Delivery Template'!$A$1:$Z$1,0))="","",INDEX('Delivery Template'!$A$1:$Z$500,ROW(),MATCH(G$1,'Delivery Template'!$A$1:$Z$1,0))) | H32: =IF(INDEX('Delivery Template'!$A$1:$Z$500,ROW(),MATCH(H$1,'Delivery Template'!$A$1:$Z$1,0))="","",INDEX('Delivery Template'!$A$1:$Z$500,ROW(),MATCH(H$1,'Delivery Template'!$A$1:$Z$1,0))) | I32: =IF(INDEX('Delivery Template'!$A$1:$Z$500,ROW(),MATCH(I$1,'Delivery Template'!$A$1:$Z$1,0))="","",INDEX('Delivery Template'!$A$1:$Z$500,ROW(),MATCH(I$1,'Delivery Template'!$A$1:$Z$1,0))) | J32: =IF(INDEX('Delivery Template'!$A$1:$Z$500,ROW(),MATCH(J$1,'Delivery Template'!$A$1:$Z$1,0))="","",INDEX('Delivery Template'!$A$1:$Z$500,ROW(),MATCH(J$1,'Delivery Template'!$A$1:$Z$1,0))) | K32: =IF(INDEX('Delivery Template'!$A$1:$Z$500,ROW(),MATCH(K$1,'Delivery Template'!$A$1:$Z$1,0))="","",INDEX('Delivery Template'!$A$1:$Z$500,ROW(),MATCH(K$1,'Delivery Template'!$A$1:$Z$1,0))) | L32: =IF(INDEX('Delivery Template'!$A$1:$Z$500,ROW(),MATCH("Quantity",'Delivery Template'!$A$1:$Z$1,0))<2,"",INDEX('Delivery Template'!$A$1:$Z$500,ROW(),MATCH("Quantity",'Delivery Template'!$A$1:$Z$1,0))&" ")&IF(INDEX('Delivery Template'!$A$1:$Z$500,ROW(),MATCH("Gift Type (select from drop-down menu)",'Delivery Template'!$A$1:$Z$1,0))="","",VLOOKUP(INDEX('Delivery Template'!$A$1:$Z$500,ROW(),MATCH("Gift Type (select from drop-down menu)",'Delivery Template'!$A$1:$Z$1,0)),$A$22:$B$33,2,FALSE))&IF(INDEX('Delivery Template'!$A$1:$Z$500,ROW(),MATCH("Quantity",'Delivery Template'!$A$1:$Z$1,0))<2,"",VLOOKUP(INDEX('Delivery Template'!$A$1:$Z$500,ROW(),MATCH("Gift Type (select from drop-down menu)",'Delivery Template'!$A$1:$Z$1,0)),$A$22:$D$33,3,FALSE))
A33: Wrapped Office Tin | $153.70 | 55 individually wrapped cookies | B33: Wrapped Office Tin | C33: =IF(RIGHT(B33,1)="x","es","s") -> s | D33: =IF(INDEX('Delivery Template'!$A$1:$Z$500,ROW(),MATCH(D$1,'Delivery Template'!$A$1:$Z$1,0))="","",INDEX('Delivery Template'!$A$1:$Z$500,ROW(),MATCH(D$1,'Delivery Template'!$A$1:$Z$1,0))) | E33: =IF(INDEX('Delivery Template'!$A$1:$Z$500,ROW(),MATCH(E$1,'Delivery Template'!$A$1:$Z$1,0))="","",INDEX('Delivery Template'!$A$1:$Z$500,ROW(),MATCH(E$1,'Delivery Template'!$A$1:$Z$1,0))) | F33: =IF(INDEX('Delivery Template'!$A$1:$Z$500,ROW(),MATCH(F$1,'Delivery Template'!$A$1:$Z$1,0))="","",INDEX('Delivery Template'!$A$1:$Z$500,ROW(),MATCH(F$1,'Delivery Template'!$A$1:$Z$1,0))) | G33: =IF(INDEX('Delivery Template'!$A$1:$Z$500,ROW(),MATCH(G$1,'Delivery Template'!$A$1:$Z$1,0))="","",INDEX('Delivery Template'!$A$1:$Z$500,ROW(),MATCH(G$1,'Delivery Template'!$A$1:$Z$1,0))) | H33: =IF(INDEX('Delivery Template'!$A$1:$Z$500,ROW(),MATCH(H$1,'Delivery Template'!$A$1:$Z$1,0))="","",INDEX('Delivery Template'!$A$1:$Z$500,ROW(),MATCH(H$1,'Delivery Template'!$A$1:$Z$1,0))) | I33: =IF(INDEX('Delivery Template'!$A$1:$Z$500,ROW(),MATCH(I$1,'Delivery Template'!$A$1:$Z$1,0))="","",INDEX('Delivery Template'!$A$1:$Z$500,ROW(),MATCH(I$1,'Delivery Template'!$A$1:$Z$1,0))) | J33: =IF(INDEX('Delivery Template'!$A$1:$Z$500,ROW(),MATCH(J$1,'Delivery Template'!$A$1:$Z$1,0))="","",INDEX('Delivery Template'!$A$1:$Z$500,ROW(),MATCH(J$1,'Delivery Template'!$A$1:$Z$1,0))) | K33: =IF(INDEX('Delivery Template'!$A$1:$Z$500,ROW(),MATCH(K$1,'Delivery Template'!$A$1:$Z$1,0))="","",INDEX('Delivery Template'!$A$1:$Z$500,ROW(),MATCH(K$1,'Delivery Template'!$A$1:$Z$1,0))) | L33: =IF(INDEX('Delivery Template'!$A$1:$Z$500,ROW(),MATCH("Quantity",'Delivery Template'!$A$1:$Z$1,0))<2,"",INDEX('Delivery Template'!$A$1:$Z$500,ROW(),MATCH("Quantity",'Delivery Template'!$A$1:$Z$1,0))&" ")&IF(INDEX('Delivery Template'!$A$1:$Z$500,ROW(),MATCH("Gift Type (select from drop-down menu)",'Delivery Template'!$A$1:$Z$1,0))="","",VLOOKUP(INDEX('Delivery Template'!$A$1:$Z$500,ROW(),MATCH("Gift Type (select from drop-down menu)",'Delivery Template'!$A$1:$Z$1,0)),$A$22:$B$33,2,FALSE))&IF(INDEX('Delivery Template'!$A$1:$Z$500,ROW(),MATCH("Quantity",'Delivery Template'!$A$1:$Z$1,0))<2,"",VLOOKUP(INDEX('Delivery Template'!$A$1:$Z$500,ROW(),MATCH("Gift Type (select from drop-down menu)",'Delivery Template'!$A$1:$Z$1,0)),$A$22:$D$33,3,FALSE))
D34: =IF(INDEX('Delivery Template'!$A$1:$Z$500,ROW(),MATCH(D$1,'Delivery Template'!$A$1:$Z$1,0))="","",INDEX('Delivery Template'!$A$1:$Z$500,ROW(),MATCH(D$1,'Delivery Template'!$A$1:$Z$1,0))) | E34: =IF(INDEX('Delivery Template'!$A$1:$Z$500,ROW(),MATCH(E$1,'Delivery Template'!$A$1:$Z$1,0))="","",INDEX('Delivery Template'!$A$1:$Z$500,ROW(),MATCH(E$1,'Delivery Template'!$A$1:$Z$1,0))) | F34: =IF(INDEX('Delivery Template'!$A$1:$Z$500,ROW(),MATCH(F$1,'Delivery Template'!$A$1:$Z$1,0))="","",INDEX('Delivery Template'!$A$1:$Z$500,ROW(),MATCH(F$1,'Delivery Template'!$A$1:$Z$1,0))) | G34: =IF(INDEX('Delivery Template'!$A$1:$Z$500,ROW(),MATCH(G$1,'Delivery Template'!$A$1:$Z$1,0))="","",INDEX('Delivery Template'!$A$1:$Z$500,ROW(),MATCH(G$1,'Delivery Template'!$A$1:$Z$1,0))) | H34: =IF(INDEX('Delivery Template'!$A$1:$Z$500,ROW(),MATCH(H$1,'Delivery Template'!$A$1:$Z$1,0))="","",INDEX('Delivery Template'!$A$1:$Z$500,ROW(),MATCH(H$1,'Delivery Template'!$A$1:$Z$1,0))) | I34: =IF(INDEX('Delivery Template'!$A$1:$Z$500,ROW(),MATCH(I$1,'Delivery Template'!$A$1:$Z$1,0))="","",INDEX('Delivery Template'!$A$1:$Z$500,ROW(),MATCH(I$1,'Delivery Template'!$A$1:$Z$1,0))) | J34: =IF(INDEX('Delivery Template'!$A$1:$Z$500,ROW(),MATCH(J$1,'Delivery Template'!$A$1:$Z$1,0))="","",INDEX('Delivery Template'!$A$1:$Z$500,ROW(),MATCH(J$1,'Delivery Template'!$A$1:$Z$1,0))) | K34: =IF(INDEX('Delivery Template'!$A$1:$Z$500,ROW(),MATCH(K$1,'Delivery Template'!$A$1:$Z$1,0))="","",INDEX('Delivery Template'!$A$1:$Z$500,ROW(),MATCH(K$1,'Delivery Template'!$A$1:$Z$1,0))) | L34: =IF(INDEX('Delivery Template'!$A$1:$Z$500,ROW(),MATCH("Quantity",'Delivery Template'!$A$1:$Z$1,0))<2,"",INDEX('Delivery Template'!$A$1:$Z$500,ROW(),MATCH("Quantity",'Delivery Template'!$A$1:$Z$1,0))&" ")&IF(INDEX('Delivery Template'!$A$1:$Z$500,ROW(),MATCH("Gift Type (select from drop-down menu)",'Delivery Template'!$A$1:$Z$1,0))="","",VLOOKUP(INDEX('Delivery Template'!$A$1:$Z$500,ROW(),MATCH("Gift Type (select from drop-down menu)",'Delivery Template'!$A$1:$Z$1,0)),$A$22:$B$33,2,FALSE))&IF(INDEX('Delivery Template'!$A$1:$Z$500,ROW(),MATCH("Quantity",'Delivery Template'!$A$1:$Z$1,0))<2,"",VLOOKUP(INDEX('Delivery Template'!$A$1:$Z$500,ROW(),MATCH("Gift Type (select from drop-down menu)",'Delivery Template'!$A$1:$Z$1,0)),$A$22:$D$33,3,FALSE))
A35: Vancouver | D35: =IF(INDEX('Delivery Template'!$A$1:$Z$500,ROW(),MATCH(D$1,'Delivery Template'!$A$1:$Z$1,0))="","",INDEX('Delivery Template'!$A$1:$Z$500,ROW(),MATCH(D$1,'Delivery Template'!$A$1:$Z$1,0))) | E35: =IF(INDEX('Delivery Template'!$A$1:$Z$500,ROW(),MATCH(E$1,'Delivery Template'!$A$1:$Z$1,0))="","",INDEX('Delivery Template'!$A$1:$Z$500,ROW(),MATCH(E$1,'Delivery Template'!$A$1:$Z$1,0))) | F35: =IF(INDEX('Delivery Template'!$A$1:$Z$500,ROW(),MATCH(F$1,'Delivery Template'!$A$1:$Z$1,0))="","",INDEX('Delivery Template'!$A$1:$Z$500,ROW(),MATCH(F$1,'Delivery Template'!$A$1:$Z$1,0))) | G35: =IF(INDEX('Delivery Template'!$A$1:$Z$500,ROW(),MATCH(G$1,'Delivery Template'!$A$1:$Z$1,0))="","",INDEX('Delivery Template'!$A$1:$Z$500,ROW(),MATCH(G$1,'Delivery Template'!$A$1:$Z$1,0))) | H35: =IF(INDEX('Delivery Template'!$A$1:$Z$500,ROW(),MATCH(H$1,'Delivery Template'!$A$1:$Z$1,0))="","",INDEX('Delivery Template'!$A$1:$Z$500,ROW(),MATCH(H$1,'Delivery Template'!$A$1:$Z$1,0))) | I35: =IF(INDEX('Delivery Template'!$A$1:$Z$500,ROW(),MATCH(I$1,'Delivery Template'!$A$1:$Z$1,0))="","",INDEX('Delivery Template'!$A$1:$Z$500,ROW(),MATCH(I$1,'Delivery Template'!$A$1:$Z$1,0))) | J35: =IF(INDEX('Delivery Template'!$A$1:$Z$500,ROW(),MATCH(J$1,'Delivery Template'!$A$1:$Z$1,0))="","",INDEX('Delivery Template'!$A$1:$Z$500,ROW(),MATCH(J$1,'Delivery Template'!$A$1:$Z$1,0))) | K35: =IF(INDEX('Delivery Template'!$A$1:$Z$500,ROW(),MATCH(K$1,'Delivery Template'!$A$1:$Z$1,0))="","",INDEX('Delivery Template'!$A$1:$Z$500,ROW(),MATCH(K$1,'Delivery Template'!$A$1:$Z$1,0))) | L35: =IF(INDEX('Delivery Template'!$A$1:$Z$500,ROW(),MATCH("Quantity",'Delivery Template'!$A$1:$Z$1,0))<2,"",INDEX('Delivery Template'!$A$1:$Z$500,ROW(),MATCH("Quantity",'Delivery Template'!$A$1:$Z$1,0))&" ")&IF(INDEX('Delivery Template'!$A$1:$Z$500,ROW(),MATCH("Gift Type (select from drop-down menu)",'Delivery Template'!$A$1:$Z$1,0))="","",VLOOKUP(INDEX('Delivery Template'!$A$1:$Z$500,ROW(),MATCH("Gift Type (select from drop-down menu)",'Delivery Template'!$A$1:$Z$1,0)),$A$22:$B$33,2,FALSE))&IF(INDEX('Delivery Template'!$A$1:$Z$500,ROW(),MATCH("Quantity",'Delivery Template'!$A$1:$Z$1,0))<2,"",VLOOKUP(INDEX('Delivery Template'!$A$1:$Z$500,ROW(),MATCH("Gift Type (select from drop-down menu)",'Delivery Template'!$A$1:$Z$1,0)),$A$22:$D$33,3,FALSE))
A36: Calgary | D36: =IF(INDEX('Delivery Template'!$A$1:$Z$500,ROW(),MATCH(D$1,'Delivery Template'!$A$1:$Z$1,0))="","",INDEX('Delivery Template'!$A$1:$Z$500,ROW(),MATCH(D$1,'Delivery Template'!$A$1:$Z$1,0))) | E36: =IF(INDEX('Delivery Template'!$A$1:$Z$500,ROW(),MATCH(E$1,'Delivery Template'!$A$1:$Z$1,0))="","",INDEX('Delivery Template'!$A$1:$Z$500,ROW(),MATCH(E$1,'Delivery Template'!$A$1:$Z$1,0))) | F36: =IF(INDEX('Delivery Template'!$A$1:$Z$500,ROW(),MATCH(F$1,'Delivery Template'!$A$1:$Z$1,0))="","",INDEX('Delivery Template'!$A$1:$Z$500,ROW(),MATCH(F$1,'Delivery Template'!$A$1:$Z$1,0))) | G36: =IF(INDEX('Delivery Template'!$A$1:$Z$500,ROW(),MATCH(G$1,'Delivery Template'!$A$1:$Z$1,0))="","",INDEX('Delivery Template'!$A$1:$Z$500,ROW(),MATCH(G$1,'Delivery Template'!$A$1:$Z$1,0))) | H36: =IF(INDEX('Delivery Template'!$A$1:$Z$500,ROW(),MATCH(H$1,'Delivery Template'!$A$1:$Z$1,0))="","",INDEX('Delivery Template'!$A$1:$Z$500,ROW(),MATCH(H$1,'Delivery Template'!$A$1:$Z$1,0))) | I36: =IF(INDEX('Delivery Template'!$A$1:$Z$500,ROW(),MATCH(I$1,'Delivery Template'!$A$1:$Z$1,0))="","",INDEX('Delivery Template'!$A$1:$Z$500,ROW(),MATCH(I$1,'Delivery Template'!$A$1:$Z$1,0))) | J36: =IF(INDEX('Delivery Template'!$A$1:$Z$500,ROW(),MATCH(J$1,'Delivery Template'!$A$1:$Z$1,0))="","",INDEX('Delivery Template'!$A$1:$Z$500,ROW(),MATCH(J$1,'Delivery Template'!$A$1:$Z$1,0))) | K36: =IF(INDEX('Delivery Template'!$A$1:$Z$500,ROW(),MATCH(K$1,'Delivery Template'!$A$1:$Z$1,0))="","",INDEX('Delivery Template'!$A$1:$Z$500,ROW(),MATCH(K$1,'Delivery Template'!$A$1:$Z$1,0))) | L36: =IF(INDEX('Delivery Template'!$A$1:$Z$500,ROW(),MATCH("Quantity",'Delivery Template'!$A$1:$Z$1,0))<2,"",INDEX('Delivery Template'!$A$1:$Z$500,ROW(),MATCH("Quantity",'Delivery Template'!$A$1:$Z$1,0))&" ")&IF(INDEX('Delivery Template'!$A$1:$Z$500,ROW(),MATCH("Gift Type (select from drop-down menu)",'Delivery Template'!$A$1:$Z$1,0))="","",VLOOKUP(INDEX('Delivery Template'!$A$1:$Z$500,ROW(),MATCH("Gift Type (select from drop-down menu)",'Delivery Template'!$A$1:$Z$1,0)),$A$22:$B$33,2,FALSE))&IF(INDEX('Delivery Template'!$A$1:$Z$500,ROW(),MATCH("Quantity",'Delivery Template'!$A$1:$Z$1,0))<2,"",VLOOKUP(INDEX('Delivery Template'!$A$1:$Z$500,ROW(),MATCH("Gift Type (select from drop-down menu)",'Delivery Template'!$A$1:$Z$1,0)),$A$22:$D$33,3,FALSE))
A37: Edmonton | D37: =IF(INDEX('Delivery Template'!$A$1:$Z$500,ROW(),MATCH(D$1,'Delivery Template'!$A$1:$Z$1,0))="","",INDEX('Delivery Template'!$A$1:$Z$500,ROW(),MATCH(D$1,'Delivery Template'!$A$1:$Z$1,0))) | E37: =IF(INDEX('Delivery Template'!$A$1:$Z$500,ROW(),MATCH(E$1,'Delivery Template'!$A$1:$Z$1,0))="","",INDEX('Delivery Template'!$A$1:$Z$500,ROW(),MATCH(E$1,'Delivery Template'!$A$1:$Z$1,0))) | F37: =IF(INDEX('Delivery Template'!$A$1:$Z$500,ROW(),MATCH(F$1,'Delivery Template'!$A$1:$Z$1,0))="","",INDEX('Delivery Template'!$A$1:$Z$500,ROW(),MATCH(F$1,'Delivery Template'!$A$1:$Z$1,0))) | G37: =IF(INDEX('Delivery Template'!$A$1:$Z$500,ROW(),MATCH(G$1,'Delivery Template'!$A$1:$Z$1,0))="","",INDEX('Delivery Template'!$A$1:$Z$500,ROW(),MATCH(G$1,'Delivery Template'!$A$1:$Z$1,0))) | H37: =IF(INDEX('Delivery Template'!$A$1:$Z$500,ROW(),MATCH(H$1,'Delivery Template'!$A$1:$Z$1,0))="","",INDEX('Delivery Template'!$A$1:$Z$500,ROW(),MATCH(H$1,'Delivery Template'!$A$1:$Z$1,0))) | I37: =IF(INDEX('Delivery Template'!$A$1:$Z$500,ROW(),MATCH(I$1,'Delivery Template'!$A$1:$Z$1,0))="","",INDEX('Delivery Template'!$A$1:$Z$500,ROW(),MATCH(I$1,'Delivery Template'!$A$1:$Z$1,0))) | J37: =IF(INDEX('Delivery Template'!$A$1:$Z$500,ROW(),MATCH(J$1,'Delivery Template'!$A$1:$Z$1,0))="","",INDEX('Delivery Template'!$A$1:$Z$500,ROW(),MATCH(J$1,'Delivery Template'!$A$1:$Z$1,0))) | K37: =IF(INDEX('Delivery Template'!$A$1:$Z$500,ROW(),MATCH(K$1,'Delivery Template'!$A$1:$Z$1,0))="","",INDEX('Delivery Template'!$A$1:$Z$500,ROW(),MATCH(K$1,'Delivery Template'!$A$1:$Z$1,0))) | L37: =IF(INDEX('Delivery Template'!$A$1:$Z$500,ROW(),MATCH("Quantity",'Delivery Template'!$A$1:$Z$1,0))<2,"",INDEX('Delivery Template'!$A$1:$Z$500,ROW(),MATCH("Quantity",'Delivery Template'!$A$1:$Z$1,0))&" ")&IF(INDEX('Delivery Template'!$A$1:$Z$500,ROW(),MATCH("Gift Type (select from drop-down menu)",'Delivery Template'!$A$1:$Z$1,0))="","",VLOOKUP(INDEX('Delivery Template'!$A$1:$Z$500,ROW(),MATCH("Gift Type (select from drop-down menu)",'Delivery Template'!$A$1:$Z$1,0)),$A$22:$B$33,2,FALSE))&IF(INDEX('Delivery Template'!$A$1:$Z$500,ROW(),MATCH("Quantity",'Delivery Template'!$A$1:$Z$1,0))<2,"",VLOOKUP(INDEX('Delivery Template'!$A$1:$Z$500,ROW(),MATCH("Gift Type (select from drop-down menu)",'Delivery Template'!$A$1:$Z$1,0)),$A$22:$D$33,3,FALSE))
A38: Leduc/Nisku | D38: =IF(INDEX('Delivery Template'!$A$1:$Z$500,ROW(),MATCH(D$1,'Delivery Template'!$A$1:$Z$1,0))="","",INDEX('Delivery Template'!$A$1:$Z$500,ROW(),MATCH(D$1,'Delivery Template'!$A$1:$Z$1,0))) | E38: =IF(INDEX('Delivery Template'!$A$1:$Z$500,ROW(),MATCH(E$1,'Delivery Template'!$A$1:$Z$1,0))="","",INDEX('Delivery Template'!$A$1:$Z$500,ROW(),MATCH(E$1,'Delivery Template'!$A$1:$Z$1,0))) | F38: =IF(INDEX('Delivery Template'!$A$1:$Z$500,ROW(),MATCH(F$1,'Delivery Template'!$A$1:$Z$1,0))="","",INDEX('Delivery Template'!$A$1:$Z$500,ROW(),MATCH(F$1,'Delivery Template'!$A$1:$Z$1,0))) | G38: =IF(INDEX('Delivery Template'!$A$1:$Z$500,ROW(),MATCH(G$1,'Delivery Template'!$A$1:$Z$1,0))="","",INDEX('Delivery Template'!$A$1:$Z$500,ROW(),MATCH(G$1,'Delivery Template'!$A$1:$Z$1,0))) | H38: =IF(INDEX('Delivery Template'!$A$1:$Z$500,ROW(),MATCH(H$1,'Delivery Template'!$A$1:$Z$1,0))="","",INDEX('Delivery Template'!$A$1:$Z$500,ROW(),MATCH(H$1,'Delivery Template'!$A$1:$Z$1,0))) | I38: =IF(INDEX('Delivery Template'!$A$1:$Z$500,ROW(),MATCH(I$1,'Delivery Template'!$A$1:$Z$1,0))="","",INDEX('Delivery Template'!$A$1:$Z$500,ROW(),MATCH(I$1,'Delivery Template'!$A$1:$Z$1,0))) | J38: =IF(INDEX('Delivery Template'!$A$1:$Z$500,ROW(),MATCH(J$1,'Delivery Template'!$A$1:$Z$1,0))="","",INDEX('Delivery Template'!$A$1:$Z$500,ROW(),MATCH(J$1,'Delivery Template'!$A$1:$Z$1,0))) | K38: =IF(INDEX('Delivery Template'!$A$1:$Z$500,ROW(),MATCH(K$1,'Delivery Template'!$A$1:$Z$1,0))="","",INDEX('Delivery Template'!$A$1:$Z$500,ROW(),MATCH(K$1,'Delivery Template'!$A$1:$Z$1,0))) | L38: =IF(INDEX('Delivery Template'!$A$1:$Z$500,ROW(),MATCH("Quantity",'Delivery Template'!$A$1:$Z$1,0))<2,"",INDEX('Delivery Template'!$A$1:$Z$500,ROW(),MATCH("Quantity",'Delivery Template'!$A$1:$Z$1,0))&" ")&IF(INDEX('Delivery Template'!$A$1:$Z$500,ROW(),MATCH("Gift Type (select from drop-down menu)",'Delivery Template'!$A$1:$Z$1,0))="","",VLOOKUP(INDEX('Delivery Template'!$A$1:$Z$500,ROW(),MATCH("Gift Type (select from drop-down menu)",'Delivery Template'!$A$1:$Z$1,0)),$A$22:$B$33,2,FALSE))&IF(INDEX('Delivery Template'!$A$1:$Z$500,ROW(),MATCH("Quantity",'Delivery Template'!$A$1:$Z$1,0))<2,"",VLOOKUP(INDEX('Delivery Template'!$A$1:$Z$500,ROW(),MATCH("Gift Type (select from drop-down menu)",'Delivery Template'!$A$1:$Z$1,0)),$A$22:$D$33,3,FALSE))
A39: Regina | D39: =IF(INDEX('Delivery Template'!$A$1:$Z$500,ROW(),MATCH(D$1,'Delivery Template'!$A$1:$Z$1,0))="","",INDEX('Delivery Template'!$A$1:$Z$500,ROW(),MATCH(D$1,'Delivery Template'!$A$1:$Z$1,0))) | E39: =IF(INDEX('Delivery Template'!$A$1:$Z$500,ROW(),MATCH(E$1,'Delivery Template'!$A$1:$Z$1,0))="","",INDEX('Delivery Template'!$A$1:$Z$500,ROW(),MATCH(E$1,'Delivery Template'!$A$1:$Z$1,0))) | F39: =IF(INDEX('Delivery Template'!$A$1:$Z$500,ROW(),MATCH(F$1,'Delivery Template'!$A$1:$Z$1,0))="","",INDEX('Delivery Template'!$A$1:$Z$500,ROW(),MATCH(F$1,'Delivery Template'!$A$1:$Z$1,0))) | G39: =IF(INDEX('Delivery Template'!$A$1:$Z$500,ROW(),MATCH(G$1,'Delivery Template'!$A$1:$Z$1,0))="","",INDEX('Delivery Template'!$A$1:$Z$500,ROW(),MATCH(G$1,'Delivery Template'!$A$1:$Z$1,0))) | H39: =IF(INDEX('Delivery Template'!$A$1:$Z$500,ROW(),MATCH(H$1,'Delivery Template'!$A$1:$Z$1,0))="","",INDEX('Delivery Template'!$A$1:$Z$500,ROW(),MATCH(H$1,'Delivery Template'!$A$1:$Z$1,0))) | I39: =IF(INDEX('Delivery Template'!$A$1:$Z$500,ROW(),MATCH(I$1,'Delivery Template'!$A$1:$Z$1,0))="","",INDEX('Delivery Template'!$A$1:$Z$500,ROW(),MATCH(I$1,'Delivery Template'!$A$1:$Z$1,0))) | J39: =IF(INDEX('Delivery Template'!$A$1:$Z$500,ROW(),MATCH(J$1,'Delivery Template'!$A$1:$Z$1,0))="","",INDEX('Delivery Template'!$A$1:$Z$500,ROW(),MATCH(J$1,'Delivery Template'!$A$1:$Z$1,0))) | K39: =IF(INDEX('Delivery Template'!$A$1:$Z$500,ROW(),MATCH(K$1,'Delivery Template'!$A$1:$Z$1,0))="","",INDEX('Delivery Template'!$A$1:$Z$500,ROW(),MATCH(K$1,'Delivery Template'!$A$1:$Z$1,0))) | L39: =IF(INDEX('Delivery Template'!$A$1:$Z$500,ROW(),MATCH("Quantity",'Delivery Template'!$A$1:$Z$1,0))<2,"",INDEX('Delivery Template'!$A$1:$Z$500,ROW(),MATCH("Quantity",'Delivery Template'!$A$1:$Z$1,0))&" ")&IF(INDEX('Delivery Template'!$A$1:$Z$500,ROW(),MATCH("Gift Type (select from drop-down menu)",'Delivery Template'!$A$1:$Z$1,0))="","",VLOOKUP(INDEX('Delivery Template'!$A$1:$Z$500,ROW(),MATCH("Gift Type (select from drop-down menu)",'Delivery Template'!$A$1:$Z$1,0)),$A$22:$B$33,2,FALSE))&IF(INDEX('Delivery Template'!$A$1:$Z$500,ROW(),MATCH("Quantity",'Delivery Template'!$A$1:$Z$1,0))<2,"",VLOOKUP(INDEX('Delivery Template'!$A$1:$Z$500,ROW(),MATCH("Gift Type (select from drop-down menu)",'Delivery Template'!$A$1:$Z$1,0)),$A$22:$D$33,3,FALSE))
A40: Winnipeg | D40: =IF(INDEX('Delivery Template'!$A$1:$Z$500,ROW(),MATCH(D$1,'Delivery Template'!$A$1:$Z$1,0))="","",INDEX('Delivery Template'!$A$1:$Z$500,ROW(),MATCH(D$1,'Delivery Template'!$A$1:$Z$1,0))) | E40: =IF(INDEX('Delivery Template'!$A$1:$Z$500,ROW(),MATCH(E$1,'Delivery Template'!$A$1:$Z$1,0))="","",INDEX('Delivery Template'!$A$1:$Z$500,ROW(),MATCH(E$1,'Delivery Template'!$A$1:$Z$1,0))) | F40: =IF(INDEX('Delivery Template'!$A$1:$Z$500,ROW(),MATCH(F$1,'Delivery Template'!$A$1:$Z$1,0))="","",INDEX('Delivery Template'!$A$1:$Z$500,ROW(),MATCH(F$1,'Delivery Template'!$A$1:$Z$1,0))) | G40: =IF(INDEX('Delivery Template'!$A$1:$Z$500,ROW(),MATCH(G$1,'Delivery Template'!$A$1:$Z$1,0))="","",INDEX('Delivery Template'!$A$1:$Z$500,ROW(),MATCH(G$1,'Delivery Template'!$A$1:$Z$1,0))) | H40: =IF(INDEX('Delivery Template'!$A$1:$Z$500,ROW(),MATCH(H$1,'Delivery Template'!$A$1:$Z$1,0))="","",INDEX('Delivery Template'!$A$1:$Z$500,ROW(),MATCH(H$1,'Delivery Template'!$A$1:$Z$1,0))) | I40: =IF(INDEX('Delivery Template'!$A$1:$Z$500,ROW(),MATCH(I$1,'Delivery Template'!$A$1:$Z$1,0))="","",INDEX('Delivery Template'!$A$1:$Z$500,ROW(),MATCH(I$1,'Delivery Template'!$A$1:$Z$1,0))) | J40: =IF(INDEX('Delivery Template'!$A$1:$Z$500,ROW(),MATCH(J$1,'Delivery Template'!$A$1:$Z$1,0))="","",INDEX('Delivery Template'!$A$1:$Z$500,ROW(),MATCH(J$1,'Delivery Template'!$A$1:$Z$1,0))) | K40: =IF(INDEX('Delivery Template'!$A$1:$Z$500,ROW(),MATCH(K$1,'Delivery Template'!$A$1:$Z$1,0))="","",INDEX('Delivery Template'!$A$1:$Z$500,ROW(),MATCH(K$1,'Delivery Template'!$A$1:$Z$1,0))) | L40: =IF(INDEX('Delivery Template'!$A$1:$Z$500,ROW(),MATCH("Quantity",'Delivery Template'!$A$1:$Z$1,0))<2,"",INDEX('Delivery Template'!$A$1:$Z$500,ROW(),MATCH("Quantity",'Delivery Template'!$A$1:$Z$1,0))&" ")&IF(INDEX('Delivery Template'!$A$1:$Z$500,ROW(),MATCH("Gift Type (select from drop-down menu)",'Delivery Template'!$A$1:$Z$1,0))="","",VLOOKUP(INDEX('Delivery Template'!$A$1:$Z$500,ROW(),MATCH("Gift Type (select from drop-down menu)",'Delivery Template'!$A$1:$Z$1,0)),$A$22:$B$33,2,FALSE))&IF(INDEX('Delivery Template'!$A$1:$Z$500,ROW(),MATCH("Quantity",'Delivery Template'!$A$1:$Z$1,0))<2,"",VLOOKUP(INDEX('Delivery Template'!$A$1:$Z$500,ROW(),MATCH("Gift Type (select from drop-down menu)",'Delivery Template'!$A$1:$Z$1,0)),$A$22:$D$33,3,FALSE))
D41: =IF(INDEX('Delivery Template'!$A$1:$Z$500,ROW(),MATCH(D$1,'Delivery Template'!$A$1:$Z$1,0))="","",INDEX('Delivery Template'!$A$1:$Z$500,ROW(),MATCH(D$1,'Delivery Template'!$A$1:$Z$1,0))) | E41: =IF(INDEX('Delivery Template'!$A$1:$Z$500,ROW(),MATCH(E$1,'Delivery Template'!$A$1:$Z$1,0))="","",INDEX('Delivery Template'!$A$1:$Z$500,ROW(),MATCH(E$1,'Delivery Template'!$A$1:$Z$1,0))) | F41: =IF(INDEX('Delivery Template'!$A$1:$Z$500,ROW(),MATCH(F$1,'Delivery Template'!$A$1:$Z$1,0))="","",INDEX('Delivery Template'!$A$1:$Z$500,ROW(),MATCH(F$1,'Delivery Template'!$A$1:$Z$1,0))) | G41: =IF(INDEX('Delivery Template'!$A$1:$Z$500,ROW(),MATCH(G$1,'Delivery Template'!$A$1:$Z$1,0))="","",INDEX('Delivery Template'!$A$1:$Z$500,ROW(),MATCH(G$1,'Delivery Template'!$A$1:$Z$1,0))) | H41: =IF(INDEX('Delivery Template'!$A$1:$Z$500,ROW(),MATCH(H$1,'Delivery Template'!$A$1:$Z$1,0))="","",INDEX('Delivery Template'!$A$1:$Z$500,ROW(),MATCH(H$1,'Delivery Template'!$A$1:$Z$1,0))) | I41: =IF(INDEX('Delivery Template'!$A$1:$Z$500,ROW(),MATCH(I$1,'Delivery Template'!$A$1:$Z$1,0))="","",INDEX('Delivery Template'!$A$1:$Z$500,ROW(),MATCH(I$1,'Delivery Template'!$A$1:$Z$1,0))) | J41: =IF(INDEX('Delivery Template'!$A$1:$Z$500,ROW(),MATCH(J$1,'Delivery Template'!$A$1:$Z$1,0))="","",INDEX('Delivery Template'!$A$1:$Z$500,ROW(),MATCH(J$1,'Delivery Template'!$A$1:$Z$1,0))) | K41: =IF(INDEX('Delivery Template'!$A$1:$Z$500,ROW(),MATCH(K$1,'Delivery Template'!$A$1:$Z$1,0))="","",INDEX('Delivery Template'!$A$1:$Z$500,ROW(),MATCH(K$1,'Delivery Template'!$A$1:$Z$1,0))) | L41: =IF(INDEX('Delivery Template'!$A$1:$Z$500,ROW(),MATCH("Quantity",'Delivery Template'!$A$1:$Z$1,0))<2,"",INDEX('Delivery Template'!$A$1:$Z$500,ROW(),MATCH("Quantity",'Delivery Template'!$A$1:$Z$1,0))&" ")&IF(INDEX('Delivery Template'!$A$1:$Z$500,ROW(),MATCH("Gift Type (select from drop-down menu)",'Delivery Template'!$A$1:$Z$1,0))="","",VLOOKUP(INDEX('Delivery Template'!$A$1:$Z$500,ROW(),MATCH("Gift Type (select from drop-down menu)",'Delivery Template'!$A$1:$Z$1,0)),$A$22:$B$33,2,FALSE))&IF(INDEX('Delivery Template'!$A$1:$Z$500,ROW(),MATCH("Quantity",'Delivery Template'!$A$1:$Z$1,0))<2,"",VLOOKUP(INDEX('Delivery Template'!$A$1:$Z$500,ROW(),MATCH("Gift Type (select from drop-down menu)",'Delivery Template'!$A$1:$Z$1,0)),$A$22:$D$33,3,FALSE))
D42: =IF(INDEX('Delivery Template'!$A$1:$Z$500,ROW(),MATCH(D$1,'Delivery Template'!$A$1:$Z$1,0))="","",INDEX('Delivery Template'!$A$1:$Z$500,ROW(),MATCH(D$1,'Delivery Template'!$A$1:$Z$1,0))) | E42: =IF(INDEX('Delivery Template'!$A$1:$Z$500,ROW(),MATCH(E$1,'Delivery Template'!$A$1:$Z$1,0))="","",INDEX('Delivery Template'!$A$1:$Z$500,ROW(),MATCH(E$1,'Delivery Template'!$A$1:$Z$1,0))) | F42: =IF(INDEX('Delivery Template'!$A$1:$Z$500,ROW(),MATCH(F$1,'Delivery Template'!$A$1:$Z$1,0))="","",INDEX('Delivery Template'!$A$1:$Z$500,ROW(),MATCH(F$1,'Delivery Template'!$A$1:$Z$1,0))) | G42: =IF(INDEX('Delivery Template'!$A$1:$Z$500,ROW(),MATCH(G$1,'Delivery Template'!$A$1:$Z$1,0))="","",INDEX('Delivery Template'!$A$1:$Z$500,ROW(),MATCH(G$1,'Delivery Template'!$A$1:$Z$1,0))) | H42: =IF(INDEX('Delivery Template'!$A$1:$Z$500,ROW(),MATCH(H$1,'Delivery Template'!$A$1:$Z$1,0))="","",INDEX('Delivery Template'!$A$1:$Z$500,ROW(),MATCH(H$1,'Delivery Template'!$A$1:$Z$1,0))) | I42: =IF(INDEX('Delivery Template'!$A$1:$Z$500,ROW(),MATCH(I$1,'Delivery Template'!$A$1:$Z$1,0))="","",INDEX('Delivery Template'!$A$1:$Z$500,ROW(),MATCH(I$1,'Delivery Template'!$A$1:$Z$1,0))) | J42: =IF(INDEX('Delivery Template'!$A$1:$Z$500,ROW(),MATCH(J$1,'Delivery Template'!$A$1:$Z$1,0))="","",INDEX('Delivery Template'!$A$1:$Z$500,ROW(),MATCH(J$1,'Delivery Template'!$A$1:$Z$1,0))) | K42: =IF(INDEX('Delivery Template'!$A$1:$Z$500,ROW(),MATCH(K$1,'Delivery Template'!$A$1:$Z$1,0))="","",INDEX('Delivery Template'!$A$1:$Z$500,ROW(),MATCH(K$1,'Delivery Template'!$A$1:$Z$1,0))) | L42: =IF(INDEX('Delivery Template'!$A$1:$Z$500,ROW(),MATCH("Quantity",'Delivery Template'!$A$1:$Z$1,0))<2,"",INDEX('Delivery Template'!$A$1:$Z$500,ROW(),MATCH("Quantity",'Delivery Template'!$A$1:$Z$1,0))&" ")&IF(INDEX('Delivery Template'!$A$1:$Z$500,ROW(),MATCH("Gift Type (select from drop-down menu)",'Delivery Template'!$A$1:$Z$1,0))="","",VLOOKUP(INDEX('Delivery Template'!$A$1:$Z$500,ROW(),MATCH("Gift Type (select from drop-down menu)",'Delivery Template'!$A$1:$Z$1,0)),$A$22:$B$33,2,FALSE))&IF(INDEX('Delivery Template'!$A$1:$Z$500,ROW(),MATCH("Quantity",'Delivery Template'!$A$1:$Z$1,0))<2,"",VLOOKUP(INDEX('Delivery Template'!$A$1:$Z$500,ROW(),MATCH("Gift Type (select from drop-down menu)",'Delivery Template'!$A$1:$Z$1,0)),$A$22:$D$33,3,FALSE))
D43: =IF(INDEX('Delivery Template'!$A$1:$Z$500,ROW(),MATCH(D$1,'Delivery Template'!$A$1:$Z$1,0))="","",INDEX('Delivery Template'!$A$1:$Z$500,ROW(),MATCH(D$1,'Delivery Template'!$A$1:$Z$1,0))) | E43: =IF(INDEX('Delivery Template'!$A$1:$Z$500,ROW(),MATCH(E$1,'Delivery Template'!$A$1:$Z$1,0))="","",INDEX('Delivery Template'!$A$1:$Z$500,ROW(),MATCH(E$1,'Delivery Template'!$A$1:$Z$1,0))) | F43: =IF(INDEX('Delivery Template'!$A$1:$Z$500,ROW(),MATCH(F$1,'Delivery Template'!$A$1:$Z$1,0))="","",INDEX('Delivery Template'!$A$1:$Z$500,ROW(),MATCH(F$1,'Delivery Template'!$A$1:$Z$1,0))) | G43: =IF(INDEX('Delivery Template'!$A$1:$Z$500,ROW(),MATCH(G$1,'Delivery Template'!$A$1:$Z$1,0))="","",INDEX('Delivery Template'!$A$1:$Z$500,ROW(),MATCH(G$1,'Delivery Template'!$A$1:$Z$1,0))) | H43: =IF(INDEX('Delivery Template'!$A$1:$Z$500,ROW(),MATCH(H$1,'Delivery Template'!$A$1:$Z$1,0))="","",INDEX('Delivery Template'!$A$1:$Z$500,ROW(),MATCH(H$1,'Delivery Template'!$A$1:$Z$1,0))) | I43: =IF(INDEX('Delivery Template'!$A$1:$Z$500,ROW(),MATCH(I$1,'Delivery Template'!$A$1:$Z$1,0))="","",INDEX('Delivery Template'!$A$1:$Z$500,ROW(),MATCH(I$1,'Delivery Template'!$A$1:$Z$1,0))) | J43: =IF(INDEX('Delivery Template'!$A$1:$Z$500,ROW(),MATCH(J$1,'Delivery Template'!$A$1:$Z$1,0))="","",INDEX('Delivery Template'!$A$1:$Z$500,ROW(),MATCH(J$1,'Delivery Template'!$A$1:$Z$1,0))) | K43: =IF(INDEX('Delivery Template'!$A$1:$Z$500,ROW(),MATCH(K$1,'Delivery Template'!$A$1:$Z$1,0))="","",INDEX('Delivery Template'!$A$1:$Z$500,ROW(),MATCH(K$1,'Delivery Template'!$A$1:$Z$1,0))) | L43: =IF(INDEX('Delivery Template'!$A$1:$Z$500,ROW(),MATCH("Quantity",'Delivery Template'!$A$1:$Z$1,0))<2,"",INDEX('Delivery Template'!$A$1:$Z$500,ROW(),MATCH("Quantity",'Delivery Template'!$A$1:$Z$1,0))&" ")&IF(INDEX('Delivery Template'!$A$1:$Z$500,ROW(),MATCH("Gift Type (select from drop-down menu)",'Delivery Template'!$A$1:$Z$1,0))="","",VLOOKUP(INDEX('Delivery Template'!$A$1:$Z$500,ROW(),MATCH("Gift Type (select from drop-down menu)",'Delivery Template'!$A$1:$Z$1,0)),$A$22:$B$33,2,FALSE))&IF(INDEX('Delivery Template'!$A$1:$Z$500,ROW(),MATCH("Quantity",'Delivery Template'!$A$1:$Z$1,0))<2,"",VLOOKUP(INDEX('Delivery Template'!$A$1:$Z$500,ROW(),MATCH("Gift Type (select from drop-down menu)",'Delivery Template'!$A$1:$Z$1,0)),$A$22:$D$33,3,FALSE))
D44: =IF(INDEX('Delivery Template'!$A$1:$Z$500,ROW(),MATCH(D$1,'Delivery Template'!$A$1:$Z$1,0))="","",INDEX('Delivery Template'!$A$1:$Z$500,ROW(),MATCH(D$1,'Delivery Template'!$A$1:$Z$1,0))) | E44: =IF(INDEX('Delivery Template'!$A$1:$Z$500,ROW(),MATCH(E$1,'Delivery Template'!$A$1:$Z$1,0))="","",INDEX('Delivery Template'!$A$1:$Z$500,ROW(),MATCH(E$1,'Delivery Template'!$A$1:$Z$1,0))) | F44: =IF(INDEX('Delivery Template'!$A$1:$Z$500,ROW(),MATCH(F$1,'Delivery Template'!$A$1:$Z$1,0))="","",INDEX('Delivery Template'!$A$1:$Z$500,ROW(),MATCH(F$1,'Delivery Template'!$A$1:$Z$1,0))) | G44: =IF(INDEX('Delivery Template'!$A$1:$Z$500,ROW(),MATCH(G$1,'Delivery Template'!$A$1:$Z$1,0))="","",INDEX('Delivery Template'!$A$1:$Z$500,ROW(),MATCH(G$1,'Delivery Template'!$A$1:$Z$1,0))) | H44: =IF(INDEX('Delivery Template'!$A$1:$Z$500,ROW(),MATCH(H$1,'Delivery Template'!$A$1:$Z$1,0))="","",INDEX('Delivery Template'!$A$1:$Z$500,ROW(),MATCH(H$1,'Delivery Template'!$A$1:$Z$1,0))) | I44: =IF(INDEX('Delivery Template'!$A$1:$Z$500,ROW(),MATCH(I$1,'Delivery Template'!$A$1:$Z$1,0))="","",INDEX('Delivery Template'!$A$1:$Z$500,ROW(),MATCH(I$1,'Delivery Template'!$A$1:$Z$1,0))) | J44: =IF(INDEX('Delivery Template'!$A$1:$Z$500,ROW(),MATCH(J$1,'Delivery Template'!$A$1:$Z$1,0))="","",INDEX('Delivery Template'!$A$1:$Z$500,ROW(),MATCH(J$1,'Delivery Template'!$A$1:$Z$1,0))) | K44: =IF(INDEX('Delivery Template'!$A$1:$Z$500,ROW(),MATCH(K$1,'Delivery Template'!$A$1:$Z$1,0))="","",INDEX('Delivery Template'!$A$1:$Z$500,ROW(),MATCH(K$1,'Delivery Template'!$A$1:$Z$1,0))) | L44: =IF(INDEX('Delivery Template'!$A$1:$Z$500,ROW(),MATCH("Quantity",'Delivery Template'!$A$1:$Z$1,0))<2,"",INDEX('Delivery Template'!$A$1:$Z$500,ROW(),MATCH("Quantity",'Delivery Template'!$A$1:$Z$1,0))&" ")&IF(INDEX('Delivery Template'!$A$1:$Z$500,ROW(),MATCH("Gift Type (select from drop-down menu)",'Delivery Template'!$A$1:$Z$1,0))="","",VLOOKUP(INDEX('Delivery Template'!$A$1:$Z$500,ROW(),MATCH("Gift Type (select from drop-down menu)",'Delivery Template'!$A$1:$Z$1,0)),$A$22:$B$33,2,FALSE))&IF(INDEX('Delivery Template'!$A$1:$Z$500,ROW(),MATCH("Quantity",'Delivery Template'!$A$1:$Z$1,0))<2,"",VLOOKUP(INDEX('Delivery Template'!$A$1:$Z$500,ROW(),MATCH("Gift Type (select from drop-down menu)",'Delivery Template'!$A$1:$Z$1,0)),$A$22:$D$33,3,FALSE))
D45: =IF(INDEX('Delivery Template'!$A$1:$Z$500,ROW(),MATCH(D$1,'Delivery Template'!$A$1:$Z$1,0))="","",INDEX('Delivery Template'!$A$1:$Z$500,ROW(),MATCH(D$1,'Delivery Template'!$A$1:$Z$1,0))) | E45: =IF(INDEX('Delivery Template'!$A$1:$Z$500,ROW(),MATCH(E$1,'Delivery Template'!$A$1:$Z$1,0))="","",INDEX('Delivery Template'!$A$1:$Z$500,ROW(),MATCH(E$1,'Delivery Template'!$A$1:$Z$1,0))) | F45: =IF(INDEX('Delivery Template'!$A$1:$Z$500,ROW(),MATCH(F$1,'Delivery Template'!$A$1:$Z$1,0))="","",INDEX('Delivery Template'!$A$1:$Z$500,ROW(),MATCH(F$1,'Delivery Template'!$A$1:$Z$1,0))) | G45: =IF(INDEX('Delivery Template'!$A$1:$Z$500,ROW(),MATCH(G$1,'Delivery Template'!$A$1:$Z$1,0))="","",INDEX('Delivery Template'!$A$1:$Z$500,ROW(),MATCH(G$1,'Delivery Template'!$A$1:$Z$1,0))) | H45: =IF(INDEX('Delivery Template'!$A$1:$Z$500,ROW(),MATCH(H$1,'Delivery Template'!$A$1:$Z$1,0))="","",INDEX('Delivery Template'!$A$1:$Z$500,ROW(),MATCH(H$1,'Delivery Template'!$A$1:$Z$1,0))) | I45: =IF(INDEX('Delivery Template'!$A$1:$Z$500,ROW(),MATCH(I$1,'Delivery Template'!$A$1:$Z$1,0))="","",INDEX('Delivery Template'!$A$1:$Z$500,ROW(),MATCH(I$1,'Delivery Template'!$A$1:$Z$1,0))) | J45: =IF(INDEX('Delivery Template'!$A$1:$Z$500,ROW(),MATCH(J$1,'Delivery Template'!$A$1:$Z$1,0))="","",INDEX('Delivery Template'!$A$1:$Z$500,ROW(),MATCH(J$1,'Delivery Template'!$A$1:$Z$1,0))) | K45: =IF(INDEX('Delivery Template'!$A$1:$Z$500,ROW(),MATCH(K$1,'Delivery Template'!$A$1:$Z$1,0))="","",INDEX('Delivery Template'!$A$1:$Z$500,ROW(),MATCH(K$1,'Delivery Template'!$A$1:$Z$1,0))) | L45: =IF(INDEX('Delivery Template'!$A$1:$Z$500,ROW(),MATCH("Quantity",'Delivery Template'!$A$1:$Z$1,0))<2,"",INDEX('Delivery Template'!$A$1:$Z$500,ROW(),MATCH("Quantity",'Delivery Template'!$A$1:$Z$1,0))&" ")&IF(INDEX('Delivery Template'!$A$1:$Z$500,ROW(),MATCH("Gift Type (select from drop-down menu)",'Delivery Template'!$A$1:$Z$1,0))="","",VLOOKUP(INDEX('Delivery Template'!$A$1:$Z$500,ROW(),MATCH("Gift Type (select from drop-down menu)",'Delivery Template'!$A$1:$Z$1,0)),$A$22:$B$33,2,FALSE))&IF(INDEX('Delivery Template'!$A$1:$Z$500,ROW(),MATCH("Quantity",'Delivery Template'!$A$1:$Z$1,0))<2,"",VLOOKUP(INDEX('Delivery Template'!$A$1:$Z$500,ROW(),MATCH("Gift Type (select from drop-down menu)",'Delivery Template'!$A$1:$Z$1,0)),$A$22:$D$33,3,FALSE))
D46: =IF(INDEX('Delivery Template'!$A$1:$Z$500,ROW(),MATCH(D$1,'Delivery Template'!$A$1:$Z$1,0))="","",INDEX('Delivery Template'!$A$1:$Z$500,ROW(),MATCH(D$1,'Delivery Template'!$A$1:$Z$1,0))) | E46: =IF(INDEX('Delivery Template'!$A$1:$Z$500,ROW(),MATCH(E$1,'Delivery Template'!$A$1:$Z$1,0))="","",INDEX('Delivery Template'!$A$1:$Z$500,ROW(),MATCH(E$1,'Delivery Template'!$A$1:$Z$1,0))) | F46: =IF(INDEX('Delivery Template'!$A$1:$Z$500,ROW(),MATCH(F$1,'Delivery Template'!$A$1:$Z$1,0))="","",INDEX('Delivery Template'!$A$1:$Z$500,ROW(),MATCH(F$1,'Delivery Template'!$A$1:$Z$1,0))) | G46: =IF(INDEX('Delivery Template'!$A$1:$Z$500,ROW(),MATCH(G$1,'Delivery Template'!$A$1:$Z$1,0))="","",INDEX('Delivery Template'!$A$1:$Z$500,ROW(),MATCH(G$1,'Delivery Template'!$A$1:$Z$1,0))) | H46: =IF(INDEX('Delivery Template'!$A$1:$Z$500,ROW(),MATCH(H$1,'Delivery Template'!$A$1:$Z$1,0))="","",INDEX('Delivery Template'!$A$1:$Z$500,ROW(),MATCH(H$1,'Delivery Template'!$A$1:$Z$1,0))) | I46: =IF(INDEX('Delivery Template'!$A$1:$Z$500,ROW(),MATCH(I$1,'Delivery Template'!$A$1:$Z$1,0))="","",INDEX('Delivery Template'!$A$1:$Z$500,ROW(),MATCH(I$1,'Delivery Template'!$A$1:$Z$1,0))) | J46: =IF(INDEX('Delivery Template'!$A$1:$Z$500,ROW(),MATCH(J$1,'Delivery Template'!$A$1:$Z$1,0))="","",INDEX('Delivery Template'!$A$1:$Z$500,ROW(),MATCH(J$1,'Delivery Template'!$A$1:$Z$1,0))) | K46: =IF(INDEX('Delivery Template'!$A$1:$Z$500,ROW(),MATCH(K$1,'Delivery Template'!$A$1:$Z$1,0))="","",INDEX('Delivery Template'!$A$1:$Z$500,ROW(),MATCH(K$1,'Delivery Template'!$A$1:$Z$1,0))) | L46: =IF(INDEX('Delivery Template'!$A$1:$Z$500,ROW(),MATCH("Quantity",'Delivery Template'!$A$1:$Z$1,0))<2,"",INDEX('Delivery Template'!$A$1:$Z$500,ROW(),MATCH("Quantity",'Delivery Template'!$A$1:$Z$1,0))&" ")&IF(INDEX('Delivery Template'!$A$1:$Z$500,ROW(),MATCH("Gift Type (select from drop-down menu)",'Delivery Template'!$A$1:$Z$1,0))="","",VLOOKUP(INDEX('Delivery Template'!$A$1:$Z$500,ROW(),MATCH("Gift Type (select from drop-down menu)",'Delivery Template'!$A$1:$Z$1,0)),$A$22:$B$33,2,FALSE))&IF(INDEX('Delivery Template'!$A$1:$Z$500,ROW(),MATCH("Quantity",'Delivery Template'!$A$1:$Z$1,0))<2,"",VLOOKUP(INDEX('Delivery Template'!$A$1:$Z$500,ROW(),MATCH("Gift Type (select from drop-down menu)",'Delivery Template'!$A$1:$Z$1,0)),$A$22:$D$33,3,FALSE))
D47: =IF(INDEX('Delivery Template'!$A$1:$Z$500,ROW(),MATCH(D$1,'Delivery Template'!$A$1:$Z$1,0))="","",INDEX('Delivery Template'!$A$1:$Z$500,ROW(),MATCH(D$1,'Delivery Template'!$A$1:$Z$1,0))) | E47: =IF(INDEX('Delivery Template'!$A$1:$Z$500,ROW(),MATCH(E$1,'Delivery Template'!$A$1:$Z$1,0))="","",INDEX('Delivery Template'!$A$1:$Z$500,ROW(),MATCH(E$1,'Delivery Template'!$A$1:$Z$1,0))) | F47: =IF(INDEX('Delivery Template'!$A$1:$Z$500,ROW(),MATCH(F$1,'Delivery Template'!$A$1:$Z$1,0))="","",INDEX('Delivery Template'!$A$1:$Z$500,ROW(),MATCH(F$1,'Delivery Template'!$A$1:$Z$1,0))) | G47: =IF(INDEX('Delivery Template'!$A$1:$Z$500,ROW(),MATCH(G$1,'Delivery Template'!$A$1:$Z$1,0))="","",INDEX('Delivery Template'!$A$1:$Z$500,ROW(),MATCH(G$1,'Delivery Template'!$A$1:$Z$1,0))) | H47: =IF(INDEX('Delivery Template'!$A$1:$Z$500,ROW(),MATCH(H$1,'Delivery Template'!$A$1:$Z$1,0))="","",INDEX('Delivery Template'!$A$1:$Z$500,ROW(),MATCH(H$1,'Delivery Template'!$A$1:$Z$1,0))) | I47: =IF(INDEX('Delivery Template'!$A$1:$Z$500,ROW(),MATCH(I$1,'Delivery Template'!$A$1:$Z$1,0))="","",INDEX('Delivery Template'!$A$1:$Z$500,ROW(),MATCH(I$1,'Delivery Template'!$A$1:$Z$1,0))) | J47: =IF(INDEX('Delivery Template'!$A$1:$Z$500,ROW(),MATCH(J$1,'Delivery Template'!$A$1:$Z$1,0))="","",INDEX('Delivery Template'!$A$1:$Z$500,ROW(),MATCH(J$1,'Delivery Template'!$A$1:$Z$1,0))) | K47: =IF(INDEX('Delivery Template'!$A$1:$Z$500,ROW(),MATCH(K$1,'Delivery Template'!$A$1:$Z$1,0))="","",INDEX('Delivery Template'!$A$1:$Z$500,ROW(),MATCH(K$1,'Delivery Template'!$A$1:$Z$1,0))) | L47: =IF(INDEX('Delivery Template'!$A$1:$Z$500,ROW(),MATCH("Quantity",'Delivery Template'!$A$1:$Z$1,0))<2,"",INDEX('Delivery Template'!$A$1:$Z$500,ROW(),MATCH("Quantity",'Delivery Template'!$A$1:$Z$1,0))&" ")&IF(INDEX('Delivery Template'!$A$1:$Z$500,ROW(),MATCH("Gift Type (select from drop-down menu)",'Delivery Template'!$A$1:$Z$1,0))="","",VLOOKUP(INDEX('Delivery Template'!$A$1:$Z$500,ROW(),MATCH("Gift Type (select from drop-down menu)",'Delivery Template'!$A$1:$Z$1,0)),$A$22:$B$33,2,FALSE))&IF(INDEX('Delivery Template'!$A$1:$Z$500,ROW(),MATCH("Quantity",'Delivery Template'!$A$1:$Z$1,0))<2,"",VLOOKUP(INDEX('Delivery Template'!$A$1:$Z$500,ROW(),MATCH("Gift Type (select from drop-down menu)",'Delivery Template'!$A$1:$Z$1,0)),$A$22:$D$33,3,FALSE))
D48: =IF(INDEX('Delivery Template'!$A$1:$Z$500,ROW(),MATCH(D$1,'Delivery Template'!$A$1:$Z$1,0))="","",INDEX('Delivery Template'!$A$1:$Z$500,ROW(),MATCH(D$1,'Delivery Template'!$A$1:$Z$1,0))) | E48: =IF(INDEX('Delivery Template'!$A$1:$Z$500,ROW(),MATCH(E$1,'Delivery Template'!$A$1:$Z$1,0))="","",INDEX('Delivery Template'!$A$1:$Z$500,ROW(),MATCH(E$1,'Delivery Template'!$A$1:$Z$1,0))) | F48: =IF(INDEX('Delivery Template'!$A$1:$Z$500,ROW(),MATCH(F$1,'Delivery Template'!$A$1:$Z$1,0))="","",INDEX('Delivery Template'!$A$1:$Z$500,ROW(),MATCH(F$1,'Delivery Template'!$A$1:$Z$1,0))) | G48: =IF(INDEX('Delivery Template'!$A$1:$Z$500,ROW(),MATCH(G$1,'Delivery Template'!$A$1:$Z$1,0))="","",INDEX('Delivery Template'!$A$1:$Z$500,ROW(),MATCH(G$1,'Delivery Template'!$A$1:$Z$1,0))) | H48: =IF(INDEX('Delivery Template'!$A$1:$Z$500,ROW(),MATCH(H$1,'Delivery Template'!$A$1:$Z$1,0))="","",INDEX('Delivery Template'!$A$1:$Z$500,ROW(),MATCH(H$1,'Delivery Template'!$A$1:$Z$1,0))) | I48: =IF(INDEX('Delivery Template'!$A$1:$Z$500,ROW(),MATCH(I$1,'Delivery Template'!$A$1:$Z$1,0))="","",INDEX('Delivery Template'!$A$1:$Z$500,ROW(),MATCH(I$1,'Delivery Template'!$A$1:$Z$1,0))) | J48: =IF(INDEX('Delivery Template'!$A$1:$Z$500,ROW(),MATCH(J$1,'Delivery Template'!$A$1:$Z$1,0))="","",INDEX('Delivery Template'!$A$1:$Z$500,ROW(),MATCH(J$1,'Delivery Template'!$A$1:$Z$1,0))) | K48: =IF(INDEX('Delivery Template'!$A$1:$Z$500,ROW(),MATCH(K$1,'Delivery Template'!$A$1:$Z$1,0))="","",INDEX('Delivery Template'!$A$1:$Z$500,ROW(),MATCH(K$1,'Delivery Template'!$A$1:$Z$1,0))) | L48: =IF(INDEX('Delivery Template'!$A$1:$Z$500,ROW(),MATCH("Quantity",'Delivery Template'!$A$1:$Z$1,0))<2,"",INDEX('Delivery Template'!$A$1:$Z$500,ROW(),MATCH("Quantity",'Delivery Template'!$A$1:$Z$1,0))&" ")&IF(INDEX('Delivery Template'!$A$1:$Z$500,ROW(),MATCH("Gift Type (select from drop-down menu)",'Delivery Template'!$A$1:$Z$1,0))="","",VLOOKUP(INDEX('Delivery Template'!$A$1:$Z$500,ROW(),MATCH("Gift Type (select from drop-down menu)",'Delivery Template'!$A$1:$Z$1,0)),$A$22:$B$33,2,FALSE))&IF(INDEX('Delivery Template'!$A$1:$Z$500,ROW(),MATCH("Quantity",'Delivery Template'!$A$1:$Z$1,0))<2,"",VLOOKUP(INDEX('Delivery Template'!$A$1:$Z$500,ROW(),MATCH("Gift Type (select from drop-down menu)",'Delivery Template'!$A$1:$Z$1,0)),$A$22:$D$33,3,FALSE))
D49: =IF(INDEX('Delivery Template'!$A$1:$Z$500,ROW(),MATCH(D$1,'Delivery Template'!$A$1:$Z$1,0))="","",INDEX('Delivery Template'!$A$1:$Z$500,ROW(),MATCH(D$1,'Delivery Template'!$A$1:$Z$1,0))) | E49: =IF(INDEX('Delivery Template'!$A$1:$Z$500,ROW(),MATCH(E$1,'Delivery Template'!$A$1:$Z$1,0))="","",INDEX('Delivery Template'!$A$1:$Z$500,ROW(),MATCH(E$1,'Delivery Template'!$A$1:$Z$1,0))) | F49: =IF(INDEX('Delivery Template'!$A$1:$Z$500,ROW(),MATCH(F$1,'Delivery Template'!$A$1:$Z$1,0))="","",INDEX('Delivery Template'!$A$1:$Z$500,ROW(),MATCH(F$1,'Delivery Template'!$A$1:$Z$1,0))) | G49: =IF(INDEX('Delivery Template'!$A$1:$Z$500,ROW(),MATCH(G$1,'Delivery Template'!$A$1:$Z$1,0))="","",INDEX('Delivery Template'!$A$1:$Z$500,ROW(),MATCH(G$1,'Delivery Template'!$A$1:$Z$1,0))) | H49: =IF(INDEX('Delivery Template'!$A$1:$Z$500,ROW(),MATCH(H$1,'Delivery Template'!$A$1:$Z$1,0))="","",INDEX('Delivery Template'!$A$1:$Z$500,ROW(),MATCH(H$1,'Delivery Template'!$A$1:$Z$1,0))) | I49: =IF(INDEX('Delivery Template'!$A$1:$Z$500,ROW(),MATCH(I$1,'Delivery Template'!$A$1:$Z$1,0))="","",INDEX('Delivery Template'!$A$1:$Z$500,ROW(),MATCH(I$1,'Delivery Template'!$A$1:$Z$1,0))) | J49: =IF(INDEX('Delivery Template'!$A$1:$Z$500,ROW(),MATCH(J$1,'Delivery Template'!$A$1:$Z$1,0))="","",INDEX('Delivery Template'!$A$1:$Z$500,ROW(),MATCH(J$1,'Delivery Template'!$A$1:$Z$1,0))) | K49: =IF(INDEX('Delivery Template'!$A$1:$Z$500,ROW(),MATCH(K$1,'Delivery Template'!$A$1:$Z$1,0))="","",INDEX('Delivery Template'!$A$1:$Z$500,ROW(),MATCH(K$1,'Delivery Template'!$A$1:$Z$1,0))) | L49: =IF(INDEX('Delivery Template'!$A$1:$Z$500,ROW(),MATCH("Quantity",'Delivery Template'!$A$1:$Z$1,0))<2,"",INDEX('Delivery Template'!$A$1:$Z$500,ROW(),MATCH("Quantity",'Delivery Template'!$A$1:$Z$1,0))&" ")&IF(INDEX('Delivery Template'!$A$1:$Z$500,ROW(),MATCH("Gift Type (select from drop-down menu)",'Delivery Template'!$A$1:$Z$1,0))="","",VLOOKUP(INDEX('Delivery Template'!$A$1:$Z$500,ROW(),MATCH("Gift Type (select from drop-down menu)",'Delivery Template'!$A$1:$Z$1,0)),$A$22:$B$33,2,FALSE))&IF(INDEX('Delivery Template'!$A$1:$Z$500,ROW(),MATCH("Quantity",'Delivery Template'!$A$1:$Z$1,0))<2,"",VLOOKUP(INDEX('Delivery Template'!$A$1:$Z$500,ROW(),MATCH("Gift Type (select from drop-down menu)",'Delivery Template'!$A$1:$Z$1,0)),$A$22:$D$33,3,FALSE))
D50: =IF(INDEX('Delivery Template'!$A$1:$Z$500,ROW(),MATCH(D$1,'Delivery Template'!$A$1:$Z$1,0))="","",INDEX('Delivery Template'!$A$1:$Z$500,ROW(),MATCH(D$1,'Delivery Template'!$A$1:$Z$1,0))) | E50: =IF(INDEX('Delivery Template'!$A$1:$Z$500,ROW(),MATCH(E$1,'Delivery Template'!$A$1:$Z$1,0))="","",INDEX('Delivery Template'!$A$1:$Z$500,ROW(),MATCH(E$1,'Delivery Template'!$A$1:$Z$1,0))) | F50: =IF(INDEX('Delivery Template'!$A$1:$Z$500,ROW(),MATCH(F$1,'Delivery Template'!$A$1:$Z$1,0))="","",INDEX('Delivery Template'!$A$1:$Z$500,ROW(),MATCH(F$1,'Delivery Template'!$A$1:$Z$1,0))) | G50: =IF(INDEX('Delivery Template'!$A$1:$Z$500,ROW(),MATCH(G$1,'Delivery Template'!$A$1:$Z$1,0))="","",INDEX('Delivery Template'!$A$1:$Z$500,ROW(),MATCH(G$1,'Delivery Template'!$A$1:$Z$1,0))) | H50: =IF(INDEX('Delivery Template'!$A$1:$Z$500,ROW(),MATCH(H$1,'Delivery Template'!$A$1:$Z$1,0))="","",INDEX('Delivery Template'!$A$1:$Z$500,ROW(),MATCH(H$1,'Delivery Template'!$A$1:$Z$1,0))) | I50: =IF(INDEX('Delivery Template'!$A$1:$Z$500,ROW(),MATCH(I$1,'Delivery Template'!$A$1:$Z$1,0))="","",INDEX('Delivery Template'!$A$1:$Z$500,ROW(),MATCH(I$1,'Delivery Template'!$A$1:$Z$1,0))) | J50: =IF(INDEX('Delivery Template'!$A$1:$Z$500,ROW(),MATCH(J$1,'Delivery Template'!$A$1:$Z$1,0))="","",INDEX('Delivery Template'!$A$1:$Z$500,ROW(),MATCH(J$1,'Delivery Template'!$A$1:$Z$1,0))) | K50: =IF(INDEX('Delivery Template'!$A$1:$Z$500,ROW(),MATCH(K$1,'Delivery Template'!$A$1:$Z$1,0))="","",INDEX('Delivery Template'!$A$1:$Z$500,ROW(),MATCH(K$1,'Delivery Template'!$A$1:$Z$1,0))) | L50: =IF(INDEX('Delivery Template'!$A$1:$Z$500,ROW(),MATCH("Quantity",'Delivery Template'!$A$1:$Z$1,0))<2,"",INDEX('Delivery Template'!$A$1:$Z$500,ROW(),MATCH("Quantity",'Delivery Template'!$A$1:$Z$1,0))&" ")&IF(INDEX('Delivery Template'!$A$1:$Z$500,ROW(),MATCH("Gift Type (select from drop-down menu)",'Delivery Template'!$A$1:$Z$1,0))="","",VLOOKUP(INDEX('Delivery Template'!$A$1:$Z$500,ROW(),MATCH("Gift Type (select from drop-down menu)",'Delivery Template'!$A$1:$Z$1,0)),$A$22:$B$33,2,FALSE))&IF(INDEX('Delivery Template'!$A$1:$Z$500,ROW(),MATCH("Quantity",'Delivery Template'!$A$1:$Z$1,0))<2,"",VLOOKUP(INDEX('Delivery Template'!$A$1:$Z$500,ROW(),MATCH("Gift Type (select from drop-down menu)",'Delivery Template'!$A$1:$Z$1,0)),$A$22:$D$33,3,FALSE))
D51: =IF(INDEX('Delivery Template'!$A$1:$Z$500,ROW(),MATCH(D$1,'Delivery Template'!$A$1:$Z$1,0))="","",INDEX('Delivery Template'!$A$1:$Z$500,ROW(),MATCH(D$1,'Delivery Template'!$A$1:$Z$1,0))) | E51: =IF(INDEX('Delivery Template'!$A$1:$Z$500,ROW(),MATCH(E$1,'Delivery Template'!$A$1:$Z$1,0))="","",INDEX('Delivery Template'!$A$1:$Z$500,ROW(),MATCH(E$1,'Delivery Template'!$A$1:$Z$1,0))) | F51: =IF(INDEX('Delivery Template'!$A$1:$Z$500,ROW(),MATCH(F$1,'Delivery Template'!$A$1:$Z$1,0))="","",INDEX('Delivery Template'!$A$1:$Z$500,ROW(),MATCH(F$1,'Delivery Template'!$A$1:$Z$1,0))) | G51: =IF(INDEX('Delivery Template'!$A$1:$Z$500,ROW(),MATCH(G$1,'Delivery Template'!$A$1:$Z$1,0))="","",INDEX('Delivery Template'!$A$1:$Z$500,ROW(),MATCH(G$1,'Delivery Template'!$A$1:$Z$1,0))) | H51: =IF(INDEX('Delivery Template'!$A$1:$Z$500,ROW(),MATCH(H$1,'Delivery Template'!$A$1:$Z$1,0))="","",INDEX('Delivery Template'!$A$1:$Z$500,ROW(),MATCH(H$1,'Delivery Template'!$A$1:$Z$1,0))) | I51: =IF(INDEX('Delivery Template'!$A$1:$Z$500,ROW(),MATCH(I$1,'Delivery Template'!$A$1:$Z$1,0))="","",INDEX('Delivery Template'!$A$1:$Z$500,ROW(),MATCH(I$1,'Delivery Template'!$A$1:$Z$1,0))) | J51: =IF(INDEX('Delivery Template'!$A$1:$Z$500,ROW(),MATCH(J$1,'Delivery Template'!$A$1:$Z$1,0))="","",INDEX('Delivery Template'!$A$1:$Z$500,ROW(),MATCH(J$1,'Delivery Template'!$A$1:$Z$1,0))) | K51: =IF(INDEX('Delivery Template'!$A$1:$Z$500,ROW(),MATCH(K$1,'Delivery Template'!$A$1:$Z$1,0))="","",INDEX('Delivery Template'!$A$1:$Z$500,ROW(),MATCH(K$1,'Delivery Template'!$A$1:$Z$1,0))) | L51: =IF(INDEX('Delivery Template'!$A$1:$Z$500,ROW(),MATCH("Quantity",'Delivery Template'!$A$1:$Z$1,0))<2,"",INDEX('Delivery Template'!$A$1:$Z$500,ROW(),MATCH("Quantity",'Delivery Template'!$A$1:$Z$1,0))&" ")&IF(INDEX('Delivery Template'!$A$1:$Z$500,ROW(),MATCH("Gift Type (select from drop-down menu)",'Delivery Template'!$A$1:$Z$1,0))="","",VLOOKUP(INDEX('Delivery Template'!$A$1:$Z$500,ROW(),MATCH("Gift Type (select from drop-down menu)",'Delivery Template'!$A$1:$Z$1,0)),$A$22:$B$33,2,FALSE))&IF(INDEX('Delivery Template'!$A$1:$Z$500,ROW(),MATCH("Quantity",'Delivery Template'!$A$1:$Z$1,0))<2,"",VLOOKUP(INDEX('Delivery Template'!$A$1:$Z$500,ROW(),MATCH("Gift Type (select from drop-down menu)",'Delivery Template'!$A$1:$Z$1,0)),$A$22:$D$33,3,FALSE))
D52: =IF(INDEX('Delivery Template'!$A$1:$Z$500,ROW(),MATCH(D$1,'Delivery Template'!$A$1:$Z$1,0))="","",INDEX('Delivery Template'!$A$1:$Z$500,ROW(),MATCH(D$1,'Delivery Template'!$A$1:$Z$1,0))) | E52: =IF(INDEX('Delivery Template'!$A$1:$Z$500,ROW(),MATCH(E$1,'Delivery Template'!$A$1:$Z$1,0))="","",INDEX('Delivery Template'!$A$1:$Z$500,ROW(),MATCH(E$1,'Delivery Template'!$A$1:$Z$1,0))) | F52: =IF(INDEX('Delivery Template'!$A$1:$Z$500,ROW(),MATCH(F$1,'Delivery Template'!$A$1:$Z$1,0))="","",INDEX('Delivery Template'!$A$1:$Z$500,ROW(),MATCH(F$1,'Delivery Template'!$A$1:$Z$1,0))) | G52: =IF(INDEX('Delivery Template'!$A$1:$Z$500,ROW(),MATCH(G$1,'Delivery Template'!$A$1:$Z$1,0))="","",INDEX('Delivery Template'!$A$1:$Z$500,ROW(),MATCH(G$1,'Delivery Template'!$A$1:$Z$1,0))) | H52: =IF(INDEX('Delivery Template'!$A$1:$Z$500,ROW(),MATCH(H$1,'Delivery Template'!$A$1:$Z$1,0))="","",INDEX('Delivery Template'!$A$1:$Z$500,ROW(),MATCH(H$1,'Delivery Template'!$A$1:$Z$1,0))) | I52: =IF(INDEX('Delivery Template'!$A$1:$Z$500,ROW(),MATCH(I$1,'Delivery Template'!$A$1:$Z$1,0))="","",INDEX('Delivery Template'!$A$1:$Z$500,ROW(),MATCH(I$1,'Delivery Template'!$A$1:$Z$1,0))) | J52: =IF(INDEX('Delivery Template'!$A$1:$Z$500,ROW(),MATCH(J$1,'Delivery Template'!$A$1:$Z$1,0))="","",INDEX('Delivery Template'!$A$1:$Z$500,ROW(),MATCH(J$1,'Delivery Template'!$A$1:$Z$1,0))) | K52: =IF(INDEX('Delivery Template'!$A$1:$Z$500,ROW(),MATCH(K$1,'Delivery Template'!$A$1:$Z$1,0))="","",INDEX('Delivery Template'!$A$1:$Z$500,ROW(),MATCH(K$1,'Delivery Template'!$A$1:$Z$1,0))) | L52: =IF(INDEX('Delivery Template'!$A$1:$Z$500,ROW(),MATCH("Quantity",'Delivery Template'!$A$1:$Z$1,0))<2,"",INDEX('Delivery Template'!$A$1:$Z$500,ROW(),MATCH("Quantity",'Delivery Template'!$A$1:$Z$1,0))&" ")&IF(INDEX('Delivery Template'!$A$1:$Z$500,ROW(),MATCH("Gift Type (select from drop-down menu)",'Delivery Template'!$A$1:$Z$1,0))="","",VLOOKUP(INDEX('Delivery Template'!$A$1:$Z$500,ROW(),MATCH("Gift Type (select from drop-down menu)",'Delivery Template'!$A$1:$Z$1,0)),$A$22:$B$33,2,FALSE))&IF(INDEX('Delivery Template'!$A$1:$Z$500,ROW(),MATCH("Quantity",'Delivery Template'!$A$1:$Z$1,0))<2,"",VLOOKUP(INDEX('Delivery Template'!$A$1:$Z$500,ROW(),MATCH("Gift Type (select from drop-down menu)",'Delivery Template'!$A$1:$Z$1,0)),$A$22:$D$33,3,FALSE))
... D301: =IF(INDEX('Delivery Template'!$A$1:$Z$500,ROW(),MATCH(D$1,'Delivery Template'!$A$1:$Z$1,0))="","",INDEX('Delivery Template'!$A$1:$Z$500,ROW(),MATCH(D$1,'Delivery Template'!$A$1:$Z$1,0))) | E301: =IF(INDEX('Delivery Template'!$A$1:$Z$500,ROW(),MATCH(E$1,'Delivery Template'!$A$1:$Z$1,0))="","",INDEX('Delivery Template'!$A$1:$Z$500,ROW(),MATCH(E$1,'Delivery Template'!$A$1:$Z$1,0))) | F301: =IF(INDEX('Delivery Template'!$A$1:$Z$500,ROW(),MATCH(F$1,'Delivery Template'!$A$1:$Z$1,0))="","",INDEX('Delivery Template'!$A$1:$Z$500,ROW(),MATCH(F$1,'Delivery Template'!$A$1:$Z$1,0))) | G301: =IF(INDEX('Delivery Template'!$A$1:$Z$500,ROW(),MATCH(G$1,'Delivery Template'!$A$1:$Z$1,0))="","",INDEX('Delivery Template'!$A$1:$Z$500,ROW(),MATCH(G$1,'Delivery Template'!$A$1:$Z$1,0))) | H301: =IF(INDEX('Delivery Template'!$A$1:$Z$500,ROW(),MATCH(H$1,'Delivery Template'!$A$1:$Z$1,0))="","",INDEX('Delivery Template'!$A$1:$Z$500,ROW(),MATCH(H$1,'Delivery Template'!$A$1:$Z$1,0))) | I301: =IF(INDEX('Delivery Template'!$A$1:$Z$500,ROW(),MATCH(I$1,'Delivery Template'!$A$1:$Z$1,0))="","",INDEX('Delivery Template'!$A$1:$Z$500,ROW(),MATCH(I$1,'Delivery Template'!$A$1:$Z$1,0))) | J301: =IF(INDEX('Delivery Template'!$A$1:$Z$500,ROW(),MATCH(J$1,'Delivery Template'!$A$1:$Z$1,0))="","",INDEX('Delivery Template'!$A$1:$Z$500,ROW(),MATCH(J$1,'Delivery Template'!$A$1:$Z$1,0))) | K301: =IF(INDEX('Delivery Template'!$A$1:$Z$500,ROW(),MATCH(K$1,'Delivery Template'!$A$1:$Z$1,0))="","",INDEX('Delivery Template'!$A$1:$Z$500,ROW(),MATCH(K$1,'Delivery Template'!$A$1:$Z$1,0))) | L301: =IF(INDEX('Delivery Template'!$A$1:$Z$500,ROW(),MATCH("Quantity",'Delivery Template'!$A$1:$Z$1,0))<2,"",INDEX('Delivery Template'!$A$1:$Z$500,ROW(),MATCH("Quantity",'Delivery Template'!$A$1:$Z$1,0))&" ")&IF(INDEX('Delivery Template'!$A$1:$Z$500,ROW(),MATCH("Gift Type (select from drop-down menu)",'Delivery Template'!$A$1:$Z$1,0))="","",VLOOKUP(INDEX('Delivery Template'!$A$1:$Z$500,ROW(),MATCH("Gift Type (select from drop-down menu)",'Delivery Template'!$A$1:$Z$1,0)),$A$22:$B$33,2,FALSE))&IF(INDEX('Delivery Template'!$A$1:$Z$500,ROW(),MATCH("Quantity",'Delivery Template'!$A$1:$Z$1,0))<2,"",VLOOKUP(INDEX('Delivery Template'!$A$1:$Z$500,ROW(),MATCH("Gift Type (select from drop-down menu)",'Delivery Template'!$A$1:$Z$1,0)),$A$22:$D$33,3,FALSE))

Sheet Delivery Template
A1: Company Name | B1: Attn: | C1: Address | D1: City | E1: Prov | F1: Postal | G1: Phone # | H1: Country | I1: Quantity | J1: Gift Type (select from drop-down menu)

Sheet Pickup Template
A1: Pickup Date | B1: Pickup City | C1: Quantity of George Juniors $22.95 6 cookies | D1: Quantity of Wrapped George Juniors $24.45 6 Ind. Wr. cookies | E1: Quantity of Small George Boxes $44.95 13 cookies | F1: Quantity of Wrapped Small George Boxes $48.20 13 Ind. Wr. cookies | G1: Quantity of Flower Boxes $59.95 18 cookies | H1: Quantity of Wrapped Flower Boxes $64.45 18 Ind. Wr. cookies | I1: Quantity of Medium George Boxes $75.95 24 cookies | J1: Quantity of Wrapped Medium George Boxes $81.95 24 Ind. Wr. cookies | K1: Quantity of Large George Boxes $99.95 36 cookies | L1: Quantity of Wrapped Large George Boxes $108.95 36 Ind. Wr. cookies | M1: Quantity of Office Tins $169.95 55 cookies | N1: Quantity of Wrapped Office Tins $183.70 55 Ind. Wr. cookies | O1: Approx Time | P1: Contact Name | Q1: Contact Ph # | R1: Additional Pickup Info

Sheet Dropdown Menu Options
A1: George Junior | 6 Cookies | $22.95
A2: Wrapped George Junior | 6 Individually Wrapped Cookies | $24.45
A3: Small George Box | 13 Cookies | $44.95
A4: Wrapped Small George Box | 13 Individually Wrapped Cookies | $48.20
A5: Flower Box | 18 Cookies | $59.95
A6: Wrapped Flower Box | 18 Individually Wrapped Cookies | $64.45
A7: Medium George Box | 24 Cookies | $75.95
A8: Wrapped Medium George Box | 24 Individually Wrapped Cookies | $81.95
A9: Large George Box | 36 Cookies | $99.95
A10: Wrapped Large George Box | 36 Individually Wrapped Cookies | $108.95
A11: Office Tin | 55 Cookies | $169.95
A12: Wrapped Office Tin | 55 Individually Wrapped Cookies | $183.70
